{"text_format":"1","workbook":"xlsx","n_sheets":29,"sheets":["Hilfe","PSE","Start","Rundstahl","Rundstahl (-)","Kegelstumpf","Kegelstumpf (-)","Vierkant","Vierkant (-)","Sechskant","Sechskant (-)","Vielkant","Vielkant (-)","Kugel","Kugel (-)","Rohr","Rohr (-)","Kugelabschnitt +","Kugelabschnitt -","Pyramidenstumpf(+)","Pyramidenstumpf(-)","Kugelsektor(+) ","Kugelsektor(-)","Zylinderabschnitt(+)","Zylinderabschnitt(-)","Prisma(+)","Prisma(-)","Dichten","Rechner"],"not_rendered":{"charts":0,"images":35,"macros":1,"external_links":0,"defined_names":4,"comments":9,"pivot_tables":0},"unopened":[],"bounds":{"document_bytes":16777216,"sheet_cells":100000,"rows_first":2000,"rows_last":500,"rows_between":2000,"halvings":0,"cell_chars":16384,"cell_head_chars":4096},"cells_cut":0,"cells_raw":0,"read":"whole","date_system":"1900"}

{"sheet":"Hilfe","index":0,"n_rows":38,"n_cols":3,"rows_kept":38,"cut":false,"hidden":false,"merged":[[5,1,5,2],[3,1,3,2],[4,1,4,2]]}
[]
[null,"Hinweise und Hilfe zur Masseberechnung"]
[]
[null,"1. Eigenschaften der Excel-Vorlage"]
[null,"2. Symbole und Grafiken als Link"]
[null,"3. Autor"]
[]
[null,"1. Eigenschaften"]
[null,null,"Von der Starttabelle aus, können alle weiteren Tabellen in der Arbeitsmappe mit einen Klick auf ein Link oder eine Grafik direkt  angesteuert werden."]
[null,null,"Die Eingabe einer ausgewählten  Dichte in das dafür vorgesehene Feld, wird auf alle anderen Masseberechnungstabellen automatisch übernommen und zur Berechnung verwendet."]
[null,null,"Einige Materialdichten sind in der linken Hälfte der Tabelle aufgelistet und werden beim anklicken automatisch übernommen. Weitere Materialdichten sind über den Link „weitere Dichten“ oder über den Grafiklink „Periodensystem der Elemente“ auszuwählen."]
[null,null,"Alle weißen Felder sind Eingabefelder. Alle restlichen Felder sind gesperrt!"]
[null,null,"Die Ergebnisse der einzelnen Masseberechnungsblätter werden automatisch auf dem Startblatt im Feld \"Gesamtmasse des Teiles in kg\" addiert."]
[null,null,"Mit dem RESET-Link auf dem Startblatt, werden alle Eingaben in der Arbeitsmappe auf Null gesetzt."]
[null,null,"Die RESET-Links auf den einzelnen Arbeitsblättern setzen nur die Eingaben des jeweiligen Arbeitsblattes auf Null."]
[]
[null,"2. Symbole und Grafiken als Link"]
[]
[]
[]
[]
[]
[]
[]
[]
[]
[]
[]
[]
[]
[null,"3. Autor"]
[null,null,"Masseberechnung wurde erstellt von:"]
[null,null,"Ulrich Daßler"]
[]
[null,null,"Vielen Dank, für Ihr Interesse an dieser Excel-Vorlage, die Weiterentwicklung lebt von Ihren Ideen, daher bin ich für Anregungen und Fragen immer offen:"]
[null,null,"am besten per E-Mail:"]
[]
[null,null,"info@dasslers.de"]

{"sheet":"PSE","index":1,"n_rows":2982,"n_cols":20,"rows_kept":2982,"cut":false,"hidden":false,"merged":[[55,4,55,6],[55,7,55,9],[55,10,55,12],[53,1,53,3],[52,4,53,6],[52,7,53,12],[52,1,52,3],[54,1,54,3],[54,4,54,6],[54,7,54,9],[54,10,54,12],[51,1,51,3],[51,7,51,9],[50,4,51,6],[50,10,51,12],[50,1,50,3],[50,7,50,9],[40,10,40,12],[41,1,41,3],[41,4,41,6],[41,7,41,9],[41,10,41,12],[65,1,65,3],[65,4,65,6],[65,7,65,9],[65,10,65,12],[49,1,49,3],[49,7,49,9],[48,4,49,6],[48,10,49,12],[48,1,48,3],[48,7,48,9],[46,1,46,3],[46,4,46,6],[46,7,46,9],[46,10,46,12],[47,1,47,3],[47,4,47,6],[47,7,47,9],[47,10,47,12],[44,1,44,3],[44,4,44,6],[44,7,44,9],[44,10,44,12],[45,1,45,3],[45,4,45,6],[45,7,45,9],[45,10,45,12],[55,1,55,3],[0,1,0,18],[39,1,39,3],[39,4,39,6],[39,7,39,9],[39,10,39,12],[40,1,40,3],[67,1,67,3],[67,4,67,6],[67,7,67,9],[67,10,67,12],[66,1,66,3],[66,4,66,6],[66,7,66,9],[66,10,66,12],[69,1,69,3],[69,4,69,6],[69,7,69,9],[69,10,69,12],[68,1,68,3],[68,4,68,6],[68,7,68,9],[68,10,68,12],[42,1,42,3],[42,4,42,6],[42,7,42,9],[42,10,42,12],[43,1,43,3],[43,4,43,6],[43,7,43,9],[43,10,43,12],[40,4,40,6],[40,7,40,9],[71,1,71,3],[71,4,71,6],[71,7,71,9],[71,10,71,12],[70,1,70,3],[70,4,70,6],[70,7,70,9],[70,10,70,12],[73,1,73,3],[73,4,73,6],[73,7,73,9],[73,10,73,12],[72,1,72,3],[72,4,72,6],[72,7,72,9],[72,10,72,12],[74,1,74,3],[74,4,75,6],[74,7,74,9],[74,10,75,12],[75,1,75,3],[75,7,75,9],[78,1,78,3],[78,4,79,6],[78,7,79,12],[79,1,79,3],[76,1,76,3],[76,4,77,6],[76,7,76,9],[76,10,77,12],[77,1,77,3],[77,7,77,9],[91,1,91,3],[91,4,91,6],[91,7,91,9],[91,10,91,12],[80,1,80,3],[80,4,80,6],[80,7,80,9],[80,10,80,12],[93,1,93,3],[93,4,93,6],[93,7,93,9],[93,10,93,12],[92,1,92,3],[92,4,92,6],[92,7,92,9],[92,10,92,12],[95,1,95,3],[95,4,95,6],[95,7,95,9],[95,10,95,12],[94,1,94,3],[94,4,94,6],[94,7,94,9],[94,10,94,12],[97,1,97,3],[97,4,97,6],[97,7,97,9],[97,10,97,12],[96,1,96,3],[96,4,96,6],[96,7,96,9],[96,10,96,12],[99,1,99,3],[99,4,99,6],[99,7,99,9],[99,10,99,12],[98,1,98,3],[98,4,98,6],[98,7,98,9],[98,10,98,12],[100,1,100,3],[100,4,101,6],[100,7,100,9],[100,10,101,12],[101,1,101,3],[101,7,101,9],[104,1,104,3],[104,4,105,6],[104,7,105,12],[105,1,105,3],[102,1,102,3],[102,4,103,6],[102,7,102,9],[102,10,103,12],[103,1,103,3],[103,7,103,9],[117,1,117,3],[117,4,117,6],[117,7,117,9],[117,10,117,12],[106,1,106,3],[106,4,106,6],[106,7,106,9],[106,10,106,12],[119,1,119,3],[119,4,119,6],[119,7,119,9],[119,10,119,12],[118,1,118,3],[118,4,118,6],[118,7,118,9],[118,10,118,12],[121,1,121,3],[121,4,121,6],[121,7,121,9],[121,10,121,12],[120,1,120,3],[120,4,120,6],[120,7,120,9],[120,10,120,12],[123,1,123,3],[123,4,123,6],[123,7,123,9],[123,10,123,12],[122,1,122,3],[122,4,122,6],[122,7,122,9],[122,10,122,12],[125,1,125,3],[125,4,125,6],[125,7,125,9],[125,10,125,12],[124,1,124,3],[124,4,124,6],[124,7,124,9],[124,10,124,12],[126,1,126,3],[126,4,127,6],[126,7,126,9],[126,10,127,12],[127,1,127,3],[127,7,127,9],[130,1,130,3],[130,4,131,6],[130,7,131,12],[131,1,131,3],[128,1,128,3],[128,4,129,6],[128,7,128,9],[128,10,129,12],[129,1,129,3],[129,7,129,9],[143,1,143,3],[143,4,143,6],[143,7,143,9],[143,10,143,12],[132,1,132,3],[132,4,132,6],[132,7,132,9],[132,10,132,12],[145,1,145,3],[145,4,145,6],[145,7,145,9],[145,10,145,12],[144,1,144,3],[144,4,144,6],[144,7,144,9],[144,10,144,12],[147,1,147,3],[147,4,147,6],[147,7,147,9],[147,10,147,12],[146,1,146,3],[146,4,146,6],[146,7,146,9],[146,10,146,12],[149,1,149,3],[149,4,149,6],[149,7,149,9],[149,10,149,12],[148,1,148,3],[148,4,148,6],[148,7,148,9],[148,10,148,12],[151,1,151,3],[151,4,151,6],[151,7,151,9],[151,10,151,12],[150,1,150,3],[150,4,150,6],[150,7,150,9],[150,10,150,12],[152,1,152,3],[152,4,153,6],[152,7,152,9],[152,10,153,12],[153,1,153,3],[153,7,153,9],[156,1,156,3],[156,4,157,6],[156,7,157,12],[157,1,157,3],[154,1,154,3],[154,4,155,6],[154,7,154,9],[154,10,155,12],[155,1,155,3],[155,7,155,9],[169,1,169,3],[169,4,169,6],[169,7,169,9],[169,10,169,12],[158,1,158,3],[158,4,158,6],[158,7,158,9],[158,10,158,12],[171,1,171,3],[171,4,171,6],[171,7,171,9],[171,10,171,12],[170,1,170,3],[170,4,170,6],[170,7,170,9],[170,10,170,12],[173,1,173,3],[173,4,173,6],[173,7,173,9],[173,10,173,12],[172,1,172,3],[172,4,172,6],[172,7,172,9],[172,10,172,12],[175,1,175,3],[175,4,175,6],[175,7,175,9],[175,10,175,12],[174,1,174,3],[174,4,174,6],[174,7,174,9],[174,10,174,12],[177,1,177,3],[177,4,177,6],[177,7,177,9],[177,10,177,12],[176,1,176,3],[176,4,176,6],[176,7,176,9],[176,10,176,12],[178,1,178,3],[178,4,179,6],[178,7,178,9],[178,10,179,12],[179,1,179,3],[179,7,179,9],[182,1,182,3],[182,4,183,6],[182,7,183,12],[183,1,183,3],[180,1,180,3],[180,4,181,6],[180,7,180,9],[180,10,181,12],[181,1,181,3],[181,7,181,9],[194,1,194,3],[194,4,194,6],[194,7,194,9],[194,10,194,12],[184,1,184,3],[184,4,184,6],[184,7,184,9],[184,10,184,12],[196,1,196,3],[196,4,196,6],[196,7,196,9],[196,10,196,12],[195,1,195,3],[195,4,195,6],[195,7,195,9],[195,10,195,12],[198,1,198,3],[198,4,198,6],[198,7,198,9],[198,10,198,12],[197,1,197,3],[197,4,197,6],[197,7,197,9],[197,10,197,12],[200,1,200,3],[200,4,200,6],[200,7,200,9],[200,10,200,12],[199,1,199,3],[199,4,199,6],[199,7,199,9],[199,10,199,12],[202,1,202,3],[202,4,202,6],[202,7,202,9],[202,10,202,12],[201,1,201,3],[201,4,201,6],[201,7,201,9],[201,10,201,12],[203,1,203,3],[203,4,204,6],[203,7,203,9],[203,10,204,12],[204,1,204,3],[204,7,204,9],[207,1,207,3],[207,4,208,6],[207,7,208,12],[208,1,208,3],[205,1,205,3],[205,4,206,6],[205,7,205,9],[205,10,206,12],[206,1,206,3],[206,7,206,9],[220,1,220,3],[220,4,220,6],[220,7,220,9],[220,10,220,12],[209,1,209,3],[209,4,209,6],[209,7,209,9],[209,10,209,12],[222,1,222,3],[222,4,222,6],[222,7,222,9],[222,10,222,12],[221,1,221,3],[221,4,221,6],[221,7,221,9],[221,10,221,12],[224,1,224,3],[224,4,224,6],[224,7,224,9],[224,10,224,12],[223,1,223,3],[223,4,223,6],[223,7,223,9],[223,10,223,12],[226,1,226,3],[226,4,226,6],[226,7,226,9],[226,10,226,12],[225,1,225,3],[225,4,225,6],[225,7,225,9],[225,10,225,12],[228,1,228,3],[228,4,228,6],[228,7,228,9],[228,10,228,12],[227,1,227,3],[227,4,227,6],[227,7,227,9],[227,10,227,12],[229,1,229,3],[229,4,230,6],[229,7,229,9],[229,10,230,12],[230,1,230,3],[230,7,230,9],[233,1,233,3],[233,4,234,6],[233,7,234,12],[234,1,234,3],[231,1,231,3],[231,4,232,6],[231,7,231,9],[231,10,232,12],[232,1,232,3],[232,7,232,9],[246,1,246,3],[246,4,246,6],[246,7,246,9],[246,10,246,12],[235,1,235,3],[235,4,235,6],[235,7,235,9],[235,10,235,12],[248,1,248,3],[248,4,248,6],[248,7,248,9],[248,10,248,12],[247,1,247,3],[247,4,247,6],[247,7,247,9],[247,10,247,12],[250,1,250,3],[250,4,250,6],[250,7,250,9],[250,10,250,12],[249,1,249,3],[249,4,249,6],[249,7,249,9],[249,10,249,12],[252,1,252,3],[252,4,252,6],[252,7,252,9],[252,10,252,12],[251,1,251,3],[251,4,251,6],[251,7,251,9],[251,10,251,12],[254,1,254,3],[254,4,254,6],[254,7,254,9],[254,10,254,12],[253,1,253,3],[253,4,253,6],[253,7,253,9],[253,10,253,12],[255,1,255,3],[255,4,256,6],[255,7,255,9],[255,10,256,12],[256,1,256,3],[256,7,256,9],[259,1,259,3],[259,4,260,6],[259,7,260,12],[260,1,260,3],[257,1,257,3],[257,4,258,6],[257,7,257,9],[257,10,258,12],[258,1,258,3],[258,7,258,9],[272,1,272,3],[272,4,272,6],[272,7,272,9],[272,10,272,12],[261,1,261,3],[261,4,261,6],[261,7,261,9],[261,10,261,12],[274,1,274,3],[274,4,274,6],[274,7,274,9],[274,10,274,12],[273,1,273,3],[273,4,273,6],[273,7,273,9],[273,10,273,12],[276,1,276,3],[276,4,276,6],[276,7,276,9],[276,10,276,12],[275,1,275,3],[275,4,275,6],[275,7,275,9],[275,10,275,12],[278,1,278,3],[278,4,278,6],[278,7,278,9],[278,10,278,12],[277,1,277,3],[277,4,277,6],[277,7,277,9],[277,10,277,12],[280,1,280,3],[280,4,280,6],[280,7,280,9],[280,10,280,12],[279,1,279,3],[279,4,279,6],[279,7,279,9],[279,10,279,12],[281,1,281,3],[281,4,282,6],[281,7,281,9],[281,10,282,12],[282,1,282,3],[282,7,282,9],[285,1,285,3],[285,4,286,6],[285,7,286,12],[286,1,286,3],[283,1,283,3],[283,4,284,6],[283,7,283,9],[283,10,284,12],[284,1,284,3],[284,7,284,9],[298,1,298,3],[298,4,298,6],[298,7,298,9],[298,10,298,12],[287,1,287,3],[287,4,287,6],[287,7,287,9],[287,10,287,12],[300,1,300,3],[300,4,300,6],[300,7,300,9],[300,10,300,12],[299,1,299,3],[299,4,299,6],[299,7,299,9],[299,10,299,12],[302,1,302,3],[302,4,302,6],[302,7,302,9],[302,10,302,12],[301,1,301,3],[301,4,301,6],[301,7,301,9],[301,10,301,12],[304,1,304,3],[304,4,304,6],[304,7,304,9],[304,10,304,12],[303,1,303,3],[303,4,303,6],[303,7,303,9],[303,10,303,12],[306,1,306,3],[306,4,306,6],[306,7,306,9],[306,10,306,12],[305,1,305,3],[305,4,305,6],[305,7,305,9],[305,10,305,12],[307,1,307,3],[307,4,308,6],[307,7,307,9],[307,10,308,12],[308,1,308,3],[308,7,308,9],[311,1,311,3],[311,4,312,6],[311,7,312,12],[312,1,312,3],[309,1,309,3],[309,4,310,6],[309,7,309,9],[309,10,310,12],[310,1,310,3],[310,7,310,9],[324,1,324,3],[324,4,324,6],[324,7,324,9],[324,10,324,12],[313,1,313,3],[313,4,313,6],[313,7,313,9],[313,10,313,12],[326,1,326,3],[326,4,326,6],[326,7,326,9],[326,10,326,12],[325,1,325,3],[325,4,325,6],[325,7,325,9],[325,10,325,12],[328,1,328,3],[328,4,328,6],[328,7,328,9],[328,10,328,12],[327,1,327,3],[327,4,327,6],[327,7,327,9],[327,10,327,12],[330,1,330,3],[330,4,330,6],[330,7,330,9],[330,10,330,12],[329,1,329,3],[329,4,329,6],[329,7,329,9],[329,10,329,12],[332,1,332,3],[332,4,332,6],[332,7,332,9],[332,10,332,12],[331,1,331,3],[331,4,331,6],[331,7,331,9],[331,10,331,12],[333,1,333,3],[333,4,334,6],[333,7,333,9],[333,10,334,12],[334,1,334,3],[334,7,334,9],[337,1,337,3],[337,4,338,6],[337,7,338,12],[338,1,338,3],[335,1,335,3],[335,4,336,6],[335,7,335,9],[335,10,336,12],[336,1,336,3],[336,7,336,9],[350,1,350,3],[350,4,350,6],[350,7,350,9],[350,10,350,12],[339,1,339,3],[339,4,339,6],[339,7,339,9],[339,10,339,12],[352,1,352,3],[352,4,352,6],[352,7,352,9],[352,10,352,12],[351,1,351,3],[351,4,351,6],[351,7,351,9],[351,10,351,12],[354,1,354,3],[354,4,354,6],[354,7,354,9],[354,10,354,12],[353,1,353,3],[353,4,353,6],[353,7,353,9],[353,10,353,12],[356,1,356,3],[356,4,356,6],[356,7,356,9],[356,10,356,12],[355,1,355,3],[355,4,355,6],[355,7,355,9],[355,10,355,12],[358,1,358,3],[358,4,358,6],[358,7,358,9],[358,10,358,12],[357,1,357,3],[357,4,357,6],[357,7,357,9],[357,10,357,12],[359,1,359,3],[359,4,360,6],[359,7,359,9],[359,10,360,12],[360,1,360,3],[360,7,360,9],[363,1,363,3],[363,4,364,6],[363,7,364,12],[364,1,364,3],[361,1,361,3],[361,4,362,6],[361,7,361,9],[361,10,362,12],[362,1,362,3],[362,7,362,9],[376,1,376,3],[376,4,376,6],[376,7,376,9],[376,10,376,12],[365,1,365,3],[365,4,365,6],[365,7,365,9],[365,10,365,12],[378,1,378,3],[378,4,378,6],[378,7,378,9],[378,10,378,12],[377,1,377,3],[377,4,377,6],[377,7,377,9],[377,10,377,12],[380,1,380,3],[380,4,380,6],[380,7,380,9],[380,10,380,12],[379,1,379,3],[379,4,379,6],[379,7,379,9],[379,10,379,12],[382,1,382,3],[382,4,382,6],[382,7,382,9],[382,10,382,12],[381,1,381,3],[381,4,381,6],[381,7,381,9],[381,10,381,12],[384,1,384,3],[384,4,384,6],[384,7,384,9],[384,10,384,12],[383,1,383,3],[383,4,383,6],[383,7,383,9],[383,10,383,12],[385,1,385,3],[385,4,386,6],[385,7,385,9],[385,10,386,12],[386,1,386,3],[386,7,386,9],[389,1,389,3],[389,4,390,6],[389,7,390,12],[390,1,390,3],[387,1,387,3],[387,4,388,6],[387,7,387,9],[387,10,388,12],[388,1,388,3],[388,7,388,9],[402,1,402,3],[402,4,402,6],[402,7,402,9],[402,10,402,12],[391,1,391,3],[391,4,391,6],[391,7,391,9],[391,10,391,12],[404,1,404,3],[404,4,404,6],[404,7,404,9],[404,10,404,12],[403,1,403,3],[403,4,403,6],[403,7,403,9],[403,10,403,12],[406,1,406,3],[406,4,406,6],[406,7,406,9],[406,10,406,12],[405,1,405,3],[405,4,405,6],[405,7,405,9],[405,10,405,12],[408,1,408,3],[408,4,408,6],[408,7,408,9],[408,10,408,12],[407,1,407,3],[407,4,407,6],[407,7,407,9],[407,10,407,12],[410,1,410,3],[410,4,410,6],[410,7,410,9],[410,10,410,12],[409,1,409,3],[409,4,409,6],[409,7,409,9],[409,10,409,12],[411,1,411,3],[411,4,412,6],[411,7,411,9],[411,10,412,12],[412,1,412,3],[412,7,412,9],[415,1,415,3],[415,4,416,6],[415,7,416,12],[416,1,416,3],[413,1,413,3],[413,4,414,6],[413,7,413,9],[413,10,414,12],[414,1,414,3],[414,7,414,9],[428,1,428,3],[428,4,428,6],[428,7,428,9],[428,10,428,12],[417,1,417,3],[417,4,417,6],[417,7,417,9],[417,10,417,12],[430,1,430,3],[430,4,430,6],[430,7,430,9],[430,10,430,12],[429,1,429,3],[429,4,429,6],[429,7,429,9],[429,10,429,12],[432,1,432,3],[432,4,432,6],[432,7,432,9],[432,10,432,12],[431,1,431,3],[431,4,431,6],[431,7,431,9],[431,10,431,12],[434,1,434,3],[434,4,434,6],[434,7,434,9],[434,10,434,12],[433,1,433,3],[433,4,433,6],[433,7,433,9],[433,10,433,12],[436,1,436,3],[436,4,436,6],[436,7,436,9],[436,10,436,12],[435,1,435,3],[435,4,435,6],[435,7,435,9],[435,10,435,12],[437,1,437,3],[437,4,438,6],[437,7,437,9],[437,10,438,12],[438,1,438,3],[438,7,438,9],[441,1,441,3],[441,4,442,6],[441,7,442,12],[442,1,442,3],[439,1,439,3],[439,4,440,6],[439,7,439,9],[439,10,440,12],[440,1,440,3],[440,7,440,9],[453,1,453,3],[453,4,453,6],[453,7,453,9],[453,10,453,12],[443,1,443,3],[443,4,443,6],[443,7,443,9],[443,10,443,12],[455,1,455,3],[455,4,455,6],[455,7,455,9],[455,10,455,12],[454,1,454,3],[454,4,454,6],[454,7,454,9],[454,10,454,12],[457,1,457,3],[457,4,457,6],[457,7,457,9],[457,10,457,12],[456,1,456,3],[456,4,456,6],[456,7,456,9],[456,10,456,12],[459,1,459,3],[459,4,459,6],[459,7,459,9],[459,10,459,12],[458,1,458,3],[458,4,458,6],[458,7,458,9],[458,10,458,12],[461,1,461,3],[461,4,461,6],[461,7,461,9],[461,10,461,12],[460,1,460,3],[460,4,460,6],[460,7,460,9],[460,10,460,12],[462,1,462,3],[462,4,463,6],[462,7,462,9],[462,10,463,12],[463,1,463,3],[463,7,463,9],[466,1,466,3],[466,4,467,6],[466,7,467,12],[467,1,467,3],[464,1,464,3],[464,4,465,6],[464,7,464,9],[464,10,465,12],[465,1,465,3],[465,7,465,9],[479,1,479,3],[479,4,479,6],[479,7,479,9],[479,10,479,12],[468,1,468,3],[468,4,468,6],[468,7,468,9],[468,10,468,12],[481,1,481,3],[481,4,481,6],[481,7,481,9],[481,10,481,12],[480,1,480,3],[480,4,480,6],[480,7,480,9],[480,10,480,12],[483,1,483,3],[483,4,483,6],[483,7,483,9],[483,10,483,12],[482,1,482,3],[482,4,482,6],[482,7,482,9],[482,10,482,12],[485,1,485,3],[485,4,485,6],[485,7,485,9],[485,10,485,12],[484,1,484,3],[484,4,484,6],[484,7,484,9],[484,10,484,12],[487,1,487,3],[487,4,487,6],[487,7,487,9],[487,10,487,12],[486,1,486,3],[486,4,486,6],[486,7,486,9],[486,10,486,12],[488,1,488,3],[488,4,489,6],[488,7,488,9],[488,10,489,12],[489,1,489,3],[489,7,489,9],[492,1,492,3]],"merged_total":5794,"flags":["merged_cut"]}
[null,"Das Periodensystem der Elemente (PSE)"]
[]
[null,"Gruppe"]
[null,"IA",null,null,null,null,null,null,null,null,null,null,null,null,null,null,null,null,"VIIIA"]
[null,"1",null,null,null,null,null,null,null,null,"Radioaktiv",null,null,null,null,null,null,null,"2"]
[null,"H","IIA",null,null,null,null,null,null,null,null,null,null,"IIIA","IVA","VA","VIA","VIIA","He"]
[null,"3","4",null,null,null,null,null,null,null,"Edelgase",null,null,"5","6","7","8","9","10"]
[null,"Li","Be",null,null,null,null,null,null,null,null,null,null,"B","C","N","O","F","Ne"]
[null,"11","12",null,null,null,null,null,null,null,"Halbmetalle",null,null,"13","14","15","16","17","18"]
[null,"Na","Mg","IIIB","IVB","VB","VIB","VIIB",null,"VIII",null,"IB","IIB","Al","Si","P","S","Cl","Ar"]
[null,"19","20","21","22","23","24","25","26","27","28","29","30","31","32","33","34","35","36"]
[null,"K","Ca","Sc","Ti","V","Cr","Mn","Fe","Co","Ni","Cu","Zn","Ga","Ge","As","Se","Br","Kr"]
[null,"37","38","39","40","41","42","43","44","45","46","47","48","49","50","51","52","53","54"]
[null,"Rb","Sr","Y","Zr","Nb","Mo","Tc","Ru","Rh","Pd","Ag","Cd","In","Sn","Sb","Te","I","Xe"]
[null,"55","56","57","72","73","74","75","76","77","78","79","80","81","82","83","84","85","86"]
[null,"Cs","Ba","La","Hf","Ta","W","Re","Os","Ir","Pt","Au","Hg","Tl","Pb","Bi","Po","At","Rn"]
[null,"87","88","89","104 -"]
[null,"Fr","Ra","Ac","112"]
[null,null,null,null,null,null,"58","59","60","61","62","63","64","65","66","67","68","69","70","71"]
[null,null,null,null,null,null,"Ce","Pr","Nd","Pm","Sm","Eu","Gd","Tb","Dy","Ho","Er","Tm","Yb","Lu"]
[null,null,null,null,null,null,"90","91","92","93","94","95","96","97","98","99","100","101","102","103"]
[null,null,null,null,null,null,"Th","Pa","U","Np","Pu","Am","Cm","Bk","Cf","Es","Fm","Md","No","Lw"]
[]
[]
[]
[]
[]
[]
[]
[]
[]
[]
[]
[]
[]
[]
[]
[null,null,"Genauere Informationen"]
[]
[null,"Ordnungszahl",null,null,"1",null,null,"Oxidationszahl",null,null,"1"]
[null,"Symbol",null,null,"H",null,null,"Elektronegativität",null,null,"2.1"]
[null,"deutscher Name",null,null,"Wasserstoff",null,null,"Verdampfungswärme",null,null,"0.108"]
[null,"englischer Name",null,null,"Hydrogen",null,null,"Schmelzwärme",null,null,"0.014"]
[null,"Atommasse in u",null,null,"1.00797",null,null,"Wärmeleitfähigkeit",null,null,"0.0004"]
[null,"Dichte (g/ml)",null,null,"0.071",null,null,"Atomvolumen, W/D",null,null,"14.1"]
[null,"Schmelzpunkt, °C",null,null,"-259.2",null,null,"Ionenradius, Å",null,null,"2.08(-1),-"]
[null,"Siedepunkt, °C",null,null,"-252.7",null,null,"Atomradius, Å",null,null,"-"]
[null,"Kristallstruktur",null,null,"hexagonal",null,null,"kovalenter Radius, Å",null,null,"0.32"]
[null,"Spezifische Wärme",null,null,"3.45",null,null,"spezifische elektr.",null,null,"-"]
[null,"(cal/g/°C)",null,null,null,null,null,"Leitfähigkeit"]
[null,"Elektronen-",null,null,"1s^1",null,null,"Ionisierungsenergie",null,null,"313"]
[null,"konfiguration",null,null,null,null,null,"für das 1. Elektron"]
[null,"Säure-Base-",null,null,"amphoter",null,null,"zurück zum PSE"]
[null,"Eigenschaften"]
[]
[]
[]
[]
[]
[]
[]
[]
[]
[null,null,"Genauere Informationen"]
[]
[null,"Ordnungszahl",null,null,"2",null,null,"Oxidationszahl",null,null,"-"]
[null,"Symbol",null,null,"He",null,null,"Elektronegativität",null,null,"-"]
[null,"deutscher Name",null,null,"Helium",null,null,"Verdampfungswärme",null,null,"0.020"]
[null,"englischer Name",null,null,"Helium",null,null,"Schmelzwärme",null,null,"0.005"]
[null,"Atommasse in u",null,null,"4.0026",null,null,"Wärmeleitfähigkeit",null,null,"0.0003"]
[null,"Dichte (g/ml)",null,null,"0.126",null,null,"Atomvolumen, W/D",null,null,"31.8"]
[null,"Schmelzpunkt, °C",null,null,"-269.7",null,null,"Ionenradius, Å",null,null,"- , -"]
[null,"Siedepunkt, °C",null,null,"-268.9",null,null,"Atomradius, Å",null,null,"-"]
[null,"Kristallstruktur",null,null,"hexagonal",null,null,"kovalenter Radius, Å",null,null,"0.93"]
[null,"Spezifische Wärme",null,null,"1.25",null,null,"spezifische elektr.",null,null,"-"]
[null,"(cal/g/°C)",null,null,null,null,null,"Leitfähigkeit"]
[null,"Elektronen-",null,null,"1s^2",null,null,"Ionisierungsenergie",null,null,"567"]
[null,"konfiguration",null,null,null,null,null,"für das 1. Elektron"]
[null,"Säure-Base-",null,null,"-",null,null,"zurück zum PSE"]
[null,"Eigenschaften"]
[]
[]
[]
[]
[]
[]
[]
[]
[]
[null,null,"Genauere Informationen"]
[]
[null,"Ordnungszahl",null,null,"3",null,null,"Oxidationszahl",null,null,"1"]
[null,"Symbol",null,null,"Li",null,null,"Elektronegativität",null,null,"1.0"]
[null,"deutscher Name",null,null,"Lithium",null,null,"Verdampfungswärme",null,null,"32.48"]
[null,"englischer Name",null,null,"Lithium",null,null,"Schmelzwärme",null,null,"0.72"]
[null,"Atommasse in u",null,null,"6.939",null,null,"Wärmeleitfähigkeit",null,null,"0.17"]
[null,"Dichte (g/ml)",null,null,"0.53",null,null,"Atomvolumen, W/D",null,null,"13.1"]
[null,"Schmelzpunkt, °C",null,null,"180.5",null,null,"Ionenradius, Å",null,null,"0.60(+1),-"]
[null,"Siedepunkt, °C",null,null,"1330",null,null,"Atomradius, Å",null,null,"1.55"]
[null,"Kristallstruktur",null,null,"kubisch, raumzentriert",null,null,"kovalenter Radius, Å",null,null,"1.23"]
[null,"Spezifische Wärme",null,null,"0.79",null,null,"spezifische elektr.",null,null,"0.108"]
[null,"(cal/g/°C)",null,null,null,null,null,"Leitfähigkeit"]
[null,"Elektronen-",null,null,"1s^2 2s^1",null,null,"Ionisierungsenergie",null,null,"124"]
[null,"konfiguration",null,null,null,null,null,"für das 1. Elektron"]
[null,"Säure-Base-",null,null,"basisch",null,null,"zurück zum PSE"]
[null,"Eigenschaften"]
[]
[]
[]
[]
[]
[]
[]
[]
[]
[null,null,"Genauere Informationen"]
[]
[null,"Ordnungszahl",null,null,"4",null,null,"Oxidationszahl",null,null,"2"]
[null,"Symbol",null,null,"Be",null,null,"Elektronegativität",null,null,"1.5"]
[null,"deutscher Name",null,null,"Beryllium",null,null,"Verdampfungswärme",null,null,"73.9"]
[null,"englischer Name",null,null,"Beryllium",null,null,"Schmelzwärme",null,null,"2.8"]
[null,"Atommasse in u",null,null,"9.0122",null,null,"Wärmeleitfähigkeit",null,null,"0.38"]
[null,"Dichte (g/ml)",null,null,"1.85",null,null,"Atomvolumen, W/D",null,null,"5.0"]
[null,"Schmelzpunkt, °C",null,null,"1277",null,null,"Ionenradius, Å",null,null,"0.31(+2),-"]
[null,"Siedepunkt, °C",null,null,"2770",null,null,"Atomradius, Å",null,null,"1.12"]
[null,"Kristallstruktur",null,null,"hexagonal",null,null,"kovalenter Radius, Å",null,null,"0.90"]
[null,"Spezifische Wärme",null,null,"0.45",null,null,"spezifische elektr.",null,null,"0.25"]
[null,"(cal/g/°C)",null,null,null,null,null,"Leitfähigkeit"]
[null,"Elektronen-",null,null,"1s^2 2s^2",null,null,"Ionisierungsenergie",null,null,"215"]
[null,"konfiguration",null,null,null,null,null,"für das 1. Elektron"]
[null,"Säure-Base-",null,null,"amphoter",null,null,"zurück zum PSE"]
[null,"Eigenschaften"]
[]
[]
[]
[]
[]
[]
[]
[]
[]
[null,null,"Genauere Informationen"]
[]
[null,"Ordnungszahl",null,null,"5",null,null,"Oxidationszahl",null,null,"3"]
[null,"Symbol",null,null,"B",null,null,"Elektronegativität",null,null,"2.0"]
[null,"deutscher Name",null,null,"Bor",null,null,"Verdampfungswärme",null,null,"128"]
[null,"englischer Name",null,null,"Boron",null,null,"Schmelzwärme",null,null,"5.3"]
[null,"Atommasse in u",null,null,"10.811",null,null,"Wärmeleitfähigkeit",null,null,"5.3"]
[null,"Dichte (g/ml)",null,null,"2.34",null,null,"Atomvolumen, W/D",null,null,"4.6"]
[null,"Schmelzpunkt, °C",null,null,"(2030)",null,null,"Ionenradius, Å",null,null,"0.20(+3),-"]
[null,"Siedepunkt, °C",null,null,"-",null,null,"Atomradius, Å",null,null,"0.98"]
[null,"Kristallstruktur",null,null,"hexagonal",null,null,"kovalenter Radius, Å",null,null,"0.82"]
[null,"Spezifische Wärme",null,null,"0.309",null,null,"spezifische elektr.",null,null,"10^-12"]
[null,"(cal/g/°C)",null,null,null,null,null,"Leitfähigkeit"]
[null,"Elektronen-",null,null,"1s^2 2s^2 2p^1",null,null,"Ionisierungsenergie",null,null,"191"]
[null,"konfiguration",null,null,null,null,null,"für das 1. Elektron"]
[null,"Säure-Base-",null,null,"sauer",null,null,"zurück zum PSE"]
[null,"Eigenschaften"]
[]
[]
[]
[]
[]
[]
[]
[]
[]
[null,null,"Genauere Informationen"]
[]
[null,"Ordnungszahl",null,null,"6",null,null,"Oxidationszahl",null,null,"(+/-) 4,2"]
[null,"Symbol",null,null,"C",null,null,"Elektronegativität",null,null,"2.5"]
[null,"deutscher Name",null,null,"Kohlenstoff",null,null,"Verdampfungswärme",null,null,"171.7"]
[null,"englischer Name",null,null,"Carbon",null,null,"Schmelzwärme",null,null,"-"]
[null,"Atommasse in u",null,null,"12.01115",null,null,"Wärmeleitfähigkeit",null,null,"0.057"]
[null,"Dichte (g/ml)",null,null,"2.26",null,null,"Atomvolumen, W/D",null,null,"5.3"]
[null,"Schmelzpunkt, °C",null,null,"3727",null,null,"Ionenradius, Å",null,null,"2.60(-4) , 0.15(+4)"]
[null,"Siedepunkt, °C",null,null,"4830",null,null,"Atomradius, Å",null,null,"0.914"]
[null,"Kristallstruktur",null,null,"hexagonal",null,null,"kovalenter Radius, Å",null,null,"0.77"]
[null,"Spezifische Wärme",null,null,"0.165",null,null,"spezifische elektr.",null,null,"0.0007"]
[null,"(cal/g/°C)",null,null,null,null,null,"Leitfähigkeit"]
[null,"Elektronen-",null,null,"1s^2 2s^2 2p^2",null,null,"Ionisierungsenergie",null,null,"260"]
[null,"konfiguration",null,null,null,null,null,"für das 1. Elektron"]
[null,"Säure-Base-",null,null,"sauer",null,null,"zurück zum PSE"]
[null,"Eigenschaften"]
[]
[]
[]
[]
[]
[]
[]
[]
[null,null,"Genauere Informationen"]
[]
[null,"Ordnungszahl",null,null,"7",null,null,"Oxidationszahl",null,null,"(+/-) 3,5,4,2"]
[null,"Symbol",null,null,"N",null,null,"Elektronegativität",null,null,"3.0"]
[null,"deutscher Name",null,null,"Stickstoff",null,null,"Verdampfungswärme",null,null,"0.666"]
[null,"englischer Name",null,null,"Nitrogen",null,null,"Schmelzwärme",null,null,"0.086"]
[null,"Atommasse in u",null,null,"14.0067",null,null,"Wärmeleitfähigkeit",null,null,"0.00006"]
[null,"Dichte (g/ml)",null,null,"0.81",null,null,"Atomvolumen, W/D",null,null,"17.3"]
[null,"Schmelzpunkt, °C",null,null,"-210",null,null,"Ionenradius, Å",null,null,"1.17(-3), 0.11(+5)"]
[null,"Siedepunkt, °C",null,null,"-195.8",null,null,"Atomradius, Å",null,null,"0.92"]
[null,"Kristallstruktur",null,null,"hexagonal",null,null,"kovalenter Radius, Å",null,null,"0.75"]
[null,"Spezifische Wärme",null,null,"0.247",null,null,"spezifische elektr.",null,null,"-"]
[null,"(cal/g/°C)",null,null,null,null,null,"Leitfähigkeit"]
[null,"Elektronen-",null,null,"1s^2 2s^2 2p^3",null,null,"Ionisierungsenergie",null,null,"336"]
[null,"konfiguration",null,null,null,null,null,"für das 1. Elektron"]
[null,"Säure-Base-",null,null,"sauer",null,null,"zurück zum PSE"]
[null,"Eigenschaften"]
[]
[]
[]
[]
[]
[]
[]
[]
[]
[null,null,"Genauere Informationen"]
[]
[null,"Ordnungszahl",null,null,"8",null,null,"Oxidationszahl",null,null,"-2"]
[null,"Symbol",null,null,"O",null,null,"Elektronegativität",null,null,"3.5"]
[null,"deutscher Name",null,null,"Sauerstoff",null,null,"Verdampfungswärme",null,null,"0.815"]
[null,"englischer Name",null,null,"Oxygen",null,null,"Schmelzwärme",null,null,"0.053"]
[null,"Atommasse in u",null,null,"15.9994",null,null,"Wärmeleitfähigkeit",null,null,"0.00006"]
[null,"Dichte (g/ml)",null,null,"1.14",null,null,"Atomvolumen, W/D",null,null,"14.0"]
[null,"Schmelzpunkt, °C",null,null,"-218.8",null,null,"Ionenradius, Å",null,null,"1.40(-2) , 0.09(+6)"]
[null,"Siedepunkt, °C",null,null,"-183",null,null,"Atomradius, Å",null,null,"-"]
[null,"Kristallstruktur",null,null,"kubisch",null,null,"kovalenter Radius, Å",null,null,"0.73"]
[null,"Spezifische Wärme",null,null,"0.218",null,null,"spezifische elektr.",null,null,"-"]
[null,"(cal/g/°C)",null,null,null,null,null,"Leitfähigkeit"]
[null,"Elektronen-",null,null,"1s^2 2s^2 2p^4",null,null,"Ionisierungsenergie",null,null,"314"]
[null,"konfiguration",null,null,null,null,null,"für das 1. Elektron"]
[null,"Säure-Base-",null,null,"-",null,null,"zurück zum PSE"]
[null,"Eigenschaften"]
[]
[]
[]
[]
[]
[]
[]
[]
[]
[null,null,"Genauere Informationen"]
[]
[null,"Ordnungszahl",null,null,"9",null,null,"Oxidationszahl",null,null,"-1"]
[null,"Symbol",null,null,"F",null,null,"Elektronegativität",null,null,"4"]
[null,"deutscher Name",null,null,"Fluor",null,null,"Verdampfungswärme",null,null,"0.755"]
[null,"englischer Name",null,null,"Flourine",null,null,"Schmelzwärme",null,null,"0.061"]
[null,"Atommasse in u",null,null,"18.9984",null,null,"Wärmeleitfähigkeit",null,null,"-"]
[null,"Dichte (g/ml)",null,null,"1.505",null,null,"Atomvolumen, W/D",null,null,"17.1"]
[null,"Schmelzpunkt, °C",null,null,"-219.6",null,null,"Ionenradius, Å",null,null,"1.36(-1) , 0.07(+7)"]
[null,"Siedepunkt, °C",null,null,"-188.2",null,null,"Atomradius, Å",null,null,"-"]
[null,"Kristallstruktur",null,null,"-",null,null,"kovalenter Radius, Å",null,null,"0.72"]
[null,"Spezifische Wärme",null,null,"0.18",null,null,"spezifische elektr.",null,null,"-"]
[null,"(cal/g/°C)",null,null,null,null,null,"Leitfähigkeit"]
[null,"Elektronen-",null,null,"1s^2 2s^2 2p^5",null,null,"Ionisierungsenergie",null,null,"402"]
[null,"konfiguration",null,null,null,null,null,"für das 1. Elektron"]
[null,"Säure-Base-",null,null,"-",null,null,"zurück zum PSE"]
[null,"Eigenschaften"]
[]
[]
[]
[]
[]
[]
[]
[]
[]
[null,null,"Genauere Informationen"]
[]
[null,"Ordnungszahl",null,null,"10",null,null,"Oxidationszahl",null,null,"-"]
[null,"Symbol",null,null,"Ne",null,null,"Elektronegativität",null,null,"-"]
[null,"deutscher Name",null,null,"Neon",null,null,"Verdampfungswärme",null,null,"0.422"]
[null,"englischer Name",null,null,"Neon",null,null,"Schmelzwärme",null,null,"0.080"]
[null,"Atommasse in u",null,null,"20.183",null,null,"Wärmeleitfähigkeit",null,null,"0.0001"]
[null,"Dichte (g/ml)",null,null,"1.20",null,null,"Atomvolumen, W/D",null,null,"16.8"]
[null,"Schmelzpunkt, °C",null,null,"-248.6",null,null,"Ionenradius, Å",null,null,"- , -"]
[null,"Siedepunkt, °C",null,null,"-246",null,null,"Atomradius, Å",null,null,"-"]
[null,"Kristallstruktur",null,null,"kubisch, frontzentriert",null,null,"kovalenter Radius, Å",null,null,"0.71"]
[null,"Spezifische Wärme",null,null,"-",null,null,"spezifische elektr.",null,null,"-"]
[null,"(cal/g/°C)",null,null,null,null,null,"Leitfähigkeit"]
[null,"Elektronen-",null,null,"1s^2 2s^2 2p^6",null,null,"Ionisierungsenergie",null,null,"497"]
[null,"konfiguration",null,null,null,null,null,"für das 1. Elektron"]
[null,"Säure-Base-",null,null,"-",null,null,"zurück zum PSE"]
[null,"Eigenschaften"]
[]
[]
[]
[]
[]
[]
[]
[]
[]
[null,null,"Genauere Informationen"]
[]
[null,"Ordnungszahl",null,null,"11",null,null,"Oxidationszahl",null,null,"1"]
[null,"Symbol",null,null,"Na",null,null,"Elektronegativität",null,null,"0.9"]
[null,"deutscher Name",null,null,"Natrium",null,null,"Verdampfungswärme",null,null,"24.12"]
[null,"englischer Name",null,null,"Sodium",null,null,"Schmelzwärme",null,null,"0.62"]
[null,"Atommasse in u",null,null,"22.9898",null,null,"Wärmeleitfähigkeit",null,null,"0.32"]
[null,"Dichte (g/ml)",null,null,"0.97",null,null,"Atomvolumen, W/D",null,null,"23.7"]
[null,"Schmelzpunkt, °C",null,null,"97.8",null,null,"Ionenradius, Å",null,null,"0.95(+1) ,-"]
[null,"Siedepunkt, °C",null,null,"892",null,null,"Atomradius, Å",null,null,"1.90"]
[null,"Kristallstruktur",null,null,"kubisch, raumzentriert",null,null,"kovalenter Radius, Å",null,null,"1.54"]
[null,"Spezifische Wärme",null,null,"0.295",null,null,"spezifische elektr.",null,null,"0.218"]
[null,"(cal/g/°C)",null,null,null,null,null,"Leitfähigkeit"]
[null,"Elektronen-",null,null,"[Ne]3s^1",null,null,"Ionisierungsenergie",null,null,"119"]
[null,"konfiguration",null,null,null,null,null,"für das 1. Elektron"]
[null,"Säure-Base-",null,null,"basisch",null,null,"zurück zum PSE"]
[null,"Eigenschaften"]
[]
[]
[]
[]
[]
[]
[]
[]
[]
[null,null,"Genauere Informationen"]
[]
[null,"Ordnungszahl",null,null,"12",null,null,"Oxidationszahl",null,null,"2"]
[null,"Symbol",null,null,"Mg",null,null,"Elektronegativität",null,null,"1.2"]
[null,"deutscher Name",null,null,"Magnesium",null,null,"Verdampfungswärme",null,null,"32.517"]
[null,"englischer Name",null,null,"Magnesium",null,null,"Schmelzwärme",null,null,"2.14"]
[null,"Atommasse in u",null,null,"24.312",null,null,"Wärmeleitfähigkeit",null,null,"0.38"]
[null,"Dichte (g/ml)",null,null,"1.74",null,null,"Atomvolumen, W/D",null,null,"14.0"]
[null,"Schmelzpunkt, °C",null,null,"650",null,null,"Ionenradius, Å",null,null,"0.65(+2) ,-"]
[null,"Siedepunkt, °C",null,null,"1107",null,null,"Atomradius, Å",null,null,"1.60"]
[null,"Kristallstruktur",null,null,"hexagonal",null,null,"kovalenter Radius, Å",null,null,"1.36"]
[null,"Spezifische Wärme",null,null,"0.25",null,null,"spezifische elektr.",null,null,"0.224"]
[null,"(cal/g/°C)",null,null,null,null,null,"Leitfähigkeit"]
[null,"Elektronen-",null,null,"[Ne]3s^2",null,null,"Ionisierungsenergie",null,null,"176"]
[null,"konfiguration",null,null,null,null,null,"für das 1. Elektron"]
[null,"Säure-Base-",null,null,"basisch",null,null,"zurück zum PSE"]
[null,"Eigenschaften"]
[]
[]
[]
[]
[]
[]
[]
[]
[]
[null,null,"Genauere Informationen"]
[]
[null,"Ordnungszahl",null,null,"13",null,null,"Oxidationszahl",null,null,"3"]
[null,"Symbol",null,null,"Al",null,null,"Elektronegativität",null,null,"1.5"]
[null,"deutscher Name",null,null,"Aluminium",null,null,"Verdampfungswärme",null,null,"67.9"]
[null,"englischer Name",null,null,"Aluminium",null,null,"Schmelzwärme",null,null,"2.55"]
[null,"Atommasse in u",null,null,"26.9815",null,null,"Wärmeleitfähigkeit",null,null,"0.50"]
[null,"Dichte (g/ml)",null,null,"2.70",null,null,"Atomvolumen, W/D",null,null,"10.0"]
[null,"Schmelzpunkt, °C",null,null,"660",null,null,"Ionenradius, Å",null,null,"0.50(+3) ,-"]
[null,"Siedepunkt, °C",null,null,"2450",null,null,"Atomradius, Å",null,null,"1.43"]
[null,"Kristallstruktur",null,null,"kubisch, frontzentriert",null,null,"kovalenter Radius, Å",null,null,"1.18"]
[null,"Spezifische Wärme",null,null,"0.215",null,null,"spezifische elektr.",null,null,"0.382"]
[null,"(cal/g/°C)",null,null,null,null,null,"Leitfähigkeit"]
[null,"Elektronen-",null,null,"[Ne]3s^2 3p^1",null,null,"Ionisierungsenergie",null,null,"138"]
[null,"konfiguration",null,null,null,null,null,"für das 1. Elektron"]
[null,"Säure-Base-",null,null,"amphoter",null,null,"zurück zum PSE"]
[null,"Eigenschaften"]
[]
[]
[]
[]
[]
[]
[]
[]
[]
[null,null,"Genauere Informationen"]
[]
[null,"Ordnungszahl",null,null,"14",null,null,"Oxidationszahl",null,null,"4"]
[null,"Symbol",null,null,"Si",null,null,"Elektronegativität",null,null,"1.8"]
[null,"deutscher Name",null,null,"Silicium",null,null,"Verdampfungswärme",null,null,"(40.6)"]
[null,"englischer Name",null,null,"Silicon",null,null,"Schmelzwärme",null,null,"11.1"]
[null,"Atommasse in u",null,null,"28.086",null,null,"Wärmeleitfähigkeit",null,null,"0.20"]
[null,"Dichte (g/ml)",null,null,"2.33",null,null,"Atomvolumen, W/D",null,null,"12.1"]
[null,"Schmelzpunkt, °C",null,null,"1410",null,null,"Ionenradius, Å",null,null,"2.17(-1) , 0.41(+4)"]
[null,"Siedepunkt, °C",null,null,"2680",null,null,"Atomradius, Å",null,null,"1.32"]
[null,"Kristallstruktur",null,null,"diamantartig",null,null,"kovalenter Radius, Å",null,null,"1.11"]
[null,"Spezifische Wärme",null,null,"0.162",null,null,"spezifische elektr.",null,null,"0.10"]
[null,"(cal/g/°C)",null,null,null,null,null,"Leitfähigkeit"]
[null,"Elektronen-",null,null,"[Ne]3s^2 3p^2",null,null,"Ionisierungsenergie",null,null,"188"]
[null,"konfiguration",null,null,null,null,null,"für das 1. Elektron"]
[null,"Säure-Base-",null,null,"amphoter",null,null,"zurück zum PSE"]
[null,"Eigenschaften"]
[]
[]
[]
[]
[]
[]
[]
[]
[]
[null,null,"Genauere Informationen"]
[]
[null,"Ordnungszahl",null,null,"15",null,null,"Oxidationszahl",null,null,"(+/-) 3,5,4"]
[null,"Symbol",null,null,"P",null,null,"Elektronegativität",null,null,"2.1"]
[null,"deutscher Name",null,null,"Phosphor",null,null,"Verdampfungswärme",null,null,"2.97"]
[null,"englischer Name",null,null,"Phosphorus",null,null,"Schmelzwärme",null,null,"0.15"]
[null,"Atommasse in u",null,null,"30.9738",null,null,"Wärmeleitfähigkeit",null,null,"-"]
[null,"Dichte (g/ml)",null,null,"1.82w",null,null,"Atomvolumen, W/D",null,null,"17.0"]
[null,"Schmelzpunkt, °C",null,null,"44.2w",null,null,"Ionenradius, Å",null,null,"2.12(-3) , 0.34(+5)"]
[null,"Siedepunkt, °C",null,null,"280w",null,null,"Atomradius, Å",null,null,"1.28"]
[null,"Kristallstruktur",null,null,"kubisch",null,null,"kovalenter Radius, Å",null,null,"1.06"]
[null,"Spezifische Wärme",null,null,"0.177",null,null,"spezifische elektr.",null,null,"10^-17"]
[null,"(cal/g/°C)",null,null,null,null,null,"Leitfähigkeit"]
[null,"Elektronen-",null,null,"[Ne]3s^2 3p^3",null,null,"Ionisierungsenergie",null,null,"254"]
[null,"konfiguration",null,null,null,null,null,"für das 1. Elektron"]
[null,"Säure-Base-",null,null,"sauer",null,null,"zurück zum PSE"]
[null,"Eigenschaften"]
[]
[]
[]
[]
[]
[]
[]
[]
[]
[null,null,"Genauere Informationen"]
[]
[null,"Ordnungszahl",null,null,"16",null,null,"Oxidationszahl",null,null,"(+/-) 2,4,6"]
[null,"Symbol",null,null,"S",null,null,"Elektronegativität",null,null,"2.5"]
[null,"deutscher Name",null,null,"Schwefel",null,null,"Verdampfungswärme",null,null,"3.01"]
[null,"englischer Name",null,null,"Sulfur",null,null,"Schmelzwärme",null,null,"0.36"]
[null,"Atommasse in u",null,null,"32.064",null,null,"Wärmeleitfähigkeit",null,null,"0.0007"]
[null,"Dichte (g/ml)",null,null,"2.07",null,null,"Atomvolumen, W/D",null,null,"15.5"]
[null,"Schmelzpunkt, °C",null,null,"119.0",null,null,"Ionenradius, Å",null,null,"1.84(-2) , 0.29(+6)"]
[null,"Siedepunkt, °C",null,null,"444.6",null,null,"Atomradius, Å",null,null,"1.27"]
[null,"Kristallstruktur",null,null,"kubisch",null,null,"kovalenter Radius, Å",null,null,"1.02"]
[null,"Spezifische Wärme",null,null,"0.175",null,null,"spezifische elektr.",null,null,"10^-23"]
[null,"(cal/g/°C)",null,null,null,null,null,"Leitfähigkeit"]
[null,"Elektronen-",null,null,"[Ne]3s^2 3p^4",null,null,"Ionisierungsenergie",null,null,"239"]
[null,"konfiguration",null,null,null,null,null,"für das 1. Elektron"]
[null,"Säure-Base-",null,null,"sauer",null,null,"zurück zum PSE"]
[null,"Eigenschaften"]
[]
[]
[]
[]
[]
[]
[]
[]
[null,null,"Genauere Informationen"]
[]
[null,"Ordnungszahl",null,null,"17",null,null,"Oxidationszahl",null,null,"(+/-) 1,3,5,7"]
[null,"Symbol",null,null,"Cl",null,null,"Elektronegativität",null,null,"3.0"]
[null,"deutscher Name",null,null,"Chlor",null,null,"Verdampfungswärme",null,null,"2.44"]
[null,"englischer Name",null,null,"Chlorine",null,null,"Schmelzwärme",null,null,"0.77"]
[null,"Atommasse in u",null,null,"35.453",null,null,"Wärmeleitfähigkeit",null,null,"0.00002"]
[null,"Dichte (g/ml)",null,null,"1.56",null,null,"Atomvolumen, W/D",null,null,"18.7"]
[null,"Schmelzpunkt, °C",null,null,"-101.0",null,null,"Ionenradius, Å",null,null,"1.81(-1) , 0.26(+7)"]
[null,"Siedepunkt, °C",null,null,"-34.7",null,null,"Atomradius, Å",null,null,"-"]
[null,"Kristallstruktur",null,null,"tetragonal",null,null,"kovalenter Radius, Å",null,null,"0.99"]
[null,"Spezifische Wärme",null,null,"0116",null,null,"spezifische elektr.",null,null,"-"]
[null,"(cal/g/°C)",null,null,null,null,null,"Leitfähigkeit"]
[null,"Elektronen-",null,null,"[Ne]3s^2 3p^5",null,null,"Ionisierungsenergie",null,null,"300"]
[null,"konfiguration",null,null,null,null,null,"für das 1. Elektron"]
[null,"Säure-Base-",null,null,"sauer",null,null,"zurück zum PSE"]
[null,"Eigenschaften"]
[]
[]
[]
[]
[]
[]
[]
[]
[]
[null,null,"Genauere Informationen"]
[]
[null,"Ordnungszahl",null,null,"18",null,null,"Oxidationszahl",null,null,"-"]
[null,"Symbol",null,null,"Ar",null,null,"Elektronegativität",null,null,"-"]
[null,"deutscher Name",null,null,"Argon",null,null,"Verdampfungswärme",null,null,"1.56"]
[null,"englischer Name",null,null,"Argon",null,null,"Schmelzwärme",null,null,"0.281"]
[null,"Atommasse in u",null,null,"39.948",null,null,"Wärmeleitfähigkeit",null,null,"0.00004"]
[null,"Dichte (g/ml)",null,null,"1.4",null,null,"Atomvolumen, W/D",null,null,"24.2"]
[null,"Schmelzpunkt, °C",null,null,"-189.4",null,null,"Ionenradius, Å",null,null,"- , -"]
[null,"Siedepunkt, °C",null,null,"-185.8",null,null,"Atomradius, Å",null,null,"-"]
[null,"Kristallstruktur",null,null,"kubisch, frontzentriert",null,null,"kovalenter Radius, Å",null,null,"0.98"]
[null,"Spezifische Wärme",null,null,"0.125",null,null,"spezifische elektr.",null,null,"-"]
[null,"(cal/g/°C)",null,null,null,null,null,"Leitfähigkeit"]
[null,"Elektronen-",null,null,"[Ne]3s^2 3p^6",null,null,"Ionisierungsenergie",null,null,"363"]
[null,"konfiguration",null,null,null,null,null,"für das 1. Elektron"]
[null,"Säure-Base-",null,null,"-",null,null,"zurück zum PSE"]
[null,"Eigenschaften"]
[]
[]
[]
[]
[]
[]
[]
[]
[]
[null,null,"Genauere Informationen"]
[]
[null,"Ordnungszahl",null,null,"19",null,null,"Oxidationszahl",null,null,"1"]
[null,"Symbol",null,null,"K",null,null,"Elektronegativität",null,null,"0.8"]
[null,"deutscher Name",null,null,"Kalium",null,null,"Verdampfungswärme",null,null,"18.9"]
[null,"englischer Name",null,null,"Potassium",null,null,"Schmelzwärme",null,null,"0.55"]
[null,"Atommasse in u",null,null,"39.102",null,null,"Wärmeleitfähigkeit",null,null,"0.23"]
[null,"Dichte (g/ml)",null,null,"0.84",null,null,"Atomvolumen, W/D",null,null,"45.3"]
[null,"Schmelzpunkt, °C",null,null,"63.7",null,null,"Ionenradius, Å",null,null,"1.33(+1) ,-"]
[null,"Siedepunkt, °C",null,null,"760",null,null,"Atomradius, Å",null,null,"2.35"]
[null,"Kristallstruktur",null,null,"kubisch, raumzentriert",null,null,"kovalenter Radius, Å",null,null,"2.03"]
[null,"Spezifische Wärme",null,null,"0.177",null,null,"spezifische elektr.",null,null,"0.143"]
[null,"(cal/g/°C)",null,null,null,null,null,"Leitfähigkeit"]
[null,"Elektronen-",null,null,"[Ar]4s^1",null,null,"Ionisierungsenergie",null,null,"100"]
[null,"konfiguration",null,null,null,null,null,"für das 1. Elektron"]
[null,"Säure-Base-",null,null,"basisch",null,null,"zurück zum PSE"]
[null,"Eigenschaften"]
[]
[]
[]
[]
[]
[]
[]
[]
[]
[null,null,"Genauere Informationen"]
[]
[null,"Ordnungszahl",null,null,"20",null,null,"Oxidationszahl",null,null,"2"]
[null,"Symbol",null,null,"Ca",null,null,"Elektronegativität",null,null,"1.0"]
[null,"deutscher Name",null,null,"Calcium",null,null,"Verdampfungswärme",null,null,"36.74"]
[null,"englischer Name",null,null,"Calcium",null,null,"Schmelzwärme",null,null,"2.1"]
[null,"Atommasse in u",null,null,"40.08",null,null,"Wärmeleitfähigkeit",null,null,"0.3"]
[null,"Dichte (g/ml)",null,null,"1.55838",null,null,"Atomvolumen, W/D",null,null,"29.9"]
[null,"Schmelzpunkt, °C",null,null,"838",null,null,"Ionenradius, Å",null,null,"0.99(+2) ,-"]
[null,"Siedepunkt, °C",null,null,"1440",null,null,"Atomradius, Å",null,null,"1.97"]
[null,"Kristallstruktur",null,null,"kubisch, frontzentriert",null,null,"kovalenter Radius, Å",null,null,"1.74"]
[null,"Spezifische Wärme",null,null,"0.19",null,null,"spezifische elektr.",null,null,"0.218"]
[null,"(cal/g/°C)",null,null,null,null,null,"Leitfähigkeit"]
[null,"Elektronen-",null,null,"[Ar]4s^2",null,null,"Ionisierungsenergie",null,null,"141"]
[null,"konfiguration",null,null,null,null,null,"für das 1. Elektron"]
[null,"Säure-Base-",null,null,"basisch",null,null,"zurück zum PSE"]
[null,"Eigenschaften"]
[]
[]
[]
[]
[]
[]
[]
[]
[]
[null,null,"Genauere Informationen"]
[]
[null,"Ordnungszahl",null,null,"21",null,null,"Oxidationszahl",null,null,"3"]
[null,"Symbol",null,null,"Sc",null,null,"Elektronegativität",null,null,"1.3"]
[null,"deutscher Name",null,null,"Scandium",null,null,"Verdampfungswärme",null,null,"81"]
[null,"englischer Name",null,null,"Scandium",null,null,"Schmelzwärme",null,null,"3.8"]
[null,"Atommasse in u",null,null,"44.956",null,null,"Wärmeleitfähigkeit",null,null,"0.015"]
[null,"Dichte (g/ml)",null,null,"3.0",null,null,"Atomvolumen, W/D",null,null,"15.0"]
[null,"Schmelzpunkt, °C",null,null,"1539",null,null,"Ionenradius, Å",null,null,"0.81(+2) ,-"]
[null,"Siedepunkt, °C",null,null,"2730",null,null,"Atomradius, Å",null,null,"1.62"]
[null,"Kristallstruktur",null,null,"hexagonal",null,null,"kovalenter Radius, Å",null,null,"1.44"]
[null,"Spezifische Wärme",null,null,"0.13",null,null,"spezifische elektr.",null,null,"0.015"]
[null,"(cal/g/°C)",null,null,null,null,null,"Leitfähigkeit"]
[null,"Elektronen-",null,null,"[Ar]3d^1 4s^2",null,null,"Ionisierungsenergie",null,null,"151"]
[null,"konfiguration",null,null,null,null,null,"für das 1. Elektron"]
[null,"Säure-Base-",null,null,"basisch",null,null,"zurück zum PSE"]
[null,"Eigenschaften"]
[]
[]
[]
[]
[]
[]
[]
[]
[]
[null,null,"Genauere Informationen"]
[]
[null,"Ordnungszahl",null,null,"22",null,null,"Oxidationszahl",null,null,"4,3"]
[null,"Symbol",null,null,"Ti",null,null,"Elektronegativität",null,null,"1.5"]
[null,"deutscher Name",null,null,"Titan",null,null,"Verdampfungswärme",null,null,"106.5"]
[null,"englischer Name",null,null,"Titanium",null,null,"Schmelzwärme",null,null,"3.7"]
[null,"Atommasse in u",null,null,"47.90",null,null,"Wärmeleitfähigkeit",null,null,"-"]
[null,"Dichte (g/ml)",null,null,"4.51",null,null,"Atomvolumen, W/D",null,null,"10.6"]
[null,"Schmelzpunkt, °C",null,null,"1668",null,null,"Ionenradius, Å",null,null,"0.90(+2) , 0.68(+4)"]
[null,"Siedepunkt, °C",null,null,"3260",null,null,"Atomradius, Å",null,null,"1.47"]
[null,"Kristallstruktur",null,null,"hexagonal",null,null,"kovalenter Radius, Å",null,null,"1.32"]
[null,"Spezifische Wärme",null,null,"0.126",null,null,"spezifische elektr.",null,null,"0.024"]
[null,"(cal/g/°C)",null,null,null,null,null,"Leitfähigkeit"]
[null,"Elektronen-",null,null,"[Ar]3d^2 4s^2",null,null,"Ionisierungsenergie",null,null,"158"]
[null,"konfiguration",null,null,null,null,null,"für das 1. Elektron"]
[null,"Säure-Base-",null,null,"amphoter",null,null,"zurück zum PSE"]
[null,"Eigenschaften"]
[]
[]
[]
[]
[]
[]
[]
[]
[]
[null,null,"Genauere Informationen"]
[]
[null,"Ordnungszahl",null,null,"23",null,null,"Oxidationszahl",null,null,"5,4,3,2"]
[null,"Symbol",null,null,"V",null,null,"Elektronegativität",null,null,"1.6"]
[null,"deutscher Name",null,null,"Vanadium",null,null,"Verdampfungswärme",null,null,"106"]
[null,"englischer Name",null,null,"Vanadium",null,null,"Schmelzwärme",null,null,"4.2"]
[null,"Atommasse in u",null,null,"50.942",null,null,"Wärmeleitfähigkeit",null,null,"-"]
[null,"Dichte (g/ml)",null,null,"6.1",null,null,"Atomvolumen, W/D",null,null,"8.35"]
[null,"Schmelzpunkt, °C",null,null,"1900",null,null,"Ionenradius, Å",null,null,"0.74(-3) , 0.59(-5)"]
[null,"Siedepunkt, °C",null,null,"3450",null,null,"Atomradius, Å",null,null,"1.34"]
[null,"Kristallstruktur",null,null,"kubisch, raumzentriert",null,null,"kovalenter Radius, Å",null,null,"1.22"]
[null,"Spezifische Wärme",null,null,"0.120",null,null,"spezifische elektr.",null,null,"0.04"]
[null,"(cal/g/°C)",null,null,null,null,null,"Leitfähigkeit"]
[null,"Elektronen-",null,null,"[Ar]3d^3 4s^2",null,null,"Ionisierungsenergie",null,null,"156"]
[null,"konfiguration",null,null,null,null,null,"für das 1. Elektron"]
[null,"Säure-Base-",null,null,"amphoter",null,null,"zurück zum PSE"]
[null,"Eigenschaften"]
[]
[]
[]
[]
[]
[]
[]
[]
[]
[null,null,"Genauere Informationen"]
[]
[null,"Ordnungszahl",null,null,"24",null,null,"Oxidationszahl",null,null,"6,3,2"]
[null,"Symbol",null,null,"Cr",null,null,"Elektronegativität",null,null,"1.6"]
[null,"deutscher Name",null,null,"Chrom",null,null,"Verdampfungswärme",null,null,"72.97"]
[null,"englischer Name",null,null,"Chromium",null,null,"Schmelzwärme",null,null,"3.3"]
[null,"Atommasse in u",null,null,"51.996",null,null,"Wärmeleitfähigkeit",null,null,"0.16"]
[null,"Dichte (g/ml)",null,null,"7.19",null,null,"Atomvolumen, W/D",null,null,"7.23"]
[null,"Schmelzpunkt, °C",null,null,"1875",null,null,"Ionenradius, Å",null,null,"0.69(+3) , 0.52(+6)"]
[null,"Siedepunkt, °C",null,null,"2665",null,null,"Atomradius, Å",null,null,"1.30"]
[null,"Kristallstruktur",null,null,"kubisch, raumzentriert",null,null,"kovalenter Radius, Å",null,null,"1.18"]
[null,"Spezifische Wärme",null,null,"0.11",null,null,"spezifische elektr.",null,null,"0.078"]
[null,"(cal/g/°C)",null,null,null,null,null,"Leitfähigkeit"]
[null,"Elektronen-",null,null,"[Ar]3d^5 4s^1",null,null,"Ionisierungsenergie",null,null,"156"]
[null,"konfiguration",null,null,null,null,null,"für das 1. Elektron"]
[null,"Säure-Base-",null,null,"sauer",null,null,"zurück zum PSE"]
[null,"Eigenschaften"]
[]
[]
[]
[]
[]
[]
[]
[]
[]
[null,null,"Genauere Informationen"]
[]
[null,"Ordnungszahl",null,null,"25",null,null,"Oxidationszahl",null,null,"7,6,4,2,3"]
[null,"Symbol",null,null,"Mn",null,null,"Elektronegativität",null,null,"1.5"]
[null,"deutscher Name",null,null,"Mangan",null,null,"Verdampfungswärme",null,null,"53.7"]
[null,"englischer Name",null,null,"Manganese",null,null,"Schmelzwärme",null,null,"3.50"]
[null,"Atommasse in u",null,null,"54.938",null,null,"Wärmeleitfähigkeit",null,null,"-"]
[null,"Dichte (g/ml)",null,null,"7.43",null,null,"Atomvolumen, W/D",null,null,"7.39"]
[null,"Schmelzpunkt, °C",null,null,"1245",null,null,"Ionenradius, Å",null,null,"0.80(+2) , 0.46(+2)"]
[null,"Siedepunkt, °C",null,null,"2150",null,null,"Atomradius, Å",null,null,"1.35"]
[null,"Kristallstruktur",null,null,"kubisch",null,null,"kovalenter Radius, Å",null,null,"1.17"]
[null,"Spezifische Wärme",null,null,"0.115",null,null,"spezifische elektr.",null,null,"0.054"]
[null,"(cal/g/°C)",null,null,null,null,null,"Leitfähigkeit"]
[null,"Elektronen-",null,null,"[Ar]3d^5 4s^2",null,null,"Ionisierungsenergie",null,null,"171"]
[null,"konfiguration",null,null,null,null,null,"für das 1. Elektron"]
[null,"Säure-Base-",null,null,"sauer",null,null,"zurück zum PSE"]
[null,"Eigenschaften"]
[]
[]
[]
[]
[]
[]
[]
[]
[]
[null,null,"Genauere Informationen"]
[]
[null,"Ordnungszahl",null,null,"26",null,null,"Oxidationszahl",null,null,"2,3"]
[null,"Symbol",null,null,"Fe",null,null,"Elektronegativität",null,null,"1.8"]
[null,"deutscher Name",null,null,"Eisen",null,null,"Verdampfungswärme",null,null,"84.6"]
[null,"englischer Name",null,null,"Iron",null,null,"Schmelzwärme",null,null,"3.67"]
[null,"Atommasse in u",null,null,"55.847",null,null,"Wärmeleitfähigkeit",null,null,"0.18"]
[null,"Dichte (g/ml)",null,null,"7.86",null,null,"Atomvolumen, W/D",null,null,"7.1"]
[null,"Schmelzpunkt, °C",null,null,"1536",null,null,"Ionenradius, Å",null,null,"0.76(+2) , 0.64(+3)"]
[null,"Siedepunkt, °C",null,null,"3000",null,null,"Atomradius, Å",null,null,"1.26"]
[null,"Kristallstruktur",null,null,"kubisch, raumzentriert",null,null,"kovalenter Radius, Å",null,null,"1.17"]
[null,"Spezifische Wärme",null,null,"0.11",null,null,"spezifische elektr.",null,null,"0.10"]
[null,"(cal/g/°C)",null,null,null,null,null,"Leitfähigkeit"]
[null,"Elektronen-",null,null,"[Ar]3d^6 4s^2",null,null,"Ionisierungsenergie",null,null,"182"]
[null,"konfiguration",null,null,null,null,null,"für das 1. Elektron"]
[null,"Säure-Base-",null,null,"amphoter",null,null,"zurück zum PSE"]
[null,"Eigenschaften"]
[]
[]
[]
[]
[]
[]
[]
[]
[]
[null,null,"Genauere Informationen"]
[]
[null,"Ordnungszahl",null,null,"27",null,null,"Oxidationszahl",null,null,"2,3"]
[null,"Symbol",null,null,"Co",null,null,"Elektronegativität",null,null,"1.8"]
[null,"deutscher Name",null,null,"Cobalt",null,null,"Verdampfungswärme",null,null,"97"]
[null,"englischer Name",null,null,"Cobalt",null,null,"Schmelzwärme",null,null,"3.64"]
[null,"Atommasse in u",null,null,"58.933",null,null,"Wärmeleitfähigkeit",null,null,"0.16"]
[null,"Dichte (g/ml)",null,null,"8.9",null,null,"Atomvolumen, W/D",null,null,"6.7"]
[null,"Schmelzpunkt, °C",null,null,"1495",null,null,"Ionenradius, Å",null,null,"0.74(+2) , 0.63(+3)"]
[null,"Siedepunkt, °C",null,null,"2900",null,null,"Atomradius, Å",null,null,"1.25"]
[null,"Kristallstruktur",null,null,"hexagonal",null,null,"kovalenter Radius, Å",null,null,"1.16"]
[null,"Spezifische Wärme",null,null,"0.099",null,null,"spezifische elektr.",null,null,"0.16"]
[null,"(cal/g/°C)",null,null,null,null,null,"Leitfähigkeit"]
[null,"Elektronen-",null,null,"[Ar]3d^7 4s^2",null,null,"Ionisierungsenergie",null,null,"181"]
[null,"konfiguration",null,null,null,null,null,"für das 1. Elektron"]
[null,"Säure-Base-",null,null,"amphoter",null,null,"zurück zum PSE"]
[null,"Eigenschaften"]
[]
[]
[]
[]
[]
[]
[]
[]
[]
[null,null,"Genauere Informationen"]
[]
[null,"Ordnungszahl",null,null,"28",null,null,"Oxidationszahl",null,null,"2,3"]
[null,"Symbol",null,null,"Ni",null,null,"Elektronegativität",null,null,"1.8"]
[null,"deutscher Name",null,null,"Nickel",null,null,"Verdampfungswärme",null,null,"91.0"]
[null,"englischer Name",null,null,"Nickel",null,null,"Schmelzwärme",null,null,"4.21"]
[null,"Atommasse in u",null,null,"58.71",null,null,"Wärmeleitfähigkeit",null,null,"0.22"]
[null,"Dichte (g/ml)",null,null,"8.9",null,null,"Atomvolumen, W/D",null,null,"6.6"]
[null,"Schmelzpunkt, °C",null,null,"1453",null,null,"Ionenradius, Å",null,null,"0.62(+2) , 0.62(+3)"]
[null,"Siedepunkt, °C",null,null,"2730",null,null,"Atomradius, Å",null,null,"1.24"]
[null,"Kristallstruktur",null,null,"kubisch, frontzentriert",null,null,"kovalenter Radius, Å",null,null,"1.15"]
[null,"Spezifische Wärme",null,null,"0.105",null,null,"spezifische elektr.",null,null,"0.145"]
[null,"(cal/g/°C)",null,null,null,null,null,"Leitfähigkeit"]
[null,"Elektronen-",null,null,"[Ar]3d^8 4s^2",null,null,"Ionisierungsenergie",null,null,"176"]
[null,"konfiguration",null,null,null,null,null,"für das 1. Elektron"]
[null,"Säure-Base-",null,null,"basisch",null,null,"zurück zum PSE"]
[null,"Eigenschaften"]
[]
[]
[]
[]
[]
[]
[]
[]
[]
[null,null,"Genauere Informationen"]
[]
[null,"Ordnungszahl",null,null,"29",null,null,"Oxidationszahl",null,null,"2,1"]
[null,"Symbol",null,null,"Cu",null,null,"Elektronegativität",null,null,"1.9"]
[null,"deutscher Name",null,null,"Kupfer",null,null,"Verdampfungswärme",null,null,"72.8"]
[null,"englischer Name",null,null,"Copper",null,null,"Schmelzwärme",null,null,"3.11"]
[null,"Atommasse in u",null,null,"63.54",null,null,"Wärmeleitfähigkeit",null,null,"0.94"]
[null,"Dichte (g/ml)",null,null,"8.96",null,null,"Atomvolumen, W/D",null,null,"7.1"]
[null,"Schmelzpunkt, °C",null,null,"1083",null,null,"Ionenradius, Å",null,null,"0.96(+1) , 0.69(+2)"]
[null,"Siedepunkt, °C",null,null,"2595",null,null,"Atomradius, Å",null,null,"1.28"]
[null,"Kristallstruktur",null,null,"kubisch, frontzentriert",null,null,"kovalenter Radius, Å",null,null,"1.17"]
[null,"Spezifische Wärme",null,null,"0.092",null,null,"spezifische elektr.",null,null,"0.593"]
[null,"(cal/g/°C)",null,null,null,null,null,"Leitfähigkeit"]
[null,"Elektronen-",null,null,"[Ar]3d^10 4s^1",null,null,"Ionisierungsenergie",null,null,"178"]
[null,"konfiguration",null,null,null,null,null,"für das 1. Elektron"]
[null,"Säure-Base-",null,null,"basisch",null,null,"zurück zum PSE"]
[null,"Eigenschaften"]
[]
[]
[]
[]
[]
[]
[]
[]
[]
[null,null,"Genauere Informationen"]
[]
[null,"Ordnungszahl",null,null,"30",null,null,"Oxidationszahl",null,null,"2"]
[null,"Symbol",null,null,"Zn",null,null,"Elektronegativität",null,null,"1.6"]
[null,"deutscher Name",null,null,"Zink",null,null,"Verdampfungswärme",null,null,"27.4"]
[null,"englischer Name",null,null,"Zinc",null,null,"Schmelzwärme",null,null,"1.76"]
[null,"Atommasse in u",null,null,"65.37",null,null,"Wärmeleitfähigkeit",null,null,"0.27"]
[null,"Dichte (g/ml)",null,null,"7.14",null,null,"Atomvolumen, W/D",null,null,"9.2"]
[null,"Schmelzpunkt, °C",null,null,"419.5",null,null,"Ionenradius, Å",null,null,"0.74(+2) , -"]
[null,"Siedepunkt, °C",null,null,"906",null,null,"Atomradius, Å",null,null,"1.38"]
[null,"Kristallstruktur",null,null,"hexagonal",null,null,"kovalenter Radius, Å",null,null,"1.25"]
[null,"Spezifische Wärme",null,null,"0.0915",null,null,"spezifische elektr.",null,null,"0.167"]
[null,"(cal/g/°C)",null,null,null,null,null,"Leitfähigkeit"]
[null,"Elektronen-",null,null,"[Ar]3d^10 4s^2",null,null,"Ionisierungsenergie",null,null,"216"]
[null,"konfiguration",null,null,null,null,null,"für das 1. Elektron"]
[null,"Säure-Base-",null,null,"amphoter",null,null,"zurück zum PSE"]
[null,"Eigenschaften"]
[]
[]
[]
[]
[]
[]
[]
[]
[]
[null,null,"Genauere Informationen"]
[]
[null,"Ordnungszahl",null,null,"31",null,null,"Oxidationszahl",null,null,"3"]
[null,"Symbol",null,null,"Ga",null,null,"Elektronegativität",null,null,"1.6"]
[null,"deutscher Name",null,null,"Gallium",null,null,"Verdampfungswärme",null,null,"-"]
[null,"englischer Name",null,null,"Gallium",null,null,"Schmelzwärme",null,null,"1.34"]
[null,"Atommasse in u",null,null,"69.72",null,null,"Wärmeleitfähigkeit",null,null,"-"]
[null,"Dichte (g/ml)",null,null,"5.91",null,null,"Atomvolumen, W/D",null,null,"11.8"]
[null,"Schmelzpunkt, °C",null,null,"29.8",null,null,"Ionenradius, Å",null,null,"1.13(+1) , 0.62(+3)"]
[null,"Siedepunkt, °C",null,null,"2237",null,null,"Atomradius, Å",null,null,"1.41"]
[null,"Kristallstruktur",null,null,"kubisch",null,null,"kovalenter Radius, Å",null,null,"1.26"]
[null,"Spezifische Wärme",null,null,"0.079",null,null,"spezifische elektr.",null,null,"0.058"]
[null,"(cal/g/°C)",null,null,null,null,null,"Leitfähigkeit"]
[null,"Elektronen-",null,null,"[Ar]3d^10 4s^2 4p^1",null,null,"Ionisierungsenergie",null,null,"138"]
[null,"konfiguration",null,null,null,null,null,"für das 1. Elektron"]
[null,"Säure-Base-",null,null,"amphoter",null,null,"zurück zum PSE"]
[null,"Eigenschaften"]
[]
[]
[]
[]
[]
[]
[]
[]
[]
[null,null,"Genauere Informationen"]
[]
[null,"Ordnungszahl",null,null,"32",null,null,"Oxidationszahl",null,null,"4"]
[null,"Symbol",null,null,"Ge",null,null,"Elektronegativität",null,null,"1.8"]
[null,"deutscher Name",null,null,"Germanium",null,null,"Verdampfungswärme",null,null,"68"]
[null,"englischer Name",null,null,"Germanium",null,null,"Schmelzwärme",null,null,"7.6"]
[null,"Atommasse in u",null,null,"72.59",null,null,"Wärmeleitfähigkeit",null,null,"0.14"]
[null,"Dichte (g/ml)",null,null,"5.32",null,null,"Atomvolumen, W/D",null,null,"13.6"]
[null,"Schmelzpunkt, °C",null,null,"937.4",null,null,"Ionenradius, Å",null,null,"0.93(+2) , 0.53(+4)"]
[null,"Siedepunkt, °C",null,null,"2830",null,null,"Atomradius, Å",null,null,"1.37"]
[null,"Kristallstruktur",null,null,"diamantartig",null,null,"kovalenter Radius, Å",null,null,"1.22"]
[null,"Spezifische Wärme",null,null,"0.073",null,null,"spezifische elektr.",null,null,"0.022"]
[null,"(cal/g/°C)",null,null,null,null,null,"Leitfähigkeit"]
[null,"Elektronen-",null,null,"[Ar]3d^10 4s^2 4p^2",null,null,"Ionisierungsenergie",null,null,"187"]
[null,"konfiguration",null,null,null,null,null,"für das 1. Elektron"]
[null,"Säure-Base-",null,null,"amphoter",null,null,"zurück zum PSE"]
[null,"Eigenschaften"]
[]
[]
[]
[]
[]
[]
[]
[]
[]
[null,null,"Genauere Informationen"]
[]
[null,"Ordnungszahl",null,null,"33",null,null,"Oxidationszahl",null,null,"(+/-)3,5"]
[null,"Symbol",null,null,"As",null,null,"Elektronegativität",null,null,"2.0"]
[null,"deutscher Name",null,null,"Arsen",null,null,"Verdampfungswärme",null,null,"7.75"]
[null,"englischer Name",null,null,"Arsenic",null,null,"Schmelzwärme",null,null,"6.62"]
[null,"Atommasse in u",null,null,"74.922",null,null,"Wärmeleitfähigkeit",null,null,"-"]
[null,"Dichte (g/ml)",null,null,"5.72",null,null,"Atomvolumen, W/D",null,null,"13.1"]
[null,"Schmelzpunkt, °C",null,null,"817",null,null,"Ionenradius, Å",null,null,"2.22(-3) , 0.47(+5)"]
[null,"Siedepunkt, °C",null,null,"613*",null,null,"Atomradius, Å",null,null,"1.39"]
[null,"Kristallstruktur",null,null,"rhombohedral",null,null,"kovalenter Radius, Å",null,null,"1.20"]
[null,"Spezifische Wärme",null,null,"0.082",null,null,"spezifische elektr.",null,null,"0.029"]
[null,"(cal/g/°C)",null,null,null,null,null,"Leitfähigkeit"]
[null,"Elektronen-",null,null,"[Ar]3d^10 4s^2 4p^3",null,null,"Ionisierungsenergie",null,null,"231"]
[null,"konfiguration",null,null,null,null,null,"für das 1. Elektron"]
[null,"Säure-Base-",null,null,"sauer",null,null,"zurück zum PSE"]
[null,"Eigenschaften"]
[]
[]
[]
[]
[]
[]
[]
[]
[]
[null,null,"Genauere Informationen"]
[]
[null,"Ordnungszahl",null,null,"34",null,null,"Oxidationszahl",null,null,"- 2,4,6"]
[null,"Symbol",null,null,"Se",null,null,"Elektronegativität",null,null,"2.4"]
[null,"deutscher Name",null,null,"Selen",null,null,"Verdampfungswärme",null,null,"3.34"]
[null,"englischer Name",null,null,"Selenium",null,null,"Schmelzwärme",null,null,"1.25"]
[null,"Atommasse in u",null,null,"78.96",null,null,"Wärmeleitfähigkeit",null,null,"0.00001"]
[null,"Dichte (g/ml)",null,null,"4.79",null,null,"Atomvolumen, W/D",null,null,"16.5"]
[null,"Schmelzpunkt, °C",null,null,"217",null,null,"Ionenradius, Å",null,null,"1.98(-2) , 0.42(+6)"]
[null,"Siedepunkt, °C",null,null,"685",null,null,"Atomradius, Å",null,null,"1.40"]
[null,"Kristallstruktur",null,null,"hexagonal",null,null,"kovalenter Radius, Å",null,null,"1.16"]
[null,"Spezifische Wärme",null,null,"0.084",null,null,"spezifische elektr.",null,null,"0.08"]
[null,"(cal/g/°C)",null,null,null,null,null,"Leitfähigkeit"]
[null,"Elektronen-",null,null,"[Ar]3d^10 4s^2 4p^4",null,null,"Ionisierungsenergie",null,null,"225"]
[null,"konfiguration",null,null,null,null,null,"für das 1. Elektron"]
[null,"Säure-Base-",null,null,"sauer",null,null,"zurück zum PSE"]
[null,"Eigenschaften"]
[]
[]
[]
[]
[]
[]
[]
[]
[]
[null,null,"Genauere Informationen"]
[]
[null,"Ordnungszahl",null,null,"35",null,null,"Oxidationszahl",null,null,"(+/-) 1,5"]
[null,"Symbol",null,null,"Br",null,null,"Elektronegativität",null,null,"2.8"]
[null,"deutscher Name",null,null,"Brom",null,null,"Verdampfungswärme",null,null,"3.58"]
[null,"englischer Name",null,null,"Bromine",null,null,"Schmelzwärme",null,null,"1.26"]
[null,"Atommasse in u",null,null,"79.909",null,null,"Wärmeleitfähigkeit",null,null,"-"]
[null,"Dichte (g/ml)",null,null,"3.12",null,null,"Atomvolumen, W/D",null,null,"23.5"]
[null,"Schmelzpunkt, °C",null,null,"-7.2",null,null,"Ionenradius, Å",null,null,"1.95(-1) , 0.39(+7)"]
[null,"Siedepunkt, °C",null,null,"58",null,null,"Atomradius, Å",null,null,"-"]
[null,"Kristallstruktur",null,null,"kubisch",null,null,"kovalenter Radius, Å",null,null,"1.14"]
[null,"Spezifische Wärme",null,null,"0.070",null,null,"spezifische elektr.",null,null,"10^-18"]
[null,"(cal/g/°C)",null,null,null,null,null,"Leitfähigkeit"]
[null,"Elektronen-",null,null,"[Ar]3d^10 4s^2 4p^5",null,null,"Ionisierungsenergie",null,null,"273"]
[null,"konfiguration",null,null,null,null,null,"für das 1. Elektron"]
[null,"Säure-Base-",null,null,"sauer",null,null,"zurück zum PSE"]
[null,"Eigenschaften"]
[]
[]
[]
[]
[]
[]
[]
[]
[]
[null,null,"Genauere Informationen"]
[]
[null,"Ordnungszahl",null,null,"36",null,null,"Oxidationszahl",null,null,"-"]
[null,"Symbol",null,null,"Kr",null,null,"Elektronegativität",null,null,"-"]
[null,"deutscher Name",null,null,"Krypton",null,null,"Verdampfungswärme",null,null,"2.16"]
[null,"englischer Name",null,null,"Krypton",null,null,"Schmelzwärme",null,null,"0.39"]
[null,"Atommasse in u",null,null,"83.80",null,null,"Wärmeleitfähigkeit",null,null,"0.00002"]
[null,"Dichte (g/ml)",null,null,"2.6",null,null,"Atomvolumen, W/D",null,null,"32.2"]
[null,"Schmelzpunkt, °C",null,null,"-157.3",null,null,"Ionenradius, Å",null,null,"- , -"]
[null,"Siedepunkt, °C",null,null,"-152",null,null,"Atomradius, Å",null,null,"-"]
[null,"Kristallstruktur",null,null,"kubisch, frontzentriert",null,null,"kovalenter Radius, Å",null,null,"1.12"]
[null,"Spezifische Wärme",null,null,"-",null,null,"spezifische elektr.",null,null,"-"]
[null,"(cal/g/°C)",null,null,null,null,null,"Leitfähigkeit"]
[null,"Elektronen-",null,null,"[Ar]3d^10 4s^2 4p^6",null,null,"Ionisierungsenergie",null,null,"323"]
[null,"konfiguration",null,null,null,null,null,"für das 1. Elektron"]
[null,"Säure-Base-",null,null,"-",null,null,"zurück zum PSE"]
[null,"Eigenschaften"]
[]
[]
[]
[]
[]
[]
[]
[]
[]
[null,null,"Genauere Informationen"]
[]
[null,"Ordnungszahl",null,null,"37",null,null,"Oxidationszahl",null,null,"1"]
[null,"Symbol",null,null,"Rb",null,null,"Elektronegativität",null,null,"0.8"]
[null,"deutscher Name",null,null,"Rubidium",null,null,"Verdampfungswärme",null,null,"18.1"]
[null,"englischer Name",null,null,"Rubidium",null,null,"Schmelzwärme",null,null,"0.55"]
[null,"Atommasse in u",null,null,"85.47",null,null,"Wärmeleitfähigkeit",null,null,"-"]
[null,"Dichte (g/ml)",null,null,"1.53",null,null,"Atomvolumen, W/D",null,null,"55.9"]
[null,"Schmelzpunkt, °C",null,null,"38.9",null,null,"Ionenradius, Å",null,null,"1.48(+1) , -"]
[null,"Siedepunkt, °C",null,null,"688",null,null,"Atomradius, Å",null,null,"2.48"]
[null,"Kristallstruktur",null,null,"kubisch, raumzentriert",null,null,"kovalenter Radius, Å",null,null,"2.16"]
[null,"Spezifische Wärme",null,null,"0.080",null,null,"spezifische elektr.",null,null,"0.080"]
[null,"(cal/g/°C)",null,null,null,null,null,"Leitfähigkeit"]
[null,"Elektronen-",null,null,"[Kr]5s^1",null,null,"Ionisierungsenergie",null,null,"96"]
[null,"konfiguration",null,null,null,null,null,"für das 1. Elektron"]
[null,"Säure-Base-",null,null,"basisch",null,null,"zurück zum PSE"]
[null,"Eigenschaften"]
[]
[]
[]
[]
[]
[]
[]
[]
[]
[null,null,"Genauere Informationen"]
[]
[null,"Ordnungszahl",null,null,"38",null,null,"Oxidationszahl",null,null,"2"]
[null,"Symbol",null,null,"Sr",null,null,"Elektronegativität",null,null,"1.0"]
[null,"deutscher Name",null,null,"Strontium",null,null,"Verdampfungswärme",null,null,"33.8"]
[null,"englischer Name",null,null,"Strontium",null,null,"Schmelzwärme",null,null,"2.1"]
[null,"Atommasse in u",null,null,"87.62",null,null,"Wärmeleitfähigkeit",null,null,"-"]
[null,"Dichte (g/ml)",null,null,"2.6",null,null,"Atomvolumen, W/D",null,null,"33.7"]
[null,"Schmelzpunkt, °C",null,null,"768",null,null,"Ionenradius, Å",null,null,"1.13(+2) , -"]
[null,"Siedepunkt, °C",null,null,"1380",null,null,"Atomradius, Å",null,null,"2.15"]
[null,"Kristallstruktur",null,null,"kubisch, frontzentriert",null,null,"kovalenter Radius, Å",null,null,"1.91"]
[null,"Spezifische Wärme",null,null,"0.176",null,null,"spezifische elektr.",null,null,"0.043"]
[null,"(cal/g/°C)",null,null,null,null,null,"Leitfähigkeit"]
[null,"Elektronen-",null,null,"[Kr]5s^2",null,null,"Ionisierungsenergie",null,null,"131"]
[null,"konfiguration",null,null,null,null,null,"für das 1. Elektron"]
[null,"Säure-Base-",null,null,"basisch",null,null,"zurück zum PSE"]
[null,"Eigenschaften"]
[]
[]
[]
[]
[]
[]
[]
[]
[]
[null,null,"Genauere Informationen"]
[]
[null,"Ordnungszahl",null,null,"39",null,null,"Oxidationszahl",null,null,"3"]
[null,"Symbol",null,null,"Y",null,null,"Elektronegativität",null,null,"1.3"]
[null,"deutscher Name",null,null,"Yttrium",null,null,"Verdampfungswärme",null,null,"93"]
[null,"englischer Name",null,null,"Yttrium",null,null,"Schmelzwärme",null,null,"2.7"]
[null,"Atommasse in u",null,null,"88.905",null,null,"Wärmeleitfähigkeit",null,null,"0.035"]
[null,"Dichte (g/ml)",null,null,"4.47",null,null,"Atomvolumen, W/D",null,null,"19.8"]
[null,"Schmelzpunkt, °C",null,null,"1509",null,null,"Ionenradius, Å",null,null,"0.93(+3) , -"]
[null,"Siedepunkt, °C",null,null,"2927",null,null,"Atomradius, Å",null,null,"1.78"]
[null,"Kristallstruktur",null,null,"hexagonal",null,null,"kovalenter Radius, Å",null,null,"1.62"]
[null,"Spezifische Wärme",null,null,"0.071",null,null,"spezifische elektr.",null,null,"0.019"]
[null,"(cal/g/°C)",null,null,null,null,null,"Leitfähigkeit"]
[null,"Elektronen-",null,null,"[Kr]4d^1 5s^2",null,null,"Ionisierungsenergie",null,null,"152"]
[null,"konfiguration",null,null,null,null,null,"für das 1. Elektron"]
[null,"Säure-Base-",null,null,"basisch",null,null,"zurück zum PSE"]
[null,"Eigenschaften"]
[]
[]
[]
[]
[]
[]
[]
[]
[]
[null,null,"Genauere Informationen"]
[]
[null,"Ordnungszahl",null,null,"40",null,null,"Oxidationszahl",null,null,"4"]
[null,"Symbol",null,null,"Zr",null,null,"Elektronegativität",null,null,"1.4"]
[null,"deutscher Name",null,null,"Zirconium",null,null,"Verdampfungswärme",null,null,"120"]
[null,"englischer Name",null,null,"Zirconium",null,null,"Schmelzwärme",null,null,"4.0"]
[null,"Atommasse in u",null,null,"91.22",null,null,"Wärmeleitfähigkeit",null,null,"-"]
[null,"Dichte (g/ml)",null,null,"6.49",null,null,"Atomvolumen, W/D",null,null,"14.1"]
[null,"Schmelzpunkt, °C",null,null,"1852",null,null,"Ionenradius, Å",null,null,"0.80(+4) , -"]
[null,"Siedepunkt, °C",null,null,"3580",null,null,"Atomradius, Å",null,null,"1.60"]
[null,"Kristallstruktur",null,null,"hexagonal",null,null,"kovalenter Radius, Å",null,null,"1.45"]
[null,"Spezifische Wärme",null,null,"0.066",null,null,"spezifische elektr.",null,null,"0.024"]
[null,"(cal/g/°C)",null,null,null,null,null,"Leitfähigkeit"]
[null,"Elektronen-",null,null,"[Kr]4d^2 5s^2",null,null,"Ionisierungsenergie",null,null,"160"]
[null,"konfiguration",null,null,null,null,null,"für das 1. Elektron"]
[null,"Säure-Base-",null,null,"amphoter",null,null,"zurück zum PSE"]
[null,"Eigenschaften"]
[]
[]
[]
[]
[]
[]
[]
[]
[]
[null,null,"Genauere Informationen"]
[]
[null,"Ordnungszahl",null,null,"41",null,null,"Oxidationszahl",null,null,"5,3"]
[null,"Symbol",null,null,"Nb",null,null,"Elektronegativität",null,null,"1.6"]
[null,"deutscher Name",null,null,"Niob",null,null,"Verdampfungswärme",null,null,"-"]
[null,"englischer Name",null,null,"Niobium",null,null,"Schmelzwärme",null,null,"6.4"]
[null,"Atommasse in u",null,null,"92.906",null,null,"Wärmeleitfähigkeit",null,null,"0.125"]
[null,"Dichte (g/ml)",null,null,"8.4",null,null,"Atomvolumen, W/D",null,null,"10.8"]
[null,"Schmelzpunkt, °C",null,null,"2468",null,null,"Ionenradius, Å",null,null,"0.70(+5) , -"]
[null,"Siedepunkt, °C",null,null,"3300",null,null,"Atomradius, Å",null,null,"1.46"]
[null,"Kristallstruktur",null,null,"kubisch, raumzentriert",null,null,"kovalenter Radius, Å",null,null,"1.34"]
[null,"Spezifische Wärme",null,null,"0.065",null,null,"spezifische elektr.",null,null,"0.080"]
[null,"(cal/g/°C)",null,null,null,null,null,"Leitfähigkeit"]
[null,"Elektronen-",null,null,"[Kr]4d^4 5s^1",null,null,"Ionisierungsenergie",null,null,"156"]
[null,"konfiguration",null,null,null,null,null,"für das 1. Elektron"]
[null,"Säure-Base-",null,null,"sauer",null,null,"zurück zum PSE"]
[null,"Eigenschaften"]
[]
[]
[]
[]
[]
[]
[]
[]
[]
[null,null,"Genauere Informationen"]
[]
[null,"Ordnungszahl",null,null,"42",null,null,"Oxidationszahl",null,null,"6,5,4,3,2"]
[null,"Symbol",null,null,"Mo",null,null,"Elektronegativität",null,null,"1.8"]
[null,"deutscher Name",null,null,"Molybdän",null,null,"Verdampfungswärme",null,null,"128"]
[null,"englischer Name",null,null,"Moybdenium",null,null,"Schmelzwärme",null,null,"6.6"]
[null,"Atommasse in u",null,null,"95.94",null,null,"Wärmeleitfähigkeit",null,null,"0.35"]
[null,"Dichte (g/ml)",null,null,"10.2",null,null,"Atomvolumen, W/D",null,null,"9.4"]
[null,"Schmelzpunkt, °C",null,null,"2610",null,null,"Ionenradius, Å",null,null,"0.68(+4) , 0.62(+6)"]
[null,"Siedepunkt, °C",null,null,"5560",null,null,"Atomradius, Å",null,null,"1.39"]
[null,"Kristallstruktur",null,null,"kubisch, raumzentriert",null,null,"kovalenter Radius, Å",null,null,"1.30"]
[null,"Spezifische Wärme",null,null,"0.061",null,null,"spezifische elektr.",null,null,"0.19"]
[null,"(cal/g/°C)",null,null,null,null,null,"Leitfähigkeit"]
[null,"Elektronen-",null,null,"[Kr]4d^5 5s^1",null,null,"Ionisierungsenergie",null,null,"166"]
[null,"konfiguration",null,null,null,null,null,"für das 1. Elektron"]
[null,"Säure-Base-",null,null,"sauer",null,null,"zurück zum PSE"]
[null,"Eigenschaften"]
[]
[]
[]
[]
[]
[]
[]
[]
[]
[null,null,"Genauere Informationen"]
[]
[null,"Ordnungszahl",null,null,"43",null,null,"Oxidationszahl",null,null,"7"]
[null,"Symbol",null,null,"Tc",null,null,"Elektronegativität",null,null,"1.9"]
[null,"deutscher Name",null,null,"Technetium",null,null,"Verdampfungswärme",null,null,"120"]
[null,"englischer Name",null,null,"Technetium",null,null,"Schmelzwärme",null,null,"5.5"]
[null,"Atommasse in u",null,null,"(98)",null,null,"Wärmeleitfähigkeit",null,null,"-"]
[null,"Dichte (g/ml)",null,null,"11.5",null,null,"Atomvolumen, W/D",null,null,"-"]
[null,"Schmelzpunkt, °C",null,null,"2140",null,null,"Ionenradius, Å",null,null,"- , -"]
[null,"Siedepunkt, °C",null,null,"-",null,null,"Atomradius, Å",null,null,"1.36"]
[null,"Kristallstruktur",null,null,"-",null,null,"kovalenter Radius, Å",null,null,"1.27"]
[null,"Spezifische Wärme",null,null,"-",null,null,"spezifische elektr.",null,null,"-"]
[null,"(cal/g/°C)",null,null,null,null,null,"Leitfähigkeit"]
[null,"Elektronen-",null,null,"[Kr]4d^5 5s^2",null,null,"Ionisierungsenergie",null,null,"167"]
[null,"konfiguration",null,null,null,null,null,"für das 1. Elektron"]
[null,"Säure-Base-",null,null,"sauer",null,null,"zurück zum PSE"]
[null,"Eigenschaften"]
[]
[]
[]
[]
[]
[]
[]
[]
[]
[null,null,"Genauere Informationen"]
[]
[null,"Ordnungszahl",null,null,"44",null,null,"Oxidationszahl",null,null,"2,3,4,6,8"]
[null,"Symbol",null,null,"Ru",null,null,"Elektronegativität",null,null,"2.2"]
[null,"deutscher Name",null,null,"Ruthentium",null,null,"Verdampfungswärme",null,null,"148"]
[null,"englischer Name",null,null,"Ruthentium",null,null,"Schmelzwärme",null,null,"6.1"]
[null,"Atommasse in u",null,null,"101.07",null,null,"Wärmeleitfähigkeit",null,null,"-"]
[null,"Dichte (g/ml)",null,null,"12.2",null,null,"Atomvolumen, W/D",null,null,"8.3"]
[null,"Schmelzpunkt, °C",null,null,"2500",null,null,"Ionenradius, Å",null,null,"0.69(+3) , 0.67(+4)"]
[null,"Siedepunkt, °C",null,null,"4900",null,null,"Atomradius, Å",null,null,"1.34"]
[null,"Kristallstruktur",null,null,"hexagonal",null,null,"kovalenter Radius, Å",null,null,"1.25"]
[null,"Spezifische Wärme",null,null,"0.057",null,null,"spezifische elektr.",null,null,"0.10"]
[null,"(cal/g/°C)",null,null,null,null,null,"Leitfähigkeit"]
[null,"Elektronen-",null,null,"[Kr]4d^7 5s^1",null,null,"Ionisierungsenergie",null,null,"173"]
[null,"konfiguration",null,null,null,null,null,"für das 1. Elektron"]
[null,"Säure-Base-",null,null,"sauer",null,null,"zurück zum PSE"]
[null,"Eigenschaften"]
[]
[]
[]
[]
[]
[]
[]
[]
[]
[null,null,"Genauere Informationen"]
[]
[null,"Ordnungszahl",null,null,"45",null,null,"Oxidationszahl",null,null,"2,3,4"]
[null,"Symbol",null,null,"Rh",null,null,"Elektronegativität",null,null,"2.2"]
[null,"deutscher Name",null,null,"Rhodium",null,null,"Verdampfungswärme",null,null,"127"]
[null,"englischer Name",null,null,"Rhodium",null,null,"Schmelzwärme",null,null,"5.2"]
[null,"Atommasse in u",null,null,"102.905",null,null,"Wärmeleitfähigkeit",null,null,".021"]
[null,"Dichte (g/ml)",null,null,"12.4",null,null,"Atomvolumen, W/D",null,null,"8.3"]
[null,"Schmelzpunkt, °C",null,null,"1966",null,null,"Ionenradius, Å",null,null,"0.86(+2) , -"]
[null,"Siedepunkt, °C",null,null,"4500",null,null,"Atomradius, Å",null,null,"1.34"]
[null,"Kristallstruktur",null,null,"kubisch, frontzentriert",null,null,"kovalenter Radius, Å",null,null,"1.25"]
[null,"Spezifische Wärme",null,null,"0.059",null,null,"spezifische elektr.",null,null,"0.22"]
[null,"(cal/g/°C)",null,null,null,null,null,"Leitfähigkeit"]
[null,"Elektronen-",null,null,"[Kr]4d^8 5s^1",null,null,"Ionisierungsenergie",null,null,"178"]
[null,"konfiguration",null,null,null,null,null,"für das 1. Elektron"]
[null,"Säure-Base-",null,null,"amphoter",null,null,"zurück zum PSE"]
[null,"Eigenschaften"]
[]
[]
[]
[]
[]
[]
[]
[]
[]
[null,null,"Genauere Informationen"]
[]
[null,"Ordnungszahl",null,null,"46",null,null,"Oxidationszahl",null,null,"2,4"]
[null,"Symbol",null,null,"Pd",null,null,"Elektronegativität",null,null,"2.2"]
[null,"deutscher Name",null,null,"Palladium",null,null,"Verdampfungswärme",null,null,"90"]
[null,"englischer Name",null,null,"Palladium",null,null,"Schmelzwärme",null,null,"4.0"]
[null,"Atommasse in u",null,null,"106.4",null,null,"Wärmeleitfähigkeit",null,null,"0.17"]
[null,"Dichte (g/ml)",null,null,"120",null,null,"Atomvolumen, W/D",null,null,"8.9"]
[null,"Schmelzpunkt, °C",null,null,"1552",null,null,"Ionenradius, Å",null,null,"0.86(+2) , -"]
[null,"Siedepunkt, °C",null,null,"3980",null,null,"Atomradius, Å",null,null,"1.37"]
[null,"Kristallstruktur",null,null,"kubisch, frontzentriert",null,null,"kovalenter Radius, Å",null,null,"1.28"]
[null,"Spezifische Wärme",null,null,"0.058",null,null,"spezifische elektr.",null,null,"0.093"]
[null,"(cal/g/°C)",null,null,null,null,null,"Leitfähigkeit"]
[null,"Elektronen-",null,null,"[Kr]4d^10 5s^0",null,null,"Ionisierungsenergie",null,null,"192"]
[null,"konfiguration",null,null,null,null,null,"für das 1. Elektron"]
[null,"Säure-Base-",null,null,"basisch",null,null,"zurück zum PSE"]
[null,"Eigenschaften"]
[]
[]
[]
[]
[]
[]
[]
[]
[]
[null,null,"Genauere Informationen"]
[]
[null,"Ordnungszahl",null,null,"47",null,null,"Oxidationszahl",null,null,"1"]
[null,"Symbol",null,null,"Ag",null,null,"Elektronegativität",null,null,"1.9"]
[null,"deutscher Name",null,null,"Silber",null,null,"Verdampfungswärme",null,null,"60.7"]
[null,"englischer Name",null,null,"Silver",null,null,"Schmelzwärme",null,null,"2.70"]
[null,"Atommasse in u",null,null,"107.870",null,null,"Wärmeleitfähigkeit",null,null,"0.98"]
[null,"Dichte (g/ml)",null,null,"10.5",null,null,"Atomvolumen, W/D",null,null,"10.3"]
[null,"Schmelzpunkt, °C",null,null,"960.8",null,null,"Ionenradius, Å",null,null,"1.26(+1) , -"]
[null,"Siedepunkt, °C",null,null,"2210",null,null,"Atomradius, Å",null,null,"1.44"]
[null,"Kristallstruktur",null,null,"kubisch, frontzentriert",null,null,"kovalenter Radius, Å",null,null,"1.34"]
[null,"Spezifische Wärme",null,null,"0.056",null,null,"spezifische elektr.",null,null,"0.616"]
[null,"(cal/g/°C)",null,null,null,null,null,"Leitfähigkeit"]
[null,"Elektronen-",null,null,"[Kr]4d^10 5s^1",null,null,"Ionisierungsenergie",null,null,"175"]
[null,"konfiguration",null,null,null,null,null,"für das 1. Elektron"]
[null,"Säure-Base-",null,null,"amphoter",null,null,"zurück zum PSE"]
[null,"Eigenschaften"]
[]
[]
[]
[]
[]
[]
[]
[]
[]
[null,null,"Genauere Informationen"]
[]
[null,"Ordnungszahl",null,null,"48",null,null,"Oxidationszahl",null,null,"2"]
[null,"Symbol",null,null,"Cd",null,null,"Elektronegativität",null,null,"1.7"]
[null,"deutscher Name",null,null,"Cadmium",null,null,"Verdampfungswärme",null,null,"23.9"]
[null,"englischer Name",null,null,"Cadmium",null,null,"Schmelzwärme",null,null,"1.46"]
[null,"Atommasse in u",null,null,"112.40",null,null,"Wärmeleitfähigkeit",null,null,"0.22"]
[null,"Dichte (g/ml)",null,null,"8.65",null,null,"Atomvolumen, W/D",null,null,"13.1"]
[null,"Schmelzpunkt, °C",null,null,"320.9",null,null,"Ionenradius, Å",null,null,"0.97(+2) , -"]
[null,"Siedepunkt, °C",null,null,"765",null,null,"Atomradius, Å",null,null,"1.54"]
[null,"Kristallstruktur",null,null,"hexagonal",null,null,"kovalenter Radius, Å",null,null,"1.48"]
[null,"Spezifische Wärme",null,null,"0.055",null,null,"spezifische elektr.",null,null,"0.146"]
[null,"(cal/g/°C)",null,null,null,null,null,"Leitfähigkeit"]
[null,"Elektronen-",null,null,"[Kr]4d^10 5s^2",null,null,"Ionisierungsenergie",null,null,"207"]
[null,"konfiguration",null,null,null,null,null,"für das 1. Elektron"]
[null,"Säure-Base-",null,null,"basisch",null,null,"zurück zum PSE"]
[null,"Eigenschaften"]
[]
[]
[]
[]
[]
[]
[]
[]
[]
[null,null,"Genauere Informationen"]
[]
[null,"Ordnungszahl",null,null,"49",null,null,"Oxidationszahl",null,null,"3"]
[null,"Symbol",null,null,"In",null,null,"Elektronegativität",null,null,"1.7"]
[null,"deutscher Name",null,null,"Indium",null,null,"Verdampfungswärme",null,null,"53.7"]
[null,"englischer Name",null,null,"Indium",null,null,"Schmelzwärme",null,null,"0.78"]
[null,"Atommasse in u",null,null,"114.82",null,null,"Wärmeleitfähigkeit",null,null,"0.057"]
[null,"Dichte (g/ml)",null,null,"7.31",null,null,"Atomvolumen, W/D",null,null,"15.7"]
[null,"Schmelzpunkt, °C",null,null,"156.2",null,null,"Ionenradius, Å",null,null,"1.32(+1) , 0.81(+3)"]
[null,"Siedepunkt, °C",null,null,"2000",null,null,"Atomradius, Å",null,null,"1.66"]
[null,"Kristallstruktur",null,null,"tetragonal",null,null,"kovalenter Radius, Å",null,null,"1.44"]
[null,"Spezifische Wärme",null,null,"0.057",null,null,"spezifische elektr.",null,null,"0.111"]
[null,"(cal/g/°C)",null,null,null,null,null,"Leitfähigkeit"]
[null,"Elektronen-",null,null,"[Kr]4d^10 5s^2 5p^1",null,null,"Ionisierungsenergie",null,null,"133"]
[null,"konfiguration",null,null,null,null,null,"für das 1. Elektron"]
[null,"Säure-Base-",null,null,"amphoter",null,null,"zurück zum PSE"]
[null,"Eigenschaften"]
[]
[]
[]
[]
[]
[]
[]
[]
[]
[null,null,"Genauere Informationen"]
[]
[null,"Ordnungszahl",null,null,"50",null,null,"Oxidationszahl",null,null,"4,2"]
[null,"Symbol",null,null,"Sn",null,null,"Elektronegativität",null,null,"1.8"]
[null,"deutscher Name",null,null,"Zinn",null,null,"Verdampfungswärme",null,null,"70"]
[null,"englischer Name",null,null,"Tin",null,null,"Schmelzwärme",null,null,"1.72"]
[null,"Atommasse in u",null,null,"118.69",null,null,"Wärmeleitfähigkeit",null,null,"0.16"]
[null,"Dichte (g/ml)",null,null,"7.30",null,null,"Atomvolumen, W/D",null,null,"16.3"]
[null,"Schmelzpunkt, °C",null,null,"231.9",null,null,"Ionenradius, Å",null,null,"1.12(+2) , 0.71(+4)"]
[null,"Siedepunkt, °C",null,null,"2270",null,null,"Atomradius, Å",null,null,"1.62"]
[null,"Kristallstruktur",null,null,"tetragonal",null,null,"kovalenter Radius, Å",null,null,"1.41"]
[null,"Spezifische Wärme",null,null,"0.054",null,null,"spezifische elektr.",null,null,"0.088"]
[null,"(cal/g/°C)",null,null,null,null,null,"Leitfähigkeit"]
[null,"Elektronen-",null,null,"[Kr]4d^10 5s^2 5p^2",null,null,"Ionisierungsenergie",null,null,"169"]
[null,"konfiguration",null,null,null,null,null,"für das 1. Elektron"]
[null,"Säure-Base-",null,null,"amphoter",null,null,"zurück zum PSE"]
[null,"Eigenschaften"]
[]
[]
[]
[]
[]
[]
[]
[]
[]
[null,null,"Genauere Informationen"]
[]
[null,"Ordnungszahl",null,null,"51",null,null,"Oxidationszahl",null,null,"(+/-) 3,5"]
[null,"Symbol",null,null,"Sb",null,null,"Elektronegativität",null,null,"1.9"]
[null,"deutscher Name",null,null,"Antimon",null,null,"Verdampfungswärme",null,null,"46.6"]
[null,"englischer Name",null,null,"Antimony",null,null,"Schmelzwärme",null,null,"4.74"]
[null,"Atommasse in u",null,null,"121.75",null,null,"Wärmeleitfähigkeit",null,null,"0.05"]
[null,"Dichte (g/ml)",null,null,"6.62",null,null,"Atomvolumen, W/D",null,null,"18.4"]
[null,"Schmelzpunkt, °C",null,null,"630.5",null,null,"Ionenradius, Å",null,null,"2.45(-3) , 0.62(+5)"]
[null,"Siedepunkt, °C",null,null,"1380",null,null,"Atomradius, Å",null,null,"1.59"]
[null,"Kristallstruktur",null,null,"rhombohedral",null,null,"kovalenter Radius, Å",null,null,"1.40"]
[null,"Spezifische Wärme",null,null,"0.049",null,null,"spezifische elektr.",null,null,"0.026"]
[null,"(cal/g/°C)",null,null,null,null,null,"Leitfähigkeit"]
[null,"Elektronen-",null,null,"[Kr]4d^10 5s^2 5p^3",null,null,"Ionisierungsenergie",null,null,"199"]
[null,"konfiguration",null,null,null,null,null,"für das 1. Elektron"]
[null,"Säure-Base-",null,null,"sauer",null,null,"zurück zum PSE"]
[null,"Eigenschaften"]
[]
[]
[]
[]
[]
[]
[]
[]
[]
[null,null,"Genauere Informationen"]
[]
[null,"Ordnungszahl",null,null,"52",null,null,"Oxidationszahl",null,null,"- 2,4,6"]
[null,"Symbol",null,null,"Te",null,null,"Elektronegativität",null,null,"2.1"]
[null,"deutscher Name",null,null,"Tellur",null,null,"Verdampfungswärme",null,null,"11.9"]
[null,"englischer Name",null,null,"Tellurium",null,null,"Schmelzwärme",null,null,"4.28"]
[null,"Atommasse in u",null,null,"127.60",null,null,"Wärmeleitfähigkeit",null,null,"0.014"]
[null,"Dichte (g/ml)",null,null,"6.24",null,null,"Atomvolumen, W/D",null,null,"20.5"]
[null,"Schmelzpunkt, °C",null,null,"449.5",null,null,"Ionenradius, Å",null,null,"2.21(-2) , 0.56(+6)"]
[null,"Siedepunkt, °C",null,null,"989.8",null,null,"Atomradius, Å",null,null,"1.60"]
[null,"Kristallstruktur",null,null,"hexagonal",null,null,"kovalenter Radius, Å",null,null,"1.36"]
[null,"Spezifische Wärme",null,null,"0.047",null,null,"spezifische elektr.",null,null,"10^-6"]
[null,"(cal/g/°C)",null,null,null,null,null,"Leitfähigkeit"]
[null,"Elektronen-",null,null,"[Kr]4d^10 5s^2 5p^4",null,null,"Ionisierungsenergie",null,null,"208"]
[null,"konfiguration",null,null,null,null,null,"für das 1. Elektron"]
[null,"Säure-Base-",null,null,"sauer",null,null,"zurück zum PSE"]
[null,"Eigenschaften"]
[]
[]
[]
[]
[]
[]
[]
[]
[]
[null,null,"Genauere Informationen"]
[]
[null,"Ordnungszahl",null,null,"53",null,null,"Oxidationszahl",null,null,"(+/-) 1,5,7"]
[null,"Symbol",null,null,"I",null,null,"Elektronegativität",null,null,"2.5"]
[null,"deutscher Name",null,null,"Iod",null,null,"Verdampfungswärme",null,null,"5.2"]
[null,"englischer Name",null,null,"Iodin",null,null,"Schmelzwärme",null,null,"1.87"]
[null,"Atommasse in u",null,null,"126.904",null,null,"Wärmeleitfähigkeit",null,null,"0.001"]
[null,"Dichte (g/ml)",null,null,"4.94",null,null,"Atomvolumen, W/D",null,null,"25.7"]
[null,"Schmelzpunkt, °C",null,null,"113.7",null,null,"Ionenradius, Å",null,null,"2.16(-1) , 0.50(+7)"]
[null,"Siedepunkt, °C",null,null,"183",null,null,"Atomradius, Å",null,null,"-"]
[null,"Kristallstruktur",null,null,"kubisch",null,null,"kovalenter Radius, Å",null,null,"1.33"]
[null,"Spezifische Wärme",null,null,"0.052",null,null,"spezifische elektr.",null,null,"10^-15"]
[null,"(cal/g/°C)",null,null,null,null,null,"Leitfähigkeit"]
[null,"Elektronen-",null,null,"[Kr]4d^10 5s^2 5p^5",null,null,"Ionisierungsenergie",null,null,"241"]
[null,"konfiguration",null,null,null,null,null,"für das 1. Elektron"]
[null,"Säure-Base-",null,null,"sauer",null,null,"zurück zum PSE"]
[null,"Eigenschaften"]
[]
[]
[]
[]
[]
[]
[]
[]
[]
[null,null,"Genauere Informationen"]
[]
[null,"Ordnungszahl",null,null,"54",null,null,"Oxidationszahl",null,null,"-"]
[null,"Symbol",null,null,"Xe",null,null,"Elektronegativität",null,null,"-"]
[null,"deutscher Name",null,null,"Xenon",null,null,"Verdampfungswärme",null,null,"3.02"]
[null,"englischer Name",null,null,"Xenon",null,null,"Schmelzwärme",null,null,"0.55"]
[null,"Atommasse in u",null,null,"131.30",null,null,"Wärmeleitfähigkeit",null,null,"0.0001"]
[null,"Dichte (g/ml)",null,null,"3.06",null,null,"Atomvolumen, W/D",null,null,"42.9"]
[null,"Schmelzpunkt, °C",null,null,"-111.9",null,null,"Ionenradius, Å",null,null,"- , -"]
[null,"Siedepunkt, °C",null,null,"-108.0",null,null,"Atomradius, Å",null,null,"-"]
[null,"Kristallstruktur",null,null,"kubisch, frontzentriert",null,null,"kovalenter Radius, Å",null,null,"1.31"]
[null,"Spezifische Wärme",null,null,"-",null,null,"spezifische elektr.",null,null,"-"]
[null,"(cal/g/°C)",null,null,null,null,null,"Leitfähigkeit"]
[null,"Elektronen-",null,null,"[Kr]4d^10 5s^2 5p^6",null,null,"Ionisierungsenergie",null,null,"280"]
[null,"konfiguration",null,null,null,null,null,"für das 1. Elektron"]
[null,"Säure-Base-",null,null,"-",null,null,"zurück zum PSE"]
[null,"Eigenschaften"]
[]
[]
[]
[]
[]
[]
[]
[]
[]
[null,null,"Genauere Informationen"]
[]
[null,"Ordnungszahl",null,null,"55",null,null,"Oxidationszahl",null,null,"1"]
[null,"Symbol",null,null,"Cs",null,null,"Elektronegativität",null,null,"0.7"]
[null,"deutscher Name",null,null,"Caesium",null,null,"Verdampfungswärme",null,null,"16.3"]
[null,"englischer Name",null,null,"Cesium",null,null,"Schmelzwärme",null,null,"0.50"]
[null,"Atommasse in u",null,null,"132.905",null,null,"Wärmeleitfähigkeit",null,null,"-"]
[null,"Dichte (g/ml)",null,null,"1.9",null,null,"Atomvolumen, W/D",null,null,"70"]
[null,"Schmelzpunkt, °C",null,null,"28.7",null,null,"Ionenradius, Å",null,null,"1.69(+1) , -"]
[null,"Siedepunkt, °C",null,null,"690",null,null,"Atomradius, Å",null,null,"2.67"]
[null,"Kristallstruktur",null,null,"kubisch, raumzentriert",null,null,"kovalenter Radius, Å",null,null,"2.35"]
[null,"Spezifische Wärme",null,null,"0.052",null,null,"spezifische elektr.",null,null,"0.053"]
[null,"(cal/g/°C)",null,null,null,null,null,"Leitfähigkeit"]
[null,"Elektronen-",null,null,"[Xe]6s^1",null,null,"Ionisierungsenergie",null,null,"90"]
[null,"konfiguration",null,null,null,null,null,"für das 1. Elektron"]
[null,"Säure-Base-",null,null,"basisch",null,null,"zurück zum PSE"]
[null,"Eigenschaften"]
[]
[]
[]
[]
[]
[]
[]
[]
[]
[null,null,"Genauere Informationen"]
[]
[null,"Ordnungszahl",null,null,"56",null,null,"Oxidationszahl",null,null,"2,3"]
[null,"Symbol",null,null,"Ba",null,null,"Elektronegativität",null,null,"0.9"]
[null,"deutscher Name",null,null,"Barium",null,null,"Verdampfungswärme",null,null,"35.7"]
[null,"englischer Name",null,null,"Barium",null,null,"Schmelzwärme",null,null,"1.83"]
[null,"Atommasse in u",null,null,"137.34",null,null,"Wärmeleitfähigkeit",null,null,"-"]
[null,"Dichte (g/ml)",null,null,"3.5",null,null,"Atomvolumen, W/D",null,null,"39"]
[null,"Schmelzpunkt, °C",null,null,"714",null,null,"Ionenradius, Å",null,null,"1.35(+2) , -"]
[null,"Siedepunkt, °C",null,null,"1640",null,null,"Atomradius, Å",null,null,"2.22"]
[null,"Kristallstruktur",null,null,"kubisch, raumzentriert",null,null,"kovalenter Radius, Å",null,null,"1.98"]
[null,"Spezifische Wärme",null,null,"0.068",null,null,"spezifische elektr.",null,null,"0.016"]
[null,"(cal/g/°C)",null,null,null,null,null,"Leitfähigkeit"]
[null,"Elektronen-",null,null,"[Xe]6s^2",null,null,"Ionisierungsenergie",null,null,"120"]
[null,"konfiguration",null,null,null,null,null,"für das 1. Elektron"]
[null,"Säure-Base-",null,null,"basisch",null,null,"zurück zum PSE"]
[null,"Eigenschaften"]
[]
[]
[]
[]
[]
[]
[]
[]
[]
[null,null,"Genauere Informationen"]
[]
[null,"Ordnungszahl",null,null,"57",null,null,"Oxidationszahl",null,null,"3"]
[null,"Symbol",null,null,"La",null,null,"Elektronegativität",null,null,"1.1"]
[null,"deutscher Name",null,null,"Lanthan",null,null,"Verdampfungswärme",null,null,"96"]
[null,"englischer Name",null,null,"Lantanum",null,null,"Schmelzwärme",null,null,"1.5"]
[null,"Atommasse in u",null,null,"138.91",null,null,"Wärmeleitfähigkeit",null,null,"0.33"]
[null,"Dichte (g/ml)",null,null,"6.17",null,null,"Atomvolumen, W/D",null,null,"22.5"]
[null,"Schmelzpunkt, °C",null,null,"920",null,null,"Ionenradius, Å",null,null,"1.15(+3) , -"]
[null,"Siedepunkt, °C",null,null,"3470",null,null,"Atomradius, Å",null,null,"1.87"]
[null,"Kristallstruktur",null,null,"hexagonal",null,null,"kovalenter Radius, Å",null,null,"1.69"]
[null,"Spezifische Wärme",null,null,"0.045",null,null,"spezifische elektr.",null,null,"0.017"]
[null,"(cal/g/°C)",null,null,null,null,null,"Leitfähigkeit"]
[null,"Elektronen-",null,null,"[Xe]5d^1 6s^2",null,null,"Ionisierungsenergie",null,null,"129"]
[null,"konfiguration",null,null,null,null,null,"für das 1. Elektron"]
[null,"Säure-Base-",null,null,"basisch",null,null,"zurück zum PSE"]
[null,"Eigenschaften"]
[]
[]
[]
[]
[]
[]
[]
[]
[]
[null,null,"Genauere Informationen"]
[]
[null,"Ordnungszahl",null,null,"58",null,null,"Oxidationszahl",null,null,"3,4"]
[null,"Symbol",null,null,"Ce",null,null,"Elektronegativität",null,null,"1.1"]
[null,"deutscher Name",null,null,"Cer",null,null,"Verdampfungswärme",null,null,"95"]
[null,"englischer Name",null,null,"Cerium",null,null,"Schmelzwärme",null,null,"1.2"]
[null,"Atommasse in u",null,null,"140.12",null,null,"Wärmeleitfähigkeit",null,null,"0.026"]
[null,"Dichte (g/ml)",null,null,"6.67",null,null,"Atomvolumen, W/D",null,null,"21.0"]
[null,"Schmelzpunkt, °C",null,null,"795",null,null,"Ionenradius, Å",null,null,"1.11(+3) , 1.01(+4)"]
[null,"Siedepunkt, °C",null,null,"3468",null,null,"Atomradius, Å",null,null,"1.81"]
[null,"Kristallstruktur",null,null,"kubisch, frontzentriert",null,null,"kovalenter Radius, Å",null,null,"1.65"]
[null,"Spezifische Wärme",null,null,"0.042",null,null,"spezifische elektr.",null,null,"0.013"]
[null,"(cal/g/°C)",null,null,null,null,null,"Leitfähigkeit"]
[null,"Elektronen-",null,null,"[Xe]4f^2 5d^0 6s^2",null,null,"Ionisierungsenergie",null,null,"159"]
[null,"konfiguration",null,null,null,null,null,"für das 1. Elektron"]
[null,"Säure-Base-",null,null,"basisch",null,null,"zurück zum PSE"]
[null,"Eigenschaften"]
[]
[]
[]
[]
[]
[]
[]
[]
[]
[null,null,"Genauere Informationen"]
[]
[null,"Ordnungszahl",null,null,"59",null,null,"Oxidationszahl",null,null,"3,4"]
[null,"Symbol",null,null,"Pr",null,null,"Elektronegativität",null,null,"1.1"]
[null,"deutscher Name",null,null,"Praseodym",null,null,"Verdampfungswärme",null,null,"79"]
[null,"englischer Name",null,null,"Praseodymium",null,null,"Schmelzwärme",null,null,"1.60"]
[null,"Atommasse in u",null,null,"140.907",null,null,"Wärmeleitfähigkeit",null,null,"0.028"]
[null,"Dichte (g/ml)",null,null,"6.77",null,null,"Atomvolumen, W/D",null,null,"20.8"]
[null,"Schmelzpunkt, °C",null,null,"935",null,null,"Ionenradius, Å",null,null,"1.09(+3) , 0.92(+4)"]
[null,"Siedepunkt, °C",null,null,"3127",null,null,"Atomradius, Å",null,null,"1.82"]
[null,"Kristallstruktur",null,null,"hexagonal",null,null,"kovalenter Radius, Å",null,null,"1.65"]
[null,"Spezifische Wärme",null,null,"0.048",null,null,"spezifische elektr.",null,null,"0.015"]
[null,"(cal/g/°C)",null,null,null,null,null,"Leitfähigkeit"]
[null,"Elektronen-",null,null,"[Xe]4f^3 5d^0 6s^2",null,null,"Ionisierungsenergie",null,null,"133"]
[null,"konfiguration",null,null,null,null,null,"für das 1. Elektron"]
[null,"Säure-Base-",null,null,"basisch",null,null,"zurück zum PSE"]
[null,"Eigenschaften"]
[]
[]
[]
[]
[]
[]
[]
[]
[]
[null,null,"Genauere Informationen"]
[]
[null,"Ordnungszahl",null,null,"60",null,null,"Oxidationszahl",null,null,"3"]
[null,"Symbol",null,null,"Nd",null,null,"Elektronegativität",null,null,"1.2"]
[null,"deutscher Name",null,null,"Neodym",null,null,"Verdampfungswärme",null,null,"69"]
[null,"englischer Name",null,null,"Neodymium",null,null,"Schmelzwärme",null,null,"1.70"]
[null,"Atommasse in u",null,null,"144.24",null,null,"Wärmeleitfähigkeit",null,null,"0.031"]
[null,"Dichte (g/ml)",null,null,"7.00",null,null,"Atomvolumen, W/D",null,null,"20.6"]
[null,"Schmelzpunkt, °C",null,null,"1024",null,null,"Ionenradius, Å",null,null,"1.08(+3) , -"]
[null,"Siedepunkt, °C",null,null,"3027",null,null,"Atomradius, Å",null,null,"1.82"]
[null,"Kristallstruktur",null,null,"hexagonal",null,null,"kovalenter Radius, Å",null,null,"1.64"]
[null,"Spezifische Wärme",null,null,"0.045",null,null,"spezifische elektr.",null,null,"0.013"]
[null,"(cal/g/°C)",null,null,null,null,null,"Leitfähigkeit"]
[null,"Elektronen-",null,null,"[Xe]4f^4 5d^0 6s^2",null,null,"Ionisierungsenergie",null,null,"145"]
[null,"konfiguration",null,null,null,null,null,"für das 1. Elektron"]
[null,"Säure-Base-",null,null,"basisch",null,null,"zurück zum PSE"]
[null,"Eigenschaften"]
[]
[]
[]
[]
[]
[]
[]
[]
[]
[null,null,"Genauere Informationen"]
[]
[null,"Ordnungszahl",null,null,"61",null,null,"Oxidationszahl",null,null,"3"]
[null,"Symbol",null,null,"Pm",null,null,"Elektronegativität",null,null,"-"]
[null,"deutscher Name",null,null,"Promethium",null,null,"Verdampfungswärme",null,null,"-"]
[null,"englischer Name",null,null,"Promethium",null,null,"Schmelzwärme",null,null,"-"]
[null,"Atommasse in u",null,null,"(147)",null,null,"Wärmeleitfähigkeit",null,null,"-"]
[null,"Dichte (g/ml)",null,null,"-",null,null,"Atomvolumen, W/D",null,null,"-"]
[null,"Schmelzpunkt, °C",null,null,"(1027)",null,null,"Ionenradius, Å",null,null,"1.06(+3) , -"]
[null,"Siedepunkt, °C",null,null,"-",null,null,"Atomradius, Å",null,null,"-"]
[null,"Kristallstruktur",null,null,"hexagonal",null,null,"kovalenter Radius, Å",null,null,"1.63"]
[null,"Spezifische Wärme",null,null,"-",null,null,"spezifische elektr.",null,null,"-"]
[null,"(cal/g/°C)",null,null,null,null,null,"Leitfähigkeit"]
[null,"Elektronen-",null,null,"[Xe]4f^5 5d^0 6s^2",null,null,"Ionisierungsenergie",null,null,"133"]
[null,"konfiguration",null,null,null,null,null,"für das 1. Elektron"]
[null,"Säure-Base-",null,null,"basisch",null,null,"zurück zum PSE"]
[null,"Eigenschaften"]
[]
[]
[]
[]
[]
[]
[]
[]
[]
[null,null,"Genauere Informationen"]
[]
[null,"Ordnungszahl",null,null,"62",null,null,"Oxidationszahl",null,null,"3,2"]
[null,"Symbol",null,null,"Sm",null,null,"Elektronegativität",null,null,"1.2"]
[null,"deutscher Name",null,null,"Samarium",null,null,"Verdampfungswärme",null,null,"46"]
[null,"englischer Name",null,null,"Samarium",null,null,"Schmelzwärme",null,null,"2.1"]
[null,"Atommasse in u",null,null,"150.35",null,null,"Wärmeleitfähigkeit",null,null,"-"]
[null,"Dichte (g/ml)",null,null,"7.54",null,null,"Atomvolumen, W/D",null,null,"19.9"]
[null,"Schmelzpunkt, °C",null,null,"1072",null,null,"Ionenradius, Å",null,null,"1.04(+3) , -"]
[null,"Siedepunkt, °C",null,null,"1900",null,null,"Atomradius, Å",null,null,"1.81"]
[null,"Kristallstruktur",null,null,"rhombohedral",null,null,"kovalenter Radius, Å",null,null,"1.62"]
[null,"Spezifische Wärme",null,null,"0.042",null,null,"spezifische elektr.",null,null,"0.011"]
[null,"(cal/g/°C)",null,null,null,null,null,"Leitfähigkeit"]
[null,"Elektronen-",null,null,"[Xe]4f^6 5d^0 6s^2",null,null,"Ionisierungsenergie",null,null,"129"]
[null,"konfiguration",null,null,null,null,null,"für das 1. Elektron"]
[null,"Säure-Base-",null,null,"basisch",null,null,"zurück zum PSE"]
[null,"Eigenschaften"]
[]
[]
[]
[]
[]
[]
[]
[]
[]
[null,null,"Genauere Informationen"]
[]
[null,"Ordnungszahl",null,null,"63",null,null,"Oxidationszahl",null,null,"3,2"]
[null,"Symbol",null,null,"Eu",null,null,"Elektronegativität",null,null,"-"]
[null,"deutscher Name",null,null,"Europium",null,null,"Verdampfungswärme",null,null,"42"]
[null,"englischer Name",null,null,"Europium",null,null,"Schmelzwärme",null,null,"2.2"]
[null,"Atommasse in u",null,null,"151.96",null,null,"Wärmeleitfähigkeit",null,null,"-"]
[null,"Dichte (g/ml)",null,null,"5.26",null,null,"Atomvolumen, W/D",null,null,"28.9"]
[null,"Schmelzpunkt, °C",null,null,"826",null,null,"Ionenradius, Å",null,null,"1.12(+2) , -"]
[null,"Siedepunkt, °C",null,null,"1439",null,null,"Atomradius, Å",null,null,"1.99"]
[null,"Kristallstruktur",null,null,"kubisch, raumzentriert",null,null,"kovalenter Radius, Å",null,null,"1.85"]
[null,"Spezifische Wärme",null,null,"0.039",null,null,"spezifische elektr.",null,null,"0.012"]
[null,"(cal/g/°C)",null,null,null,null,null,"Leitfähigkeit"]
[null,"Elektronen-",null,null,"[Xe]4f^7 5d^0 6s^2",null,null,"Ionisierungsenergie",null,null,"131"]
[null,"konfiguration",null,null,null,null,null,"für das 1. Elektron"]
[null,"Säure-Base-",null,null,"basisch",null,null,"zurück zum PSE"]
[null,"Eigenschaften"]
[]
[]
[]
[]
[]
[]
[]
[]
[]
[null,null,"Genauere Informationen"]
[]
[null,"Ordnungszahl",null,null,"64",null,null,"Oxidationszahl",null,null,"3"]
[null,"Symbol",null,null,"Gd",null,null,"Elektronegativität",null,null,"1.1"]
[null,"deutscher Name",null,null,"Gadolinium",null,null,"Verdampfungswärme",null,null,"72"]
[null,"englischer Name",null,null,"Gadolinium",null,null,"Schmelzwärme",null,null,"3.70"]
[null,"Atommasse in u",null,null,"157.25",null,null,"Wärmeleitfähigkeit",null,null,"0.021"]
[null,"Dichte (g/ml)",null,null,"7.89",null,null,"Atomvolumen, W/D",null,null,"19.9"]
[null,"Schmelzpunkt, °C",null,null,"1312",null,null,"Ionenradius, Å",null,null,"1.02(+3) , -"]
[null,"Siedepunkt, °C",null,null,"3000",null,null,"Atomradius, Å",null,null,"1.79"]
[null,"Kristallstruktur",null,null,"hexagonal",null,null,"kovalenter Radius, Å",null,null,"1.61"]
[null,"Spezifische Wärme",null,null,"0.071",null,null,"spezifische elektr.",null,null,"0.007"]
[null,"(cal/g/°C)",null,null,null,null,null,"Leitfähigkeit"]
[null,"Elektronen-",null,null,"[Xe]4f^7 5d^1 6s^2",null,null,"Ionisierungsenergie",null,null,"142"]
[null,"konfiguration",null,null,null,null,null,"für das 1. Elektron"]
[null,"Säure-Base-",null,null,"basisch",null,null,"zurück zum PSE"]
[null,"Eigenschaften"]
[]
[]
[]
[]
[]
[]
[]
[]
[]
[null,null,"Genauere Informationen"]
[]
[null,"Ordnungszahl",null,null,"65",null,null,"Oxidationszahl",null,null,"3,4"]
[null,"Symbol",null,null,"Tb",null,null,"Elektronegativität",null,null,"1.2"]
[null,"deutscher Name",null,null,"Terbium",null,null,"Verdampfungswärme",null,null,"70"]
[null,"englischer Name",null,null,"Terbium",null,null,"Schmelzwärme",null,null,"3.9"]
[null,"Atommasse in u",null,null,"158.924",null,null,"Wärmeleitfähigkeit",null,null,"-"]
[null,"Dichte (g/ml)",null,null,"8.27",null,null,"Atomvolumen, W/D",null,null,"19.2"]
[null,"Schmelzpunkt, °C",null,null,"1356",null,null,"Ionenradius, Å",null,null,"1.00(+3) , -"]
[null,"Siedepunkt, °C",null,null,"2800",null,null,"Atomradius, Å",null,null,"1.80"]
[null,"Kristallstruktur",null,null,"hexagonal",null,null,"kovalenter Radius, Å",null,null,"1.59"]
[null,"Spezifische Wärme",null,null,"0.044",null,null,"spezifische elektr.",null,null,"0.009"]
[null,"(cal/g/°C)",null,null,null,null,null,"Leitfähigkeit"]
[null,"Elektronen-",null,null,"[Xe]4f^9 5d^0 6s^2",null,null,"Ionisierungsenergie",null,null,"155"]
[null,"konfiguration",null,null,null,null,null,"für das 1. Elektron"]
[null,"Säure-Base-",null,null,"basisch",null,null,"zurück zum PSE"]
[null,"Eigenschaften"]
[]
[]
[]
[]
[]
[]
[]
[]
[]
[null,null,"Genauere Informationen"]
[]
[null,"Ordnungszahl",null,null,"66",null,null,"Oxidationszahl",null,null,"3"]
[null,"Symbol",null,null,"Dy",null,null,"Elektronegativität",null,null,"-"]
[null,"deutscher Name",null,null,"Dysprosium",null,null,"Verdampfungswärme",null,null,"67"]
[null,"englischer Name",null,null,"Dysprosium",null,null,"Schmelzwärme",null,null,"4.1"]
[null,"Atommasse in u",null,null,"162.50",null,null,"Wärmeleitfähigkeit",null,null,"0.024"]
[null,"Dichte (g/ml)",null,null,"8.54",null,null,"Atomvolumen, W/D",null,null,"19.0"]
[null,"Schmelzpunkt, °C",null,null,"1407",null,null,"Ionenradius, Å",null,null,"0.99(+3) , -"]
[null,"Siedepunkt, °C",null,null,"2600",null,null,"Atomradius, Å",null,null,"1.80"]
[null,"Kristallstruktur",null,null,"hexagonal",null,null,"kovalenter Radius, Å",null,null,"1.59"]
[null,"Spezifische Wärme",null,null,"0.041",null,null,"spezifische elektr.",null,null,"0.011"]
[null,"(cal/g/°C)",null,null,null,null,null,"Leitfähigkeit"]
[null,"Elektronen-",null,null,"[Xe]4f^10 5d^0 6s^2",null,null,"Ionisierungsenergie",null,null,"157"]
[null,"konfiguration",null,null,null,null,null,"für das 1. Elektron"]
[null,"Säure-Base-",null,null,"basisch",null,null,"zurück zum PSE"]
[null,"Eigenschaften"]
[]
[]
[]
[]
[]
[]
[]
[]
[]
[null,null,"Genauere Informationen"]
[]
[null,"Ordnungszahl",null,null,"67",null,null,"Oxidationszahl",null,null,"3"]
[null,"Symbol",null,null,"Ho",null,null,"Elektronegativität",null,null,"1.2"]
[null,"deutscher Name",null,null,"Holmium",null,null,"Verdampfungswärme",null,null,"67"]
[null,"englischer Name",null,null,"Holmium",null,null,"Schmelzwärme",null,null,"4.1"]
[null,"Atommasse in u",null,null,"164.930",null,null,"Wärmeleitfähigkeit",null,null,"-"]
[null,"Dichte (g/ml)",null,null,"8.80",null,null,"Atomvolumen, W/D",null,null,"18.7"]
[null,"Schmelzpunkt, °C",null,null,"1461",null,null,"Ionenradius, Å",null,null,"0.97(+3) , -"]
[null,"Siedepunkt, °C",null,null,"2600",null,null,"Atomradius, Å",null,null,"1.79"]
[null,"Kristallstruktur",null,null,"hexagonal",null,null,"kovalenter Radius, Å",null,null,"1.58"]
[null,"Spezifische Wärme",null,null,"0.039",null,null,"spezifische elektr.",null,null,"0.011"]
[null,"(cal/g/°C)",null,null,null,null,null,"Leitfähigkeit"]
[null,"Elektronen-",null,null,"[Xe]4f^11 5d^0 6s^2",null,null,"Ionisierungsenergie",null,null,"-"]
[null,"konfiguration",null,null,null,null,null,"für das 1. Elektron"]
[null,"Säure-Base-",null,null,"basisch",null,null,"zurück zum PSE"]
[null,"Eigenschaften"]
[]
[]
[]
[]
[]
[]
[]
[]
[]
[null,null,"Genauere Informationen"]
[]
[null,"Ordnungszahl",null,null,"68",null,null,"Oxidationszahl",null,null,"3"]
[null,"Symbol",null,null,"Er",null,null,"Elektronegativität",null,null,"1.2"]
[null,"deutscher Name",null,null,"Erbium",null,null,"Verdampfungswärme",null,null,"67"]
[null,"englischer Name",null,null,"Erbium",null,null,"Schmelzwärme",null,null,"4.1"]
[null,"Atommasse in u",null,null,"167.26",null,null,"Wärmeleitfähigkeit",null,null,"0.023"]
[null,"Dichte (g/ml)",null,null,"9.066",null,null,"Atomvolumen, W/D",null,null,"18.4"]
[null,"Schmelzpunkt, °C",null,null,"1545",null,null,"Ionenradius, Å",null,null,"0.96(+3) , -"]
[null,"Siedepunkt, °C",null,null,"1727",null,null,"Atomradius, Å",null,null,"1.78"]
[null,"Kristallstruktur",null,null,"hexagonal",null,null,"kovalenter Radius, Å",null,null,"1.57"]
[null,"Spezifische Wärme",null,null,"0.040",null,null,"spezifische elektr.",null,null,"0.012"]
[null,"(cal/g/°C)",null,null,null,null,null,"Leitfähigkeit"]
[null,"Elektronen-",null,null,"[Xe]4f^12 5d^0 6s^2",null,null,"Ionisierungsenergie",null,null,"-"]
[null,"konfiguration",null,null,null,null,null,"für das 1. Elektron"]
[null,"Säure-Base-",null,null,"basisch",null,null,"zurück zum PSE"]
[null,"Eigenschaften"]
[]
[]
[]
[]
[]
[]
[]
[]
[]
[null,null,"Genauere Informationen"]
[]
[null,"Ordnungszahl",null,null,"69",null,null,"Oxidationszahl",null,null,"3,2"]
[null,"Symbol",null,null,"Tm",null,null,"Elektronegativität",null,null,"1.2"]
[null,"deutscher Name",null,null,"Thulium",null,null,"Verdampfungswärme",null,null,"59"]
[null,"englischer Name",null,null,"Thulium",null,null,"Schmelzwärme",null,null,"4.8"]
[null,"Atommasse in u",null,null,"168.934",null,null,"Wärmeleitfähigkeit",null,null,"-"]
[null,"Dichte (g/ml)",null,null,"9.05",null,null,"Atomvolumen, W/D",null,null,"18.1"]
[null,"Schmelzpunkt, °C",null,null,"1497",null,null,"Ionenradius, Å",null,null,"0.95(+3) , -"]
[null,"Siedepunkt, °C",null,null,"2900",null,null,"Atomradius, Å",null,null,"1.77"]
[null,"Kristallstruktur",null,null,"hexagonal",null,null,"kovalenter Radius, Å",null,null,"1.56"]
[null,"Spezifische Wärme",null,null,"0.038",null,null,"spezifische elektr.",null,null,"0.011"]
[null,"(cal/g/°C)",null,null,null,null,null,"Leitfähigkeit"]
[null,"Elektronen-",null,null,"[Xe]4f^13 5d^0 6s^2",null,null,"Ionisierungsenergie",null,null,"-"]
[null,"konfiguration",null,null,null,null,null,"für das 1. Elektron"]
[null,"Säure-Base-",null,null,"basisch",null,null,"zurück zum PSE"]
[null,"Eigenschaften"]
[]
[]
[]
[]
[]
[]
[]
[]
[]
[null,null,"Genauere Informationen"]
[]
[null,"Ordnungszahl",null,null,"70",null,null,"Oxidationszahl",null,null,"3,2"]
[null,"Symbol",null,null,"Yb",null,null,"Elektronegativität",null,null,"1.1"]
[null,"deutscher Name",null,null,"Ytterbium",null,null,"Verdampfungswärme",null,null,"38"]
[null,"englischer Name",null,null,"Ytterbium",null,null,"Schmelzwärme",null,null,"1.8"]
[null,"Atommasse in u",null,null,"173.04",null,null,"Wärmeleitfähigkeit",null,null,"-"]
[null,"Dichte (g/ml)",null,null,"6.98",null,null,"Atomvolumen, W/D",null,null,"24.8"]
[null,"Schmelzpunkt, °C",null,null,"824",null,null,"Ionenradius, Å",null,null,"1.13(+2) , 0.94(+3)"]
[null,"Siedepunkt, °C",null,null,"1427",null,null,"Atomradius, Å",null,null,"1.94"]
[null,"Kristallstruktur",null,null,"kubisch, frontzentriert",null,null,"kovalenter Radius, Å",null,null,"-"]
[null,"Spezifische Wärme",null,null,"0.035",null,null,"spezifische elektr.",null,null,"0.035"]
[null,"(cal/g/°C)",null,null,null,null,null,"Leitfähigkeit"]
[null,"Elektronen-",null,null,"[Xe]4f^14 5d^0 6s^2",null,null,"Ionisierungsenergie",null,null,"143"]
[null,"konfiguration",null,null,null,null,null,"für das 1. Elektron"]
[null,"Säure-Base-",null,null,"basisch",null,null,"zurück zum PSE"]
[null,"Eigenschaften"]
[]
[]
[]
[]
[]
[]
[]
[]
[]
[null,null,"Genauere Informationen"]
[]
[null,"Ordnungszahl",null,null,"71",null,null,"Oxidationszahl",null,null,"3"]
[null,"Symbol",null,null,"Lu",null,null,"Elektronegativität",null,null,"1.2"]
[null,"deutscher Name",null,null,"Lutetium",null,null,"Verdampfungswärme",null,null,"90"]
[null,"englischer Name",null,null,"Lutetium",null,null,"Schmelzwärme",null,null,"4.6"]
[null,"Atommasse in u",null,null,"174.97",null,null,"Wärmeleitfähigkeit",null,null,"-"]
[null,"Dichte (g/ml)",null,null,"9.84",null,null,"Atomvolumen, W/D",null,null,"17.8"]
[null,"Schmelzpunkt, °C",null,null,"1652",null,null,"Ionenradius, Å",null,null,"0.93(+3) , -"]
[null,"Siedepunkt, °C",null,null,"3327",null,null,"Atomradius, Å",null,null,"1.75"]
[null,"Kristallstruktur",null,null,"hexagonal",null,null,"kovalenter Radius, Å",null,null,"1.56"]
[null,"Spezifische Wärme",null,null,"0.037",null,null,"spezifische elektr.",null,null,"0.015"]
[null,"(cal/g/°C)",null,null,null,null,null,"Leitfähigkeit"]
[null,"Elektronen-",null,null,"[Xe]4f^14 5d^1 6s^2",null,null,"Ionisierungsenergie",null,null,"115"]
[null,"konfiguration",null,null,null,null,null,"für das 1. Elektron"]
[null,"Säure-Base-",null,null,"basisch",null,null,"zurück zum PSE"]
[null,"Eigenschaften"]
[]
[]
[]
[]
[]
[]
[]
[]
[]
[null,null,"Genauere Informationen"]
[]
[null,"Ordnungszahl",null,null,"72",null,null,"Oxidationszahl",null,null,"4"]
[null,"Symbol",null,null,"Hf",null,null,"Elektronegativität",null,null,"1.3"]
[null,"deutscher Name",null,null,"Hafnium",null,null,"Verdampfungswärme",null,null,"155"]
[null,"englischer Name",null,null,"Hafnium",null,null,"Schmelzwärme",null,null,"5.2"]
[null,"Atommasse in u",null,null,"178.49",null,null,"Wärmeleitfähigkeit",null,null,"0.22"]
[null,"Dichte (g/ml)",null,null,"13.1",null,null,"Atomvolumen, W/D",null,null,"13.6"]
[null,"Schmelzpunkt, °C",null,null,"2222",null,null,"Ionenradius, Å",null,null,"0.81(+4) , -"]
[null,"Siedepunkt, °C",null,null,"5400",null,null,"Atomradius, Å",null,null,"1.67"]
[null,"Kristallstruktur",null,null,"hexagonal",null,null,"kovalenter Radius, Å",null,null,"1.44"]
[null,"Spezifische Wärme",null,null,"0.035",null,null,"spezifische elektr.",null,null,"0.031"]
[null,"(cal/g/°C)",null,null,null,null,null,"Leitfähigkeit"]
[null,"Elektronen-",null,null,"[Xe]4f^14 5d^2 6s^2",null,null,"Ionisierungsenergie",null,null,"127"]
[null,"konfiguration",null,null,null,null,null,"für das 1. Elektron"]
[null,"Säure-Base-",null,null,"amphoter",null,null,"zurück zum PSE"]
[null,"Eigenschaften"]
[]
[]
[]
[]
[]
[]
[]
[]
[]
[null,null,"Genauere Informationen"]
[]
[null,"Ordnungszahl",null,null,"73",null,null,"Oxidationszahl",null,null,"5"]
[null,"Symbol",null,null,"Ta",null,null,"Elektronegativität",null,null,"1.5"]
[null,"deutscher Name",null,null,"Tantal",null,null,"Verdampfungswärme",null,null,"180"]
[null,"englischer Name",null,null,"Tantalum",null,null,"Schmelzwärme",null,null,"6.8"]
[null,"Atommasse in u",null,null,"180.948",null,null,"Wärmeleitfähigkeit",null,null,"0.13"]
[null,"Dichte (g/ml)",null,null,"16.6",null,null,"Atomvolumen, W/D",null,null,"10.9"]
[null,"Schmelzpunkt, °C",null,null,"2996",null,null,"Ionenradius, Å",null,null,"0.73(+5) , -"]
[null,"Siedepunkt, °C",null,null,"5425",null,null,"Atomradius, Å",null,null,"1.49"]
[null,"Kristallstruktur",null,null,"kubisch, raumzentriert",null,null,"kovalenter Radius, Å",null,null,"1.34"]
[null,"Spezifische Wärme",null,null,"0.036",null,null,"spezifische elektr.",null,null,"0.081"]
[null,"(cal/g/°C)",null,null,null,null,null,"Leitfähigkeit"]
[null,"Elektronen-",null,null,"[Xe]4f^14 5d^3 6s^2",null,null,"Ionisierungsenergie",null,null,"138"]
[null,"konfiguration",null,null,null,null,null,"für das 1. Elektron"]
[null,"Säure-Base-",null,null,"sauer",null,null,"zurück zum PSE"]
[null,"Eigenschaften"]
[]
[]
[]
[]
[]
[]
[]
[]
[]
[null,null,"Genauere Informationen"]
[]
[null,"Ordnungszahl",null,null,"74",null,null,"Oxidationszahl",null,null,"6,5,4,3,2"]
[null,"Symbol",null,null,"W",null,null,"Elektronegativität",null,null,"1.7"]
[null,"deutscher Name",null,null,"Wolfram",null,null,"Verdampfungswärme",null,null,"185"]
[null,"englischer Name",null,null,"Wolfram",null,null,"Schmelzwärme",null,null,"8.05"]
[null,"Atommasse in u",null,null,"183.85",null,null,"Wärmeleitfähigkeit",null,null,"0.40"]
[null,"Dichte (g/ml)",null,null,"19.3",null,null,"Atomvolumen, W/D",null,null,"9.53"]
[null,"Schmelzpunkt, °C",null,null,"3410",null,null,"Ionenradius, Å",null,null,"0.64(+4) , 0.68(+6)"]
[null,"Siedepunkt, °C",null,null,"5930",null,null,"Atomradius, Å",null,null,"1.41"]
[null,"Kristallstruktur",null,null,"kubisch, raumzentriert",null,null,"kovalenter Radius, Å",null,null,"1.30"]
[null,"Spezifische Wärme",null,null,"0.032",null,null,"spezifische elektr.",null,null,"0.181"]
[null,"(cal/g/°C)",null,null,null,null,null,"Leitfähigkeit"]
[null,"Elektronen-",null,null,"[Xe]4f^14 5d^4 6s^2",null,null,"Ionisierungsenergie",null,null,"184"]
[null,"konfiguration",null,null,null,null,null,"für das 1. Elektron"]
[null,"Säure-Base-",null,null,"sauer",null,null,"zurück zum PSE"]
[null,"Eigenschaften"]
[]
[]
[]
[]
[]
[]
[]
[]
[]
[null,null,"Genauere Informationen"]
[]
[null,"Ordnungszahl",null,null,"75",null,null,"Oxidationszahl",null,null,"7,6,4,2,-1"]
[null,"Symbol",null,null,"Re",null,null,"Elektronegativität",null,null,"1.9"]
[null,"deutscher Name",null,null,"Rhenium",null,null,"Verdampfungswärme",null,null,"152"]
[null,"englischer Name",null,null,"Rhenium",null,null,"Schmelzwärme",null,null,"7.9"]
[null,"Atommasse in u",null,null,"186.2",null,null,"Wärmeleitfähigkeit",null,null,"0.17"]
[null,"Dichte (g/ml)",null,null,"21.0",null,null,"Atomvolumen, W/D",null,null,"8.85"]
[null,"Schmelzpunkt, °C",null,null,"3180",null,null,"Ionenradius, Å",null,null,"- , -"]
[null,"Siedepunkt, °C",null,null,"5900",null,null,"Atomradius, Å",null,null,"1.37"]
[null,"Kristallstruktur",null,null,"hexagonal",null,null,"kovalenter Radius, Å",null,null,"1.28"]
[null,"Spezifische Wärme",null,null,"0.033",null,null,"spezifische elektr.",null,null,"0.051"]
[null,"(cal/g/°C)",null,null,null,null,null,"Leitfähigkeit"]
[null,"Elektronen-",null,null,"[Xe]4f^14 5d^5 6s^2",null,null,"Ionisierungsenergie",null,null,"182"]
[null,"konfiguration",null,null,null,null,null,"für das 1. Elektron"]
[null,"Säure-Base-",null,null,"sauer",null,null,"zurück zum PSE"]
[null,"Eigenschaften"]
[]
[]
[]
[]
[]
[]
[]
[]
[]
[null,null,"Genauere Informationen"]
[]
[null,"Ordnungszahl",null,null,"76",null,null,"Oxidationszahl",null,null,"2,3,4,6,8"]
[null,"Symbol",null,null,"Os",null,null,"Elektronegativität",null,null,"2.2"]
[null,"deutscher Name",null,null,"Osmium",null,null,"Verdampfungswärme",null,null,"162"]
[null,"englischer Name",null,null,"Osmium",null,null,"Schmelzwärme",null,null,"6.4"]
[null,"Atommasse in u",null,null,"190.2",null,null,"Wärmeleitfähigkeit",null,null,"-"]
[null,"Dichte (g/ml)",null,null,"22.6",null,null,"Atomvolumen, W/D",null,null,"8.43"]
[null,"Schmelzpunkt, °C",null,null,"3000",null,null,"Ionenradius, Å",null,null,"0.69(+4) , -"]
[null,"Siedepunkt, °C",null,null,"5500",null,null,"Atomradius, Å",null,null,"1.35"]
[null,"Kristallstruktur",null,null,"hexagonal",null,null,"kovalenter Radius, Å",null,null,"1.26"]
[null,"Spezifische Wärme",null,null,"0.031",null,null,"spezifische elektr.",null,null,"0.11"]
[null,"(cal/g/°C)",null,null,null,null,null,"Leitfähigkeit"]
[null,"Elektronen-",null,null,"[Xe]4f^14 5d^6 6s^2",null,null,"Ionisierungsenergie",null,null,"201"]
[null,"konfiguration",null,null,null,null,null,"für das 1. Elektron"]
[null,"Säure-Base-",null,null,"sauer",null,null,"zurück zum PSE"]
[null,"Eigenschaften"]
[]
[]
[]
[]
[]
[]
[]
[]
[]
[null,null,"Genauere Informationen"]
[]
[null,"Ordnungszahl",null,null,"77",null,null,"Oxidationszahl",null,null,"2,3,4,6"]
[null,"Symbol",null,null,"Ir",null,null,"Elektronegativität",null,null,"2.2"]
[null,"deutscher Name",null,null,"Iridium",null,null,"Verdampfungswärme",null,null,"152"]
[null,"englischer Name",null,null,"Iridium",null,null,"Schmelzwärme",null,null,"6.6"]
[null,"Atommasse in u",null,null,"192.2",null,null,"Wärmeleitfähigkeit",null,null,"0.14"]
[null,"Dichte (g/ml)",null,null,"22.5",null,null,"Atomvolumen, W/D",null,null,"8.54"]
[null,"Schmelzpunkt, °C",null,null,"2454",null,null,"Ionenradius, Å",null,null,"0.66(+4) , -"]
[null,"Siedepunkt, °C",null,null,"5300",null,null,"Atomradius, Å",null,null,"1.36"]
[null,"Kristallstruktur",null,null,"kubisch, frontzentriert",null,null,"kovalenter Radius, Å",null,null,"1.27"]
[null,"Spezifische Wärme",null,null,"0.031",null,null,"spezifische elektr.",null,null,"0.189"]
[null,"(cal/g/°C)",null,null,null,null,null,"Leitfähigkeit"]
[null,"Elektronen-",null,null,"[Xe]4f^14 5d^7 6s^2",null,null,"Ionisierungsenergie",null,null,"212"]
[null,"konfiguration",null,null,null,null,null,"für das 1. Elektron"]
[null,"Säure-Base-",null,null,"basisch",null,null,"zurück zum PSE"]
[null,"Eigenschaften"]
[]
[]
[]
[]
[]
[]
[]
[]
[]
[null,null,"Genauere Informationen"]
[]
[null,"Ordnungszahl",null,null,"78",null,null,"Oxidationszahl",null,null,"2,4"]
[null,"Symbol",null,null,"Pt",null,null,"Elektronegativität",null,null,"2.2"]
[null,"deutscher Name",null,null,"Platin",null,null,"Verdampfungswärme",null,null,"122"]
[null,"englischer Name",null,null,"Platinum",null,null,"Schmelzwärme",null,null,"4.7"]
[null,"Atommasse in u",null,null,"195.09",null,null,"Wärmeleitfähigkeit",null,null,"0.17"]
[null,"Dichte (g/ml)",null,null,"21.4",null,null,"Atomvolumen, W/D",null,null,"9.10"]
[null,"Schmelzpunkt, °C",null,null,"1769",null,null,"Ionenradius, Å",null,null,"0.96(+2) , -"]
[null,"Siedepunkt, °C",null,null,"4530",null,null,"Atomradius, Å",null,null,"1.39"]
[null,"Kristallstruktur",null,null,"kubisch, frontzentriert",null,null,"kovalenter Radius, Å",null,null,"1.30"]
[null,"Spezifische Wärme",null,null,"0.032",null,null,"spezifische elektr.",null,null,"0.095"]
[null,"(cal/g/°C)",null,null,null,null,null,"Leitfähigkeit"]
[null,"Elektronen-",null,null,"[Xe]4f^14 5d^9 6s^1",null,null,"Ionisierungsenergie",null,null,"207"]
[null,"konfiguration",null,null,null,null,null,"für das 1. Elektron"]
[null,"Säure-Base-",null,null,"basisch",null,null,"zurück zum PSE"]
[null,"Eigenschaften"]
[]
[]
[]
[]
[]
[]
[]
[]
[]
[null,null,"Genauere Informationen"]
[]
[null,"Ordnungszahl",null,null,"79",null,null,"Oxidationszahl",null,null,"3,1"]
[null,"Symbol",null,null,"Au",null,null,"Elektronegativität",null,null,"2.4"]
[null,"deutscher Name",null,null,"Gold",null,null,"Verdampfungswärme",null,null,"81.8"]
[null,"englischer Name",null,null,"Gold",null,null,"Schmelzwärme",null,null,"3.03"]
[null,"Atommasse in u",null,null,"196.967",null,null,"Wärmeleitfähigkeit",null,null,"0.71"]
[null,"Dichte (g/ml)",null,null,"19.3",null,null,"Atomvolumen, W/D",null,null,"10.2"]
[null,"Schmelzpunkt, °C",null,null,"1063",null,null,"Ionenradius, Å",null,null,"1.37(+1) , -"]
[null,"Siedepunkt, °C",null,null,"2870",null,null,"Atomradius, Å",null,null,"1.46"]
[null,"Kristallstruktur",null,null,"kubisch, frontzentriert",null,null,"kovalenter Radius, Å",null,null,"1.34"]
[null,"Spezifische Wärme",null,null,"0.031",null,null,"spezifische elektr.",null,null,"0.42"]
[null,"(cal/g/°C)",null,null,null,null,null,"Leitfähigkeit"]
[null,"Elektronen-",null,null,"[Xe]4f^14 5d^10 6s^1",null,null,"Ionisierungsenergie",null,null,"213"]
[null,"konfiguration",null,null,null,null,null,"für das 1. Elektron"]
[null,"Säure-Base-",null,null,"amphoter",null,null,"zurück zum PSE"]
[null,"Eigenschaften"]
[]
[]
[]
[]
[]
[]
[]
[]
[]
[null,null,"Genauere Informationen"]
[]
[null,"Ordnungszahl",null,null,"80",null,null,"Oxidationszahl",null,null,"2,1"]
[null,"Symbol",null,null,"Hg",null,null,"Elektronegativität",null,null,"1.9"]
[null,"deutscher Name",null,null,"Quecksilber",null,null,"Verdampfungswärme",null,null,"13.99"]
[null,"englischer Name",null,null,"Mercury",null,null,"Schmelzwärme",null,null,"0.56"]
[null,"Atommasse in u",null,null,"200.59",null,null,"Wärmeleitfähigkeit",null,null,"0.02"]
[null,"Dichte (g/ml)",null,null,"13.6",null,null,"Atomvolumen, W/D",null,null,"14.8"]
[null,"Schmelzpunkt, °C",null,null,"-38.4",null,null,"Ionenradius, Å",null,null,"1.10(+2) , -"]
[null,"Siedepunkt, °C",null,null,"357",null,null,"Atomradius, Å",null,null,"1.57"]
[null,"Kristallstruktur",null,null,"rhombohedral",null,null,"kovalenter Radius, Å",null,null,"1.49"]
[null,"Spezifische Wärme",null,null,"0.033",null,null,"spezifische elektr.",null,null,"0.011"]
[null,"(cal/g/°C)",null,null,null,null,null,"Leitfähigkeit"]
[null,"Elektronen-",null,null,"[Xe]4f^14 5d^10 6s^2",null,null,"Ionisierungsenergie",null,null,"241"]
[null,"konfiguration",null,null,null,null,null,"für das 1. Elektron"]
[null,"Säure-Base-",null,null,"basisch",null,null,"zurück zum PSE"]
[null,"Eigenschaften"]
[]
[]
[]
[]
[]
[]
[]
[]
[]
[null,null,"Genauere Informationen"]
[]
[null,"Ordnungszahl",null,null,"81",null,null,"Oxidationszahl",null,null,"3,1"]
[null,"Symbol",null,null,"Tl",null,null,"Elektronegativität",null,null,"1.8"]
[null,"deutscher Name",null,null,"Thallium",null,null,"Verdampfungswärme",null,null,"38.8"]
[null,"englischer Name",null,null,"Thallium",null,null,"Schmelzwärme",null,null,"1.02"]
[null,"Atommasse in u",null,null,"204.37",null,null,"Wärmeleitfähigkeit",null,null,"0.093"]
[null,"Dichte (g/ml)",null,null,"11.85",null,null,"Atomvolumen, W/D",null,null,"17.2"]
[null,"Schmelzpunkt, °C",null,null,"303",null,null,"Ionenradius, Å",null,null,"1.40(+1) , 0.95(+3)"]
[null,"Siedepunkt, °C",null,null,"1457",null,null,"Atomradius, Å",null,null,"1.71"]
[null,"Kristallstruktur",null,null,"hexagonal",null,null,"kovalenter Radius, Å",null,null,"1.48"]
[null,"Spezifische Wärme",null,null,"0.031",null,null,"spezifische elektr.",null,null,"0.055"]
[null,"(cal/g/°C)",null,null,null,null,null,"Leitfähigkeit"]
[null,"Elektronen-",null,null,"[Xe]4f^14 5d^10 6s^2 6p^1",null,null,"Ionisierungsenergie",null,null,"141"]
[null,"konfiguration",null,null,null,null,null,"für das 1. Elektron"]
[null,"Säure-Base-",null,null,"basisch",null,null,"zurück zum PSE"]
[null,"Eigenschaften"]
[]
[]
[]
[]
[]
[]
[]
[]
[]
[null,null,"Genauere Informationen"]
[]
[null,"Ordnungszahl",null,null,"82",null,null,"Oxidationszahl",null,null,"4,2"]
[null,"Symbol",null,null,"Pb",null,null,"Elektronegativität",null,null,"1.8"]
[null,"deutscher Name",null,null,"Blei",null,null,"Verdampfungswärme",null,null,"42.4"]
[null,"englischer Name",null,null,"Lead",null,null,"Schmelzwärme",null,null,"1.22"]
[null,"Atommasse in u",null,null,"207.19",null,null,"Wärmeleitfähigkeit",null,null,"0.083"]
[null,"Dichte (g/ml)",null,null,"11.4",null,null,"Atomvolumen, W/D",null,null,"18.3"]
[null,"Schmelzpunkt, °C",null,null,"327.4",null,null,"Ionenradius, Å",null,null,"1.20(+2) , 0.84(+4)"]
[null,"Siedepunkt, °C",null,null,"1725",null,null,"Atomradius, Å",null,null,"1.75"]
[null,"Kristallstruktur",null,null,"kubisch, frontzentriert",null,null,"kovalenter Radius, Å",null,null,"1.47"]
[null,"Spezifische Wärme",null,null,"0.031",null,null,"spezifische elektr.",null,null,"0.046"]
[null,"(cal/g/°C)",null,null,null,null,null,"Leitfähigkeit"]
[null,"Elektronen-",null,null,"[Xe]4f^14 5d^10 6s^2 6p^2",null,null,"Ionisierungsenergie",null,null,"171"]
[null,"konfiguration",null,null,null,null,null,"für das 1. Elektron"]
[null,"Säure-Base-",null,null,"amphoter",null,null,"zurück zum PSE"]
[null,"Eigenschaften"]
[]
[]
[]
[]
[]
[]
[]
[]
[]
[null,null,"Genauere Informationen"]
[]
[null,"Ordnungszahl",null,null,"83",null,null,"Oxidationszahl",null,null,"3,5"]
[null,"Symbol",null,null,"Bi",null,null,"Elektronegativität",null,null,"1.9"]
[null,"deutscher Name",null,null,"Bismut",null,null,"Verdampfungswärme",null,null,"42.7"]
[null,"englischer Name",null,null,"Bismuth",null,null,"Schmelzwärme",null,null,"2.6"]
[null,"Atommasse in u",null,null,"208.980",null,null,"Wärmeleitfähigkeit",null,null,"0.02"]
[null,"Dichte (g/ml)",null,null,"9.8",null,null,"Atomvolumen, W/D",null,null,"21.3"]
[null,"Schmelzpunkt, °C",null,null,"271.3",null,null,"Ionenradius, Å",null,null,"1.20(+2) , 0,74(+5)"]
[null,"Siedepunkt, °C",null,null,"1560",null,null,"Atomradius, Å",null,null,"1.70"]
[null,"Kristallstruktur",null,null,"rhombohedral",null,null,"kovalenter Radius, Å",null,null,"1.46"]
[null,"Spezifische Wärme",null,null,"0.034",null,null,"spezifische elektr.",null,null,"0.009"]
[null,"(cal/g/°C)",null,null,null,null,null,"Leitfähigkeit"]
[null,"Elektronen-",null,null,"[Xe]4f^14 5d^10 6s^2 6p^3",null,null,"Ionisierungsenergie",null,null,"185"]
[null,"konfiguration",null,null,null,null,null,"für das 1. Elektron"]
[null,"Säure-Base-",null,null,"sauer",null,null,"zurück zum PSE"]
[null,"Eigenschaften"]
[]
[]
[]
[]
[]
[]
[]
[]
[]
[null,null,"Genauere Informationen"]
[]
[null,"Ordnungszahl",null,null,"84",null,null,"Oxidationszahl",null,null,"2,4"]
[null,"Symbol",null,null,"Po",null,null,"Elektronegativität",null,null,"2.2"]
[null,"deutscher Name",null,null,"Polonium",null,null,"Verdampfungswärme",null,null,"29"]
[null,"englischer Name",null,null,"Polonium",null,null,"Schmelzwärme",null,null,"-"]
[null,"Atommasse in u",null,null,"(210)",null,null,"Wärmeleitfähigkeit",null,null,"-"]
[null,"Dichte (g/ml)",null,null,"(9.2)",null,null,"Atomvolumen, W/D",null,null,"22.7"]
[null,"Schmelzpunkt, °C",null,null,"254",null,null,"Ionenradius, Å",null,null,"- , -"]
[null,"Siedepunkt, °C",null,null,"-",null,null,"Atomradius, Å",null,null,"1.76"]
[null,"Kristallstruktur",null,null,"monoclinic",null,null,"kovalenter Radius, Å",null,null,"1.46"]
[null,"Spezifische Wärme",null,null,"-",null,null,"spezifische elektr.",null,null,"0.02"]
[null,"(cal/g/°C)",null,null,null,null,null,"Leitfähigkeit"]
[null,"Elektronen-",null,null,"[Xe]4f^14 5d^10 6s^2 6p^4",null,null,"Ionisierungsenergie",null,null,"-"]
[null,"konfiguration",null,null,null,null,null,"für das 1. Elektron"]
[null,"Säure-Base-",null,null,"amphoter",null,null,"zurück zum PSE"]
[null,"Eigenschaften"]
[]
[]
[]
[]
[]
[]
[]
[]
[]
[null,null,"Genauere Informationen"]
[]
[null,"Ordnungszahl",null,null,"85",null,null,"Oxidationszahl",null,null,"(+/-)1,3,5,7"]
[null,"Symbol",null,null,"At",null,null,"Elektronegativität",null,null,"2.2"]
[null,"deutscher Name",null,null,"Astat",null,null,"Verdampfungswärme",null,null,"8"]
[null,"englischer Name",null,null,"Astatine",null,null,"Schmelzwärme",null,null,"-"]
[null,"Atommasse in u",null,null,"(210)",null,null,"Wärmeleitfähigkeit",null,null,"-"]
[null,"Dichte (g/ml)",null,null,"-",null,null,"Atomvolumen, W/D",null,null,"-"]
[null,"Schmelzpunkt, °C",null,null,"(302)",null,null,"Ionenradius, Å",null,null,"- , -"]
[null,"Siedepunkt, °C",null,null,"-",null,null,"Atomradius, Å",null,null,"-"]
[null,"Kristallstruktur",null,null,"-",null,null,"kovalenter Radius, Å",null,null,"(1.45)"]
[null,"Spezifische Wärme",null,null,"-",null,null,"spezifische elektr.",null,null,"-"]
[null,"(cal/g/°C)",null,null,null,null,null,"Leitfähigkeit"]
[null,"Elektronen-",null,null,"[Xe]4f^14 5d^10 6s^2 6p^5",null,null,"Ionisierungsenergie",null,null,"-"]
[null,"konfiguration",null,null,null,null,null,"für das 1. Elektron"]
[null,"Säure-Base-",null,null,"-",null,null,"zurück zum PSE"]
[null,"Eigenschaften"]
[]
[]
[]
[]
[]
[]
[]
[]
[]
[null,null,"Genauere Informationen"]
[]
[null,"Ordnungszahl",null,null,"86",null,null,"Oxidationszahl",null,null,"-"]
[null,"Symbol",null,null,"Rn",null,null,"Elektronegativität",null,null,"-"]
[null,"deutscher Name",null,null,"Radon",null,null,"Verdampfungswärme",null,null,"3.92"]
[null,"englischer Name",null,null,"Radon",null,null,"Schmelzwärme",null,null,"0.69"]
[null,"Atommasse in u",null,null,"(222)",null,null,"Wärmeleitfähigkeit",null,null,"-"]
[null,"Dichte (g/ml)",null,null,"-",null,null,"Atomvolumen, W/D",null,null,"-"]
[null,"Schmelzpunkt, °C",null,null,"(-71)",null,null,"Ionenradius, Å",null,null,"- , -"]
[null,"Siedepunkt, °C",null,null,"(-61.8)",null,null,"Atomradius, Å",null,null,"-"]
[null,"Kristallstruktur",null,null,"kubisch, frontzentroert",null,null,"kovalenter Radius, Å",null,null,"-"]
[null,"Spezifische Wärme",null,null,"-",null,null,"spezifische elektr.",null,null,"-"]
[null,"(cal/g/°C)",null,null,null,null,null,"Leitfähigkeit"]
[null,"Elektronen-",null,null,"[Xe]4f^14 5d^10 6s^2 6p^6",null,null,"Ionisierungsenergie",null,null,"248"]
[null,"konfiguration",null,null,null,null,null,"für das 1. Elektron"]
[null,"Säure-Base-",null,null,"-",null,null,"zurück zum PSE"]
[null,"Eigenschaften"]
[]
[]
[]
[]
[]
[]
[]
[]
[]
[null,null,"Genauere Informationen"]
[]
[null,"Ordnungszahl",null,null,"87",null,null,"Oxidationszahl",null,null,"1"]
[null,"Symbol",null,null,"Fr",null,null,"Elektronegativität",null,null,"0.7"]
[null,"deutscher Name",null,null,"Francium",null,null,"Verdampfungswärme",null,null,"-"]
[null,"englischer Name",null,null,"Francium",null,null,"Schmelzwärme",null,null,"-"]
[null,"Atommasse in u",null,null,"(223)",null,null,"Wärmeleitfähigkeit",null,null,"-"]
[null,"Dichte (g/ml)",null,null,"-",null,null,"Atomvolumen, W/D",null,null,"-"]
[null,"Schmelzpunkt, °C",null,null,"(27)",null,null,"Ionenradius, Å",null,null,"1,75(+1) , -"]
[null,"Siedepunkt, °C",null,null,"-",null,null,"Atomradius, Å",null,null,"-"]
[null,"Kristallstruktur",null,null,"kubisch, raumzentriert",null,null,"kovalenter Radius, Å",null,null,"-"]
[null,"Spezifische Wärme",null,null,"-",null,null,"spezifische elektr.",null,null,"-"]
[null,"(cal/g/°C)",null,null,null,null,null,"Leitfähigkeit"]
[null,"Elektronen-",null,null,"[Rn]7s^1",null,null,"Ionisierungsenergie",null,null,"-"]
[null,"konfiguration",null,null,null,null,null,"für das 1. Elektron"]
[null,"Säure-Base-",null,null,"basisch",null,null,"zurück zum PSE"]
[null,"Eigenschaften"]
[]
[]
[]
[]
[]
[]
[]
[]
[]
[null,null,"Genauere Informationen"]
[]
[null,"Ordnungszahl",null,null,"88",null,null,"Oxidationszahl",null,null,"2"]
[null,"Symbol",null,null,"Ra",null,null,"Elektronegativität",null,null,"0.9"]
[null,"deutscher Name",null,null,"Radium",null,null,"Verdampfungswärme",null,null,"27.4"]
[null,"englischer Name",null,null,"Radium",null,null,"Schmelzwärme",null,null,"2.4"]
[null,"Atommasse in u",null,null,"(226)",null,null,"Wärmeleitfähigkeit",null,null,"-"]
[null,"Dichte (g/ml)",null,null,"5.0",null,null,"Atomvolumen, W/D",null,null,"45"]
[null,"Schmelzpunkt, °C",null,null,"700",null,null,"Ionenradius, Å",null,null,"1.40(+2) , -"]
[null,"Siedepunkt, °C",null,null,"-",null,null,"Atomradius, Å",null,null,"-"]
[null,"Kristallstruktur",null,null,"-",null,null,"kovalenter Radius, Å",null,null,"-"]
[null,"Spezifische Wärme",null,null,"-",null,null,"spezifische elektr.",null,null,"-"]
[null,"(cal/g/°C)",null,null,null,null,null,"Leitfähigkeit"]
[null,"Elektronen-",null,null,"[Rn]7s^2",null,null,"Ionisierungsenergie",null,null,"-"]
[null,"konfiguration",null,null,null,null,null,"für das 1. Elektron"]
[null,"Säure-Base-",null,null,"basisch",null,null,"zurück zum PSE"]
[null,"Eigenschaften"]
[]
[]
[]
[]
[]
[]
[]
[]
[]
[null,null,"Genauere Informationen"]
[]
[null,"Ordnungszahl",null,null,"89",null,null,"Oxidationszahl",null,null,"3"]
[null,"Symbol",null,null,"Ac",null,null,"Elektronegativität",null,null,"1.1"]
[null,"deutscher Name",null,null,"Actinium",null,null,"Verdampfungswärme",null,null,"-"]
[null,"englischer Name",null,null,"Actinium",null,null,"Schmelzwärme",null,null,"-"]
[null,"Atommasse in u",null,null,"(227)",null,null,"Wärmeleitfähigkeit",null,null,"-"]
[null,"Dichte (g/ml)",null,null,"-",null,null,"Atomvolumen, W/D",null,null,"-"]
[null,"Schmelzpunkt, °C",null,null,"1050",null,null,"Ionenradius, Å",null,null,"1.18(+3) , -"]
[null,"Siedepunkt, °C",null,null,"-",null,null,"Atomradius, Å",null,null,"1.88"]
[null,"Kristallstruktur",null,null,"-",null,null,"kovalenter Radius, Å",null,null,"-"]
[null,"Spezifische Wärme",null,null,"-",null,null,"spezifische elektr.",null,null,"-"]
[null,"(cal/g/°C)",null,null,null,null,null,"Leitfähigkeit"]
[null,"Elektronen-",null,null,"[Rn]6d^1 7s^2",null,null,"Ionisierungsenergie",null,null,"-"]
[null,"konfiguration",null,null,null,null,null,"für das 1. Elektron"]
[null,"Säure-Base-",null,null,"-",null,null,"zurück zum PSE"]
[null,"Eigenschaften"]
[]
[]
[]
[]
[]
[]
[]
[]
[]
[null,null,"Genauere Informationen"]
[]
[null,"Ordnungszahl",null,null,"90",null,null,"Oxidationszahl",null,null,"4"]
[null,"Symbol",null,null,"Th",null,null,"Elektronegativität",null,null,"1.3"]
[null,"deutscher Name",null,null,"Thorium",null,null,"Verdampfungswärme",null,null,"-"]
[null,"englischer Name",null,null,"Thorium",null,null,"Schmelzwärme",null,null,"4.6"]
[null,"Atommasse in u",null,null,"232.038",null,null,"Wärmeleitfähigkeit",null,null,"-"]
[null,"Dichte (g/ml)",null,null,"11.7",null,null,"Atomvolumen, W/D",null,null,"19.9"]
[null,"Schmelzpunkt, °C",null,null,"1750",null,null,"Ionenradius, Å",null,null,"1.14(+3) , 0,95(+4)"]
[null,"Siedepunkt, °C",null,null,"3850",null,null,"Atomradius, Å",null,null,"1.80"]
[null,"Kristallstruktur",null,null,"kubisch, frontzentriert",null,null,"kovalenter Radius, Å",null,null,"1.65"]
[null,"Spezifische Wärme",null,null,"0.034",null,null,"spezifische elektr.",null,null,"0.055"]
[null,"(cal/g/°C)",null,null,null,null,null,"Leitfähigkeit"]
[null,"Elektronen-",null,null,"[Rn]5f^0 6d^2 7s^2",null,null,"Ionisierungsenergie",null,null,"--"]
[null,"konfiguration",null,null,null,null,null,"für das 1. Elektron"]
[null,"Säure-Base-",null,null,"basisch",null,null,"zurück zum PSE"]
[null,"Eigenschaften"]
[]
[]
[]
[]
[]
[]
[]
[]
[]
[null,null,"Genauere Informationen"]
[]
[null,"Ordnungszahl",null,null,"91",null,null,"Oxidationszahl",null,null,"5,4"]
[null,"Symbol",null,null,"Pa",null,null,"Elektronegativität",null,null,"1.5"]
[null,"deutscher Name",null,null,"Protactinium",null,null,"Verdampfungswärme",null,null,"130"]
[null,"englischer Name",null,null,"Protactinium",null,null,"Schmelzwärme",null,null,"-"]
[null,"Atommasse in u",null,null,"(231)",null,null,"Wärmeleitfähigkeit",null,null,"-"]
[null,"Dichte (g/ml)",null,null,"15.4",null,null,"Atomvolumen, W/D",null,null,"15.0"]
[null,"Schmelzpunkt, °C",null,null,"(1230)",null,null,"Ionenradius, Å",null,null,"1.12(+3) , 0.98(+4)"]
[null,"Siedepunkt, °C",null,null,"-",null,null,"Atomradius, Å",null,null,"1.61"]
[null,"Kristallstruktur",null,null,"-",null,null,"kovalenter Radius, Å",null,null,"-"]
[null,"Spezifische Wärme",null,null,"-",null,null,"spezifische elektr.",null,null,"-"]
[null,"(cal/g/°C)",null,null,null,null,null,"Leitfähigkeit"]
[null,"Elektronen-",null,null,"[Rn]5f^2 6d^1 7s^2",null,null,"Ionisierungsenergie",null,null,"-"]
[null,"konfiguration",null,null,null,null,null,"für das 1. Elektron"]
[null,"Säure-Base-",null,null,"basisch",null,null,"zurück zum PSE"]
[null,"Eigenschaften"]
[]
[]
[]
[]
[]
[]
[]
[]
[]
[null,null,"Genauere Informationen"]
[]
[null,"Ordnungszahl",null,null,"92",null,null,"Oxidationszahl",null,null,"6,5,4,3"]
[null,"Symbol",null,null,"U",null,null,"Elektronegativität",null,null,"1.7"]
[null,"deutscher Name",null,null,"Uran",null,null,"Verdampfungswärme",null,null,"110"]
[null,"englischer Name",null,null,"Uranium",null,null,"Schmelzwärme",null,null,"2.7"]
[null,"Atommasse in u",null,null,"238.03",null,null,"Wärmeleitfähigkeit",null,null,"-"]
[null,"Dichte (g/ml)",null,null,"19.07",null,null,"Atomvolumen, W/D",null,null,"12.5"]
[null,"Schmelzpunkt, °C",null,null,"1132",null,null,"Ionenradius, Å",null,null,"1.11(+3) , 0.97(+4)"]
[null,"Siedepunkt, °C",null,null,"3818",null,null,"Atomradius, Å",null,null,"1.38"]
[null,"Kristallstruktur",null,null,"kubisch",null,null,"kovalenter Radius, Å",null,null,"1.42"]
[null,"Spezifische Wärme",null,null,"03028",null,null,"spezifische elektr.",null,null,"0.034"]
[null,"(cal/g/°C)",null,null,null,null,null,"Leitfähigkeit"]
[null,"Elektronen-",null,null,"[Rn]5f^3 6d^1 7s^2",null,null,"Ionisierungsenergie",null,null,"-"]
[null,"konfiguration",null,null,null,null,null,"für das 1. Elektron"]
[null,"Säure-Base-",null,null,"amphoter",null,null,"zurück zum PSE"]
[null,"Eigenschaften"]
[]
[]
[]
[]
[]
[]
[]
[]
[]
[null,null,"Genauere Informationen"]
[]
[null,"Ordnungszahl",null,null,"93",null,null,"Oxidationszahl",null,null,"6,5,4,3"]
[null,"Symbol",null,null,"Np",null,null,"Elektronegativität",null,null,"1.3"]
[null,"deutscher Name",null,null,"Neptunium",null,null,"Verdampfungswärme",null,null,"94.3"]
[null,"englischer Name",null,null,"Neptunium",null,null,"Schmelzwärme",null,null,"-"]
[null,"Atommasse in u",null,null,"(237)",null,null,"Wärmeleitfähigkeit",null,null,"-"]
[null,"Dichte (g/ml)",null,null,"19.5",null,null,"Atomvolumen, W/D",null,null,"21.1"]
[null,"Schmelzpunkt, °C",null,null,"637",null,null,"Ionenradius, Å",null,null,"1.09(+3) , 0.95(+4)"]
[null,"Siedepunkt, °C",null,null,"-",null,null,"Atomradius, Å",null,null,"1.3"]
[null,"Kristallstruktur",null,null,"-",null,null,"kovalenter Radius, Å",null,null,"-"]
[null,"Spezifische Wärme",null,null,null,null,null,"spezifische elektr.",null,null,"-"]
[null,"(cal/g/°C)",null,null,null,null,null,"Leitfähigkeit"]
[null,"Elektronen-",null,null,"[Rn]5f^4 6d^1 7s^2",null,null,"Ionisierungsenergie",null,null,"-"]
[null,"konfiguration",null,null,null,null,null,"für das 1. Elektron"]
[null,"Säure-Base-",null,null,"amphoter",null,null,"zurück zum PSE"]
[null,"Eigenschaften"]
[]
[]
[]
[]
[]
[]
[]
[]
[]
[null,null,"Genauere Informationen"]
[]
[null,"Ordnungszahl",null,null,"94",null,null,"Oxidationszahl",null,null,"6,5,4,3"]
[null,"Symbol",null,null,"Pu",null,null,"Elektronegativität",null,null,"1.3"]
[null,"deutscher Name",null,null,"Plutonium",null,null,"Verdampfungswärme",null,null,"87.2"]
[null,"englischer Name",null,null,"Plutonium",null,null,"Schmelzwärme",null,null,"-"]
[null,"Atommasse in u",null,null,"(242)",null,null,"Wärmeleitfähigkeit",null,null,"-"]
[null,"Dichte (g/ml)",null,null,"-",null,null,"Atomvolumen, W/D",null,null,"-"]
[null,"Schmelzpunkt, °C",null,null,"640",null,null,"Ionenradius, Å",null,null,"1.07(+3) , 0.93(+4)"]
[null,"Siedepunkt, °C",null,null,"3235",null,null,"Atomradius, Å",null,null,"1.51"]
[null,"Kristallstruktur",null,null,"-",null,null,"kovalenter Radius, Å",null,null,"-"]
[null,"Spezifische Wärme",null,null,"-",null,null,"spezifische elektr.",null,null,"-"]
[null,"(cal/g/°C)",null,null,null,null,null,"Leitfähigkeit"]
[null,"Elektronen-",null,null,"[Rn]5f^6 6d^0 7s^2",null,null,"Ionisierungsenergie",null,null,"-"]
[null,"konfiguration",null,null,null,null,null,"für das 1. Elektron"]
[null,"Säure-Base-",null,null,"amphoter",null,null,"zurück zum PSE"]
[null,"Eigenschaften"]
[]
[]
[]
[]
[]
[]
[]
[]
[]
[null,null,"Genauere Informationen"]
[]
[null,"Ordnungszahl",null,null,"95",null,null,"Oxidationszahl",null,null,"6,5,4,3"]
[null,"Symbol",null,null,"Am",null,null,"Elektronegativität",null,null,"1.3"]
[null,"deutscher Name",null,null,"Americium",null,null,"Verdampfungswärme",null,null,"60.2"]
[null,"englischer Name",null,null,"Americium",null,null,"Schmelzwärme",null,null,"-"]
[null,"Atommasse in u",null,null,"(243)",null,null,"Wärmeleitfähigkeit",null,null,"-"]
[null,"Dichte (g/ml)",null,null,"11.7",null,null,"Atomvolumen, W/D",null,null,"20.8"]
[null,"Schmelzpunkt, °C",null,null,"-",null,null,"Ionenradius, Å",null,null,"1.06(+3) , 0.92(+4)"]
[null,"Siedepunkt, °C",null,null,"-",null,null,"Atomradius, Å",null,null,"1.73"]
[null,"Kristallstruktur",null,null,"-",null,null,"kovalenter Radius, Å",null,null,"-"]
[null,"Spezifische Wärme",null,null,"0.033",null,null,"spezifische elektr.",null,null,"0.007"]
[null,"(cal/g/°C)",null,null,null,null,null,"Leitfähigkeit"]
[null,"Elektronen-",null,null,"[Rn]5f^7 6d^0 7s^2",null,null,"Ionisierungsenergie",null,null,"-"]
[null,"konfiguration",null,null,null,null,null,"für das 1. Elektron"]
[null,"Säure-Base-",null,null,"-",null,null,"zurück zum PSE"]
[null,"Eigenschaften"]
[]
[]
[]
[]
[]
[]
[]
[]
[]
[null,null,"Genauere Informationen"]
[]
[null,"Ordnungszahl",null,null,"96",null,null,"Oxidationszahl",null,null,"3"]
[null,"Symbol",null,null,"Cm",null,null,"Elektronegativität",null,null,"-"]
[null,"deutscher Name",null,null,"Curium",null,null,"Verdampfungswärme",null,null,"-"]
[null,"englischer Name",null,null,"Curium",null,null,"Schmelzwärme",null,null,"-"]
[null,"Atommasse in u",null,null,"(247)",null,null,"Wärmeleitfähigkeit",null,null,"-"]
[null,"Dichte (g/ml)",null,null,"-",null,null,"Atomvolumen, W/D",null,null,"-"]
[null,"Schmelzpunkt, °C",null,null,"-",null,null,"Ionenradius, Å",null,null,"-"]
[null,"Siedepunkt, °C",null,null,"-",null,null,"Atomradius, Å",null,null,"-"]
[null,"Kristallstruktur",null,null,"-",null,null,"kovalenter Radius, Å",null,null,"-"]
[null,"Spezifische Wärme",null,null,"-",null,null,"spezifische elektr.",null,null,"-"]
[null,"(cal/g/°C)",null,null,null,null,null,"Leitfähigkeit"]
[null,"Elektronen-",null,null,"[Rn]5f^7 6d^1 7s^2",null,null,"Ionisierungsenergie",null,null,"-"]
[null,"konfiguration",null,null,null,null,null,"für das 1. Elektron"]
[null,"Säure-Base-",null,null,"-",null,null,"zurück zum PSE"]
[null,"Eigenschaften"]
[]
[]
[]
[]
[]
[]
[]
[]
[]
[null,null,"Genauere Informationen"]
[]
[null,"Ordnungszahl",null,null,"97",null,null,"Oxidationszahl",null,null,"4,3"]
[null,"Symbol",null,null,"Bk",null,null,"Elektronegativität",null,null,"-"]
[null,"deutscher Name",null,null,"Berkelium",null,null,"Verdampfungswärme",null,null,"-"]
[null,"englischer Name",null,null,"Berkelium",null,null,"Schmelzwärme",null,null,"-"]
[null,"Atommasse in u",null,null,"(247)",null,null,"Wärmeleitfähigkeit",null,null,"-"]
[null,"Dichte (g/ml)",null,null,"-",null,null,"Atomvolumen, W/D",null,null,"-"]
[null,"Schmelzpunkt, °C",null,null,"-",null,null,"Ionenradius, Å",null,null,"-"]
[null,"Siedepunkt, °C",null,null,"-",null,null,"Atomradius, Å",null,null,"-"]
[null,"Kristallstruktur",null,null,"-",null,null,"kovalenter Radius, Å",null,null,"-"]
[null,"Spezifische Wärme",null,null,"-",null,null,"spezifische elektr.",null,null,"-"]
[null,"(cal/g/°C)",null,null,null,null,null,"Leitfähigkeit"]
[null,"Elektronen-",null,null,"[Rn]5f^9 6d^0 7s^2",null,null,"Ionisierungsenergie",null,null,"-"]
[null,"konfiguration",null,null,null,null,null,"für das 1. Elektron"]
[null,"Säure-Base-",null,null,"-",null,null,"zurück zum PSE"]
[null,"Eigenschaften"]
[]
[]
[]
[]
[]
[]
[]
[]
[]
[null,null,"Genauere Informationen"]
[]
[null,"Ordnungszahl",null,null,"98",null,null,"Oxidationszahl",null,null,"3"]
[null,"Symbol",null,null,"Cf",null,null,"Elektronegativität",null,null,"-"]
[null,"deutscher Name",null,null,"Californium",null,null,"Verdampfungswärme",null,null,"-"]
[null,"englischer Name",null,null,"Californium",null,null,"Schmelzwärme",null,null,"-"]
[null,"Atommasse in u",null,null,"(249)",null,null,"Wärmeleitfähigkeit",null,null,"-"]
[null,"Dichte (g/ml)",null,null,"-",null,null,"Atomvolumen, W/D",null,null,"-"]
[null,"Schmelzpunkt, °C",null,null,"-",null,null,"Ionenradius, Å",null,null,"-"]
[null,"Siedepunkt, °C",null,null,"-",null,null,"Atomradius, Å",null,null,"-"]
[null,"Kristallstruktur",null,null,"-",null,null,"kovalenter Radius, Å",null,null,"-"]
[null,"Spezifische Wärme",null,null,"-",null,null,"spezifische elektr.",null,null,"-"]
[null,"(cal/g/°C)",null,null,null,null,null,"Leitfähigkeit"]
[null,"Elektronen-",null,null,"[Rn]5f^10 6d^0 7s^2",null,null,"Ionisierungsenergie",null,null,"-"]
[null,"konfiguration",null,null,null,null,null,"für das 1. Elektron"]
[null,"Säure-Base-",null,null,"-",null,null,"zurück zum PSE"]
[null,"Eigenschaften"]
[]
[]
[]
[]
[]
[]
[]
[]
[]
[null,null,"Genauere Informationen"]
[]
[null,"Ordnungszahl",null,null,"99",null,null,"Oxidationszahl",null,null,"-"]
[null,"Symbol",null,null,"Es",null,null,"Elektronegativität",null,null,"-"]
[null,"deutscher Name",null,null,"Einsteinium",null,null,"Verdampfungswärme",null,null,"-"]
[null,"englischer Name",null,null,"Einsteinium",null,null,"Schmelzwärme",null,null,"-"]
[null,"Atommasse in u",null,null,"(254)",null,null,"Wärmeleitfähigkeit",null,null,"-"]
[null,"Dichte (g/ml)",null,null,"-",null,null,"Atomvolumen, W/D",null,null,"-"]
[null,"Schmelzpunkt, °C",null,null,"-",null,null,"Ionenradius, Å",null,null,"-"]
[null,"Siedepunkt, °C",null,null,"-",null,null,"Atomradius, Å",null,null,"-"]
[null,"Kristallstruktur",null,null,"-",null,null,"kovalenter Radius, Å",null,null,"-"]
[null,"Spezifische Wärme",null,null,"-",null,null,"spezifische elektr.",null,null,"-"]
[null,"(cal/g/°C)",null,null,null,null,null,"Leitfähigkeit"]
[null,"Elektronen-",null,null,"[Rn]5f^11 6d^0 7s^2",null,null,"Ionisierungsenergie",null,null,"-"]
[null,"konfiguration",null,null,null,null,null,"für das 1. Elektron"]
[null,"Säure-Base-",null,null,"-",null,null,"zurück zum PSE"]
[null,"Eigenschaften"]
[]
[]
[]
[]
[]
[]
[]
[]
[]
[null,null,"Genauere Informationen"]
[]
[null,"Ordnungszahl",null,null,"100",null,null,"Oxidationszahl",null,null,"-"]
[null,"Symbol",null,null,"Fm",null,null,"Elektronegativität",null,null,"-"]
[null,"deutscher Name",null,null,"Fermium",null,null,"Verdampfungswärme",null,null,"-"]
[null,"englischer Name",null,null,"Fermium",null,null,"Schmelzwärme",null,null,"-"]
[null,"Atommasse in u",null,null,"(253)",null,null,"Wärmeleitfähigkeit",null,null,"-"]
[null,"Dichte (g/ml)",null,null,"-",null,null,"Atomvolumen, W/D",null,null,"-"]
[null,"Schmelzpunkt, °C",null,null,"-",null,null,"Ionenradius, Å",null,null,"-"]
[null,"Siedepunkt, °C",null,null,"-",null,null,"Atomradius, Å",null,null,"-"]
[null,"Kristallstruktur",null,null,"-",null,null,"kovalenter Radius, Å",null,null,"-"]
[null,"Spezifische Wärme",null,null,"-",null,null,"spezifische elektr.",null,null,"-"]
[null,"(cal/g/°C)",null,null,null,null,null,"Leitfähigkeit"]
[null,"Elektronen-",null,null,"[Rn]5f^12 6d^0 7s^2",null,null,"Ionisierungsenergie",null,null,"-"]
[null,"konfiguration",null,null,null,null,null,"für das 1. Elektron"]
[null,"Säure-Base-",null,null,"-",null,null,"zurück zum PSE"]
[null,"Eigenschaften"]
[]
[]
[]
[]
[]
[]
[]
[]
[]
[null,null,"Genauere Informationen"]
[]
[null,"Ordnungszahl",null,null,"101",null,null,"Oxidationszahl",null,null,"-"]
[null,"Symbol",null,null,"Md",null,null,"Elektronegativität",null,null,"-"]
[null,"deutscher Name",null,null,"Mendelevium",null,null,"Verdampfungswärme",null,null,"-"]
[null,"englischer Name",null,null,"Mendelevium",null,null,"Schmelzwärme",null,null,"-"]
[null,"Atommasse in u",null,null,"(256)",null,null,"Wärmeleitfähigkeit",null,null,"-"]
[null,"Dichte (g/ml)",null,null,"-",null,null,"Atomvolumen, W/D",null,null,"-"]
[null,"Schmelzpunkt, °C",null,null,"-",null,null,"Ionenradius, Å",null,null,"-"]
[null,"Siedepunkt, °C",null,null,"-",null,null,"Atomradius, Å",null,null,"-"]
[null,"Kristallstruktur",null,null,"-",null,null,"kovalenter Radius, Å",null,null,"-"]
[null,"Spezifische Wärme",null,null,"-",null,null,"spezifische elektr.",null,null,"-"]
[null,"(cal/g/°C)",null,null,null,null,null,"Leitfähigkeit"]
[null,"Elektronen-",null,null,"[Rn]5f^13 6d^0 7s^2",null,null,"Ionisierungsenergie",null,null,"-"]
[null,"konfiguration",null,null,null,null,null,"für das 1. Elektron"]
[null,"Säure-Base-",null,null,"-",null,null,"zurück zum PSE"]
[null,"Eigenschaften"]
[]
[]
[]
[]
[]
[]
[]
[]
[]
[null,null,"Genauere Informationen"]
[]
[null,"Ordnungszahl",null,null,"102",null,null,"Oxidationszahl",null,null,"-"]
[null,"Symbol",null,null,"No",null,null,"Elektronegativität",null,null,"-"]
[null,"deutscher Name",null,null,"Nobelium",null,null,"Verdampfungswärme",null,null,"-"]
[null,"englischer Name",null,null,"Nobelium",null,null,"Schmelzwärme",null,null,"-"]
[null,"Atommasse in u",null,null,"(254)",null,null,"Wärmeleitfähigkeit",null,null,"-"]
[null,"Dichte (g/ml)",null,null,"-",null,null,"Atomvolumen, W/D",null,null,"-"]
[null,"Schmelzpunkt, °C",null,null,"-",null,null,"Ionenradius, Å",null,null,"-"]
[null,"Siedepunkt, °C",null,null,"-",null,null,"Atomradius, Å",null,null,"-"]
[null,"Kristallstruktur",null,null,"-",null,null,"kovalenter Radius, Å",null,null,"-"]
[null,"Spezifische Wärme",null,null,"-",null,null,"spezifische elektr.",null,null,"-"]
[null,"(cal/g/°C)",null,null,null,null,null,"Leitfähigkeit"]
[null,"Elektronen-",null,null,"[Rn]5f^14 6d^0 7s^2",null,null,"Ionisierungsenergie",null,null,"-"]
[null,"konfiguration",null,null,null,null,null,"für das 1. Elektron"]
[null,"Säure-Base-",null,null,"-",null,null,"zurück zum PSE"]
[null,"Eigenschaften"]
[]
[]
[]
[]
[]
[]
[]
[]
[]
[null,null,"Genauere Informationen"]
[]
[null,"Ordnungszahl",null,null,"103",null,null,"Oxidationszahl",null,null,"-"]
[null,"Symbol",null,null,"Lw",null,null,"Elektronegativität",null,null,"-"]
[null,"deutscher Name",null,null,"Lawrencium",null,null,"Verdampfungswärme",null,null,"-"]
[null,"englischer Name",null,null,"Lawrencium",null,null,"Schmelzwärme",null,null,"-"]
[null,"Atommasse in u",null,null,"(257)",null,null,"Wärmeleitfähigkeit",null,null,"-"]
[null,"Dichte (g/ml)",null,null,"-",null,null,"Atomvolumen, W/D",null,null,"-"]
[null,"Schmelzpunkt, °C",null,null,"-",null,null,"Ionenradius, Å",null,null,"-"]
[null,"Siedepunkt, °C",null,null,"-",null,null,"Atomradius, Å",null,null,"-"]
[null,"Kristallstruktur",null,null,"-",null,null,"kovalenter Radius, Å",null,null,"-"]
[null,"Spezifische Wärme",null,null,"-",null,null,"spezifische elektr.",null,null,"-"]
[null,"(cal/g/°C)",null,null,null,null,null,"Leitfähigkeit"]
[null,"Elektronen-",null,null,"[Rn]5f^14 6d^1 7s^2",null,null,"Ionisierungsenergie",null,null,"-"]
[null,"konfiguration",null,null,null,null,null,"für das 1. Elektron"]
[null,"Säure-Base-",null,null,"-",null,null,"zurück zum PSE"]
[null,"Eigenschaften"]
[]
[]
[]
[]
[]
[]
[]
[]
[]
[null,null,"Informationen zu den neuen Elementen",null,null,null,null,null,null,"zurück zum PSE"]
[]
[null,"Gegenwärtig sind 112 Elemente bekannt. Die folgende"]
[null,"Tabelle enthält die Elemente 104-112 nach der"]
[null,"Ordnungszahl sortiert. Für die neuentdeckten Elemente"]
[null,"110 und 112 sind noch keine eingängigen Namen"]
[null,"beschlossen worden; man kann jedoch davon"]
[null,"ausgehen, dass-wie seit einigen Jahrzehnten üblich-"]
[null,"Forschernamen gewählt werden."]
[]
[null,"OZ","Symbol","deutscher Name",null,null,"englischer Name"]
[null,"104","Rf"," Rutherfordium",null,null," Rutherfordium"]
[null,"105","Db"," Dubnium",null,null," Dubnium"]
[null,"106","Sg"," Seaborgium",null,null," Seaborgium"]
[null,"107","Bh"," Bohrium",null,null," Bohrium"]
[null,"108","Hs"," Hassium",null,null," Hassium"]
[null,"109","Mt"," Meitnerium",null,null," Meitnerium"]
[null,"110","Uun"," Ununnilium",null,null," Ununnilium"]
[null,"111","Uuu"," Unununium",null,null," Unununium"]
[null,"112","Uub"," Ununbium",null,null," Ununbium"]
[]
[]
[]
[]
[]
[]
[]
[]
[]
[]
[]
[]
[null,"Definition der im PSE aufgeführten Element-Daten"]
[]
[null,"Ordnungszahl"]
[null,"Anzahl der Protonen im Kern der Atome."]
[]
[null,"Symbol"]
[null,"In chemischen Formeln auftretende Abkürzungen des Elementnamens."]
[]
[null,"deutscher Name"]
[null,"Der deutsche Elementname."]
[]
[null,"englischer Name"]
[null,"Der englische Elementname."]
[]
[null,"Atommasse"]
[null,"Masse eines Atoms relativ zur Masse eines Atoms des Isotops C-12. Mit ()"]
[null,"ist das stabilste oder bekannteste Isotop gemeint."]
[]
[null,"Dichte"]
[null,"Masse pro Volumeneinheit (g/ml). Die Angaben von gasartigen Elementen"]
[null,"sind für Flüssigkeiten beim Siedepunkt."]
[]
[null,"Schmelzpunkt"]
[null,"Die Temperatur, bei der der feste Stoff im Gleichgewicht steht mit seiner"]
[null,"flüssigen Form und zwar unter einem Druck von 1 atm."]
[]
[null,"Siedepunkt"]
[null,"Die Temperatur, bei der der feste Stoff im Gleichgewicht steht mit seinem"]
[null,"Dampf und zwar unter einem Druck von 1 atm."]
[]
[null,"Kristallstruktur"]
[null,"Räumliche Anordnung der Atome im Gitter."]
[]
[null,"Spezifische Wärme"]
[null,"Die Wärmemenge, die notwendig ist, um 1g des Elementes um 1°C"]
[null,"aufzuwärmen (cal/g/°C)."]
[]
[null,"Elektronenkonfiguration"]
[null,"Besetzung der Unterschalen der Elektronenhülle."]
[]
[null,"Säure-Base-Eigenschaften"]
[null,"Angabe darüber, ob das repräsentative Oxid des Elementes nach Reaktion"]
[null,"mit Wasser eine saure oder alkalische Reaktion zeigt."]
[]
[null,"Oxidationszahl"]
[null,"Beobachtete Ladung eines Ions des Elements, bzw. die formale Ladung"]
[null,"des Atoms, das in einem Molekül oder Komplexion gebunden vorliegen."]
[]
[null,"Elektronegativität"]
[null,"Maßzahl für die Fähigkeit eines Atomrumpfes, die Valenzelektronen"]
[null,"anzuziehen, resp. Die Fähigkeit des Atomes, das bindende Elektronenpaar"]
[null,"einer polaren Bindung ansich zu ziehen."]
[]
[null,"Verdampfungswärme"]
[null,"Die Wärmeenergie, die aufgewendet werden muss, um ein mol des"]
[null,"flüssigen Elementes von Siedetemperatur überzuführen in Dampf"]
[null,"derselben Temperatur. Angegeben in kcal/g-atom. Werte in Klammern sind"]
[null,"beim Siedepunkt gemessen."]
[]
[null,"Schmelzswärme"]
[null,"Die Wärmeenergie, die aufgewendet werden muss, um ein mol des"]
[null,"festen Elementes von Schmelztemperatur überzuführen in die flüssige"]
[null,"Phase derselben Temperatur. Angegeben in kcal/g-atom."]
[]
[null,"Wärmeleitfähigkeit"]
[null,"Die Wärmemenge, die durch einen Würfel von einem Kubikzentimeter des"]
[null,"Elementes pro Sekunde durchfließt, wenn zwischen einer Würfelfläche und"]
[null,"ihrer gegenüberliegenden eine Temperaturdifferenz von 1°C herrscht"]
[null,"(Angaben bei Raumtemperatur)."]
[null,"Einheit: cal/cm^2/°C/sec"]
[]
[null,"Atomvolumen"]
[null,"Volumen eines Grammols des Elementes (Enthalten NA-Atome) in ml."]
[]
[null,"Ionenradius"]
[null,"Radius des Elementions mit der angegebenen Elementarladung."]
[null,"Ionic (crystal) radii for coordination number 6."]
[]
[null,"Atomradius"]
[null,"Radius des Atoms, wie man ihn im Gitter des Elementes bei"]
[null,"Raumtemperatur misst."]
[null,"Metallic radii for coordination number of 12."]
[]
[null,"kovalenter Radius"]
[null,"Halber mittlerer Abstand der beiden Atomkerne in einem Molehül des"]
[null,"Elementes."]
[]
[null,"spezifische elektrische Leitfähigkeit"]
[null,"Reziprokwert des elektrischen Wiederstandes eines Würfelchens des"]
[null,"Elementes mit der Seitenlänge 1 cm."]
[null,"Hier: Gemessen im Temp.-Bereich 0 bis 20°C; Einheit: (Microhm x cm)^-1"]
[]
[null,"Ionisierungsenergie für das 1. Elektron"]
[null,"Energie, die aufgewendet werden muss, um einem mol des Elementes ein"]
[null,"mol Elektronen zu entreißen (kcal/g-mol)."]
[]
[]
[]
[]
[]
[]
[]
[]
[]
[]
[]
[]
[]
[]
[]
[]
[]
[]
[]
[]
[]
[]
[]
[]
[]
[]
[]
[]
[]
[]
[]
[]
[]
[]
[]
[]
[]
[]
[]
[]
[]
[]
[null,"Das PSE"]
[]
[null,"Die Periodizität der Eigenschaften der Elemente im Periodensystem der"]
[null,"Elemente kann nur aufgrund der Struktur der Hülle gedeutet werden:"]
[null,"gewisse Elektronenzahlen in der Hülle eines neutralen Atoms bedingen"]
[null,"ganz bestimmte chemische Eigenschaften des Atoms und damit des"]
[null,"chemischen Elementes."]
[]
[null,"Die Ordnung des PSE beruht auf den Kriterien:"]
[null,"- steigende OZ (Ordnungszahl = Protonenzahl = Elektronenzahl)"]
[null,"- chemische Ähnlichkeit der Elemente."]
[]
[null,"Historischer Rückblick"]
[null,"Eine klare Zuordnung einer Ordnungszahl zu den Elementen war erst seit "]
[null,"1913 möglich (Moseley-Diagramm, es gestattete aus"]
[null,"Röntgenemissionsspektren direkt die OZ abzulesen). Vorher diente die"]
[null,"Atommasse als ordnendes Prinzip, wobei allerdings an gewissen Stellen"]
[null,"das PSE Probleme auftauchen, die durch die Präsenz von Neutronen in den"]
[null,"Atomkernen zu erklären sind."]
[null,"Bemühungen zum Gruppieren derElemente nach ähnlichen Eigenschaften"]
[null,"gab es schon in der 1. Hälfte des 19. Jahrhunderts: sogenannte \"Triaden\""]
[null,"ähnlicher Elemente: (Ca, Sr, Ba); (Li, Na, K); (Cl, Br, J)"]
[]
[null,"Das erste vollständige PSE wurde 1869 durch den Russen Dimitrij"]
[null,"Iwanowitsch Mendelejew und gleichzeitig unabhängig von ihm durch den"]
[null,"Deutschen Lothar Meyer vorgeschlagen. Das System enthielt noch Lücken"]
[null,"für noch nicht entdeckte Elemente, deren Eigenschaften sich zum Teil mit"]
[null,"verblüffender Genauigkeit voraussagen ließen. Die Edelgase "]
[null,"beispielsweise kamen als ganze Gruppe erst später hinzu, denn das erste"]
[null,"Edelgas (Ar) wurde erst 1892 gefunden."]
[]
[null,"Einige Begriffe aus dem PSE"]
[null,"Gruppen: senkrechte Kolonnen. Ähnliche Elemente befinden sich in"]
[null,"derselben Gruppe und werden homogene Elemente genannt."]
[]
[null,"Hauptgruppen: Elemente in einer Hauptgruppe (A-Elemente) sind"]
[null,"untereinander nahe verwandt. Zum Beispiel Ca (in Knochen) und "]
[null,"Sr-90 (aus AKW) deutsche Elementname"]
[]
[null,"Nebengruppen: Verwandschaft innerhalb einer Nebengruppe (B-Elemente)"]
[null,"ist weniger ausgeprägt. Zudem zeigen in einer HP und NG mit derselben"]
[null,"Gruppennummer eine entfernte Verwandschaft. Zum Beispiel Ca und Cd"]
[null,"(Itai-Itai-Krankheit, bei durch Einlagerung von CD in die Knochen eine"]
[null,"schmerzhafte Skelettverkürzung auftritt)."]
[]
[null,"Besondere Bezeichnungen:"]
[null,"IA","Alkalimetalle",null,null,"(Li, Na,…)"]
[null,"IIA","Erdalkalimetalle",null,null,"(BE, Mg,..)"]
[null,"IIIA","Erdmetalle",null,null,"(B, Al,…)"]
[null,"IVA","Kohlenstoffgruppe",null,null,"(C, Si,…)"]
[null,"VA","Stickstoffgruppe",null,null,"N, P,…)"]
[null,"VIA","Chalkonogene",null,null,"(O,S,…)"]
[null,"VIIA","Halogene",null,null,"(F, Cl,…)"]
[null,"VIIIA","Edelgase",null,null,"(He, Ne,…)"]
[]
[null,"Zu den Gruppenbezeichnungen:"]
[null,"Chalkogene (gr. chalkos=Erz und gennan=erzeugen) bedeutet Erzbildner."]
[null,"Bei vielen Erzen ist O oder S der Nichtmetallpartner des Erzmetalls. Beispiel"]
[null,"eines oxidischen Erzes: Haematit (Fe2O3). Ein Beispiel eines sulfidischen"]
[null,"Erzes ist Pyrit (FeS2)."]
[]
[null,"Halogene (gr. Hals=Salz) bedeutet Salzbildner. Lösliche Salze, die in"]
[null,"Steinsalzlagern vorkommen, enthalten Halogene: NaCl, Kcl, Mg2Cl2 etc."]
[null,"Viele wasserlösliche Salze bestehen aus Metallkationen (+) und"]
[null,"Halogenidanionen (-)."]
[]
[null,"Der Zentralblock mit den Elementen:",null,null,null,null,"Fe     Co     Ni"]
[null,null,null,null,null,null,"Ru     Rh     Pd"]
[null,null,null,null,null,null,"Os     Ir        Pt"]
[]
[null,"zeigt mehr eine horizontale Verwandschaft seiner Elemente als die übliche"]
[null,"vertikale."]
[]
[null,"Perioden: waagerechte Zeilen."]
[null,"Sie haben besondere Bezeichnungen:"]
[null,"1.","Vorperiode mit 2 Elementen (H, He)."]
[null,"2. & 3.","kleine Perioden mit je 8 Elementen (Li, Be,…& Na, Mg,…)"]
[null,"4. & 5.","große Perioden mit je 18 Elementen (K, Ca,…& Rb,Sr,…)."]
[null,"6. & 7.","Riesen Perioden mit je 32 Elementen (Cs, Ba,…& Fr, Ra,…)."]
[null,null,"Die zweite Riesen Periode ist allerdings noch unvollständig"]
[]
[null,"Lanthanoide: Die Elemente Nummer 58-71. Diese sind mit dem Element"]
[null,"57, Lanthan, und untereinander verwandt, und zwar so stark, dass der"]
[null,"österreichische Chemiker Freiherr Carl Auer von Welsbach sein halbes"]
[null,"Leben dafür einsetzte, die Lanthanoide auseinanderzutrennen. Die 14"]
[null,"Elemente werden auch \"seltene Erdmetalle\" genannt, obwohl sie eigentlich"]
[null,"gar nicht so selten sind. Der Begriff rührt davon her, dass man sie zuerst in"]
[null,"seltenen Mineralien auffand. Das künstliche Promethium wurde erst 1945"]
[null,"unter Uranspaltungsprodukten beschrieben."]
[]
[null,"Actinoide: Die Elemente Nummer 90-103. Diese sind mit den Element 89,"]
[null,"Actinium, und untereinander verwandt. Sie sind alle radioaktiv, das heißt"]
[null,"es handelt sich um instabile Isotope. Der größte Teil von ihnen gehört zu"]
[null,"den Transuranen, die ja erst seit der Uranspaltung bekannt sind."]
[]
[null,"Chemische Eigenschaften von Elementen"]
[null,"Die chemischen Eigenschaften der Elemente ändern sich innerhalb einer"]
[null,"Periode von links nach rechts folgendermaßen."]
[null,"ausgeprägte Metalle - Übergangsmetalle (Nebengruppen-Elemente) - "]
[null,"Halbmetalle - Nichtmetalle - Edelgase"]

{"sheet":"Start","index":2,"n_rows":10000,"n_cols":34,"rows_kept":10000,"cut":false,"hidden":false,"merged":[[1,3,1,4],[0,0,0,2],[1,7,1,8],[1,11,1,14]]}
["Gesamtmasse der Berechnungen in kg =",null,null,{"$f":"IF(Start!AB2=\"nein\",\"Demo ENDE\",SUM(Rundstahl!D1)+('Rundstahl (-)'!D1)+(Kegelstumpf!C1)+('Kegelstumpf (-)'!C1)+(Vierkant!C1)+('Vierkant (-)'!C1)+(Sechskant!C1)+('Sechskant (-)'!C1)+(Rohr!C1)+('Rohr (-)'!C1)+(Kugel!C1)+('Kugel (-)'!C1)+('Kugelabschnitt +'!C1)+('Kugelabschnitt -'!C1)+(Vielkant!C1)+('Vielkant (-)'!C1)+('Pyramidenstumpf(+)'!E1)+('Pyramidenstumpf(-)'!E1)+('Kugelsektor(+) '!B1)+('Kugelsektor(-)'!B1)+('Zylinderabschnitt(+)'!C1)+('Zylinderabschnitt(-)'!C1)+('Prisma(+)'!D1)+('Prisma(-)'!D1))","v":0},null,null,13,null,null,null,null,null,null,null,null,null,null,null,null,null,null,null,null,null,null,null,null,{"$f":" TODAY()","v":"2021-04-02"},"Ablaufdatum",null,{"$f":"D18","v":"© Ulrich Daßler 03.08.2016"},null,null,"a"]
["Material","Dichte","Dichte eingeben!","Arbeitsblätter",null,null,null,null,null,null,null,null,null,null,null,null,null,null,null,null,null,null,null,null,null,null,null,{"$f":"IF(D21=AD3,\"ja\",IF(AC3>0,\"ja\",\"nein\"))","v":"ja"},{"$f":"AC10000","v":"2020-01-05"},{"$f":"IF(AC2=0,AB1+AD1,AC2)","v":"2020-01-05"},{"$f":"MID($AE$1,17,1)","v":"0"},{"$f":"AE2+AE9","v":6},{"$f":"IF(AF2=0,\"x\",INDEX($AH$1:$AH$18,AF2))","v":"f"},"b"]
["Aluminium",2.7,0,null,null,null,null,null,null,null,null,null,null,null,null,null,null,null,null,null,null,null,null,null,null,null,null,null,{"$f":"AC2-AB1","v":-453},{"$f":"CONCATENATE(\"ULDA\",AF2,AG5,AF3,AG4,AF4,AG3,AF5,AG2)","v":"ULDA6j4x0d10f"},{"$f":"MID($AE$1,18,1)","v":"3"},{"$f":"AE3+AE8","v":4},{"$f":"IF(AF3=0,\"x\",INDEX($AH$1:$AH$18,AF3))","v":"d"},"c"]
["AMP8000",2.8,null,null,null,null,null,null,null,null,null,null,null,null,null,null,null,null,null,null,null,null,null,null,null,null,null,null,{"$f":"IF(AD3=B16,\"V\",IF(AC3<0,0,AC3))","v":0},null,{"$f":"MID($AE$1,20,1)","v":"0"},{"$f":"AE4+AE7","v":0},"x","d"]
["Titan",4.5,null,null,null,null,null,null,null,null,null,null,null,null,null,null,null,null,null,null,null,null,null,null,null,null,null,null,null,null,{"$f":"MID($AE$1,21,1)","v":"8"},{"$f":"AE5+AE6","v":10},"j","e"]
["Vanadium",6.1,"Das Periodensystem der Elemente!",null,null,null,null,null,null,null,null,null,null,null,null,null,null,null,null,null,null,null,null,null,null,null,null,null,null,null,{"$f":"MID($AE$1,23,1)","v":"2"},null,null,"f"]
["Chrom",7.19,null,null,null,null,null,null,null,null,null,null,null,null,null,null,null,null,null,null,null,null,null,null,null,null,null,null,null,null,{"$f":"MID($AE$1,24,1)","v":"0"},null,null,"g"]
["Grauguß",7.2,null,null,null,null,null,null,null,null,null,null,null,null,null,null,null,null,null,null,null,null,null,null,null,null,null,null,null,null,{"$f":"MID($AE$1,25,1)","v":"1"},null,null,"h"]
["Zinn",7.3,null,null,null,null,null,null,null,null,null,null,null,null,null,null,null,null,null,null,null,null,null,null,null,null,null,null,null,null,{"$f":"MID($AE$1,26,1)","v":"6"},null,null,"i"]
["CuAl10Ni",7.7,null,null,null,null,null,null,null,null,null,null,null,null,null,null,null,null,null,null,null,null,null,null,null,null,null,null,null,null,null,null,null,"j"]
["Stahl",7.85,"Excel-Rechner",null,null,null,null,null,null,null,null,null,null,null,null,null,null,null,null,null,null,null,null,null,null,null,null,null,null,null,null,null,null,"k"]
["CuSn",8.1,null,null,null,null,null,null,null,null,null,null,null,null,null,null,null,null,null,null,null,null,null,null,null,null,null,null,null,null,null,null,null,"l"]
["Cobalt",8.9,null,null,null,null,null,null,null,null,null,null,null,null,null,null,null,null,null,null,null,null,null,null,null,null,null,null,null,null,null,null,null,"m"]
["Nickel",8.9,null,null,null,null,null,null,null,null,null,null,null,null,null,null,null,null,null,null,null,null,null,null,null,null,null,null,null,null,null,null,null,"n"]
["Kupfer",8.9600000000000009,null,null,{"$f":"INDEX(Dichten!C4:C160,Start!G1)","v":2.4},null,null,null,null,null,null,null,null,null,null,null,null,null,null,null,null,null,null,null,null,null,null,null,null,null,null,null,null,"o"]
["Silber(Ag)",10.5,"setzt alle Eingaben auf 0 zurück",null,null,null,null,null,null,null,null,null,null,null,null,null,null,null,null,null,null,null,null,null,null,null,null,null,null,null,null,null,null,"p"]
["HM (K20)",14.8,null,"heutiges Datum:",{"$f":"TODAY()","v":"2021-04-02"},null,null,null,null,null,null,null,null,null,null,null,null,null,null,null,null,null,null,null,null,null,null,null,null,null,null,null,null,"q"]
["Gold(Au)",19.3,null,"© Ulrich Daßler 03.08.2016",null,null,null,null,null,null,null,null,null,null,null,null,null,null,null,null,null,null,null,null,null,null,null,null,null,null,null,null,null,"r"]
[]
[null,null,null,{"$f":"IF(D21=AD3,\"Vollversion\",CONCATENATE(\"Demoversion ist noch \",AC4,\" Tage aktiv!\"))","v":"Vollversion"}]
[null,null,null,"ULDA6j4x0d10f"]
[null,null,null,{"$f":"IF(AB2=\"ja\",\"\",\"Bitte Freischaltcode für Vollversion unter info@dasslers.de anfordern und in Zelle D21 eintragen!\")","v":""}]
[]
[]
[]
[]
[]
[]
[]
[]
[]
[]
[]
[]
[]
[]
[]
[]
[]
[]
[]
[]
[]
[]
[]
[]
[]
[]
[]
[]
[]
[]
[]
[]
[]
[]
[]
[]
[]
[]
[]
[]
[]
[]
[]
[]
[]
[]
[]
[]
[]
[]
[]
[]
[]
[]
[]
[]
[]
[]
[]
[]
[]
[]
[]
[]
[]
[]
[]
[]
[]
[]
[]
[]
[]
[]
[]
[]
[]
[]
[]
[]
[]
[]
[]
[]
[]
[]
[]
[]
[]
[]
[]
[]
[]
[]
[]
[]
[]
[]
[]
[]
[]
[]
[]
[]
[]
[]
[]
[]
[]
[]
[]
[]
[]
[]
[]
[]
[]
[]
[]
[]
[]
[]
[]
[]
[]
[]
[]
[]
[]
[]
[]
[]
[]
[]
[]
[]
[]
[]
[]
[]
[]
[]
[]
[]
[]
[]
[]
[]
[]
[]
[]
[]
[]
[]
[]
[]
[]
[]
[]
[]
[]
[]
[]
[]
[]
[]
[]
[]
[]
[]
[]
[]
[]
[]
[]
[]
[]
[]
[]
[]
[]
[]
[]
[]
[]
[]
[]
[]
[]
[]
[]
[]
[]
[]
[]
[]
[]
[]
[]
[]
[]
[]
[]
[]
[]
[]
[]
[]
[]
[]
[]
[]
[]
[]
[]
[]
[]
[]
[]
[]
[]
[]
[]
[]
[]
[]
[]
[]
[]
[]
[]
[]
[]
[]
[]
[]
[]
[]
[]
[]
[]
[]
[]
[]
[]
[]
[]
[]
[]
[]
[]
[]
[]
[]
[]
[]
[]
[]
[]
[]
[]
[]
[]
[]
[]
[]
[]
[]
[]
[]
[]
[]
[]
[]
[]
[]
[]
[]
[]
[]
[]
[]
[]
[]
[]
[]
[]
[]
[]
[]
[]
[]
[]
[]
[]
[]
[]
[]
[]
[]
[]
[]
[]
[]
[]
[]
[]
[]
[]
[]
[]
[]
[]
[]
[]
[]
[]
[]
[]
[]
[]
[]
[]
[]
[]
[]
[]
[]
[]
[]
[]
[]
[]
[]
[]
[]
[]
[]
[]
[]
[]
[]
[]
[]
[]
[]
[]
[]
[]
[]
[]
[]
[]
[]
[]
[]
[]
[]
[]
[]
[]
[]
[]
[]
[]
[]
[]
[]
[]
[]
[]
[]
[]
[]
[]
[]
[]
[]
[]
[]
[]
[]
[]
[]
[]
[]
[]
[]
[]
[]
[]
[]
[]
[]
[]
[]
[]
[]
[]
[]
[]
[]
[]
[]
[]
[]
[]
[]
[]
[]
[]
[]
[]
[]
[]
[]
[]
[]
[]
[]
[]
[]
[]
[]
[]
[]
[]
[]
[]
[]
[]
[]
[]
[]
[]
[]
[]
[]
[]
[]
[]
[]
[]
[]
[]
[]
[]
[]
[]
[]
[]
[]
[]
[]
[]
[]
[]
[]
[]
[]
[]
[]
[]
[]
[]
[]
[]
[]
[]
[]
[]
[]
[]
[]
[]
[]
[]
[]
[]
[]
[]
[]
[]
[]
[]
[]
[]
[]
[]
[]
[]
[]
[]
[]
[]
[]
[]
[]
[]
[]
[]
[]
[]
[]
[]
[]
[]
[]
[]
[]
[]
[]
[]
[]
[]
[]
[]
[]
[]
[]
[]
[]
[]
[]
[]
[]
[]
[]
[]
[]
[]
[]
[]
[]
[]
[]
[]
[]
[]
[]
[]
[]
[]
[]
[]
[]
[]
[]
[]
[]
[]
[]
[]
[]
[]
[]
[]
[]
[]
[]
[]
[]
[]
[]
[]
[]
[]
[]
[]
[]
[]
[]
[]
[]
[]
[]
[]
[]
[]
[]
[]
[]
[]
[]
[]
[]
[]
[]
[]
[]
[]
[]
[]
[]
[]
[]
[]
[]
[]
[]
[]
[]
[]
[]
[]
[]
[]
[]
[]
[]
[]
[]
[]
[]
[]
[]
[]
[]
[]
[]
[]
[]
[]
[]
[]
[]
[]
[]
[]
[]
[]
[]
[]
[]
[]
[]
[]
[]
[]
[]
[]
[]
[]
[]
[]
[]
[]
[]
[]
[]
[]
[]
[]
[]
[]
[]
[]
[]
[]
[]
[]
[]
[]
[]
[]
[]
[]
[]
[]
[]
[]
[]
[]
[]
[]
[]
[]
[]
[]
[]
[]
[]
[]
[]
[]
[]
[]
[]
[]
[]
[]
[]
[]
[]
[]
[]
[]
[]
[]
[]
[]
[]
[]
[]
[]
[]
[]
[]
[]
[]
[]
[]
[]
[]
[]
[]
[]
[]
[]
[]
[]
[]
[]
[]
[]
[]
[]
[]
[]
[]
[]
[]
[]
[]
[]
[]
[]
[]
[]
[]
[]
[]
[]
[]
[]
[]
[]
[]
[]
[]
[]
[]
[]
[]
[]
[]
[]
[]
[]
[]
[]
[]
[]
[]
[]
[]
[]
[]
[]
[]
[]
[]
[]
[]
[]
[]
[]
[]
[]
[]
[]
[]
[]
[]
[]
[]
[]
[]
[]
[]
[]
[]
[]
[]
[]
[]
[]
[]
[]
[]
[]
[]
[]
[]
[]
[]
[]
[]
[]
[]
[]
[]
[]
[]
[]
[]
[]
[]
[]
[]
[]
[]
[]
[]
[]
[]
[]
[]
[]
[]
[]
[]
[]
[]
[]
[]
[]
[]
[]
[]
[]
[]
[]
[]
[]
[]
[]
[]
[]
[]
[]
[]
[]
[]
[]
[]
[]
[]
[]
[]
[]
[]
[]
[]
[]
[]
[]
[]
[]
[]
[]
[]
[]
[]
[]
[]
[]
[]
[]
[]
[]
[]
[]
[]
[]
[]
[]
[]
[]
[]
[]
[]
[]
[]
[]
[]
[]
[]
[]
[]
[]
[]
[]
[]
[]
[]
[]
[]
[]
[]
[]
[]
[]
[]
[]
[]
[]
[]
[]
[]
[]
[]
[]
[]
[]
[]
[]
[]
[]
[]
[]
[]
[]
[]
[]
[]
[]
[]
[]
[]
[]
[]
[]
[]
[]
[]
[]
[]
[]
[]
[]
[]
[]
[]
[]
[]
[]
[]
[]
[]
[]
[]
[]
[]
[]
[]
[]
[]
[]
[]
[]
[]
[]
[]
[]
[]
[]
[]
[]
[]
[]
[]
[]
[]
[]
[]
[]
[]
[]
[]
[]
[]
[]
[]
[]
[]
[]
[]
[]
[]
[]
[]
[]
[]
[]
[]
[]
[]
[]
[]
[]
[]
[]
[]
[]
[]
[]
[]
[]
[]
[]
[]
[]
[]
[]
[]
[]
[]
[]
[]
[]
[]
[]
[]
[]
[]
[]
[]
[]
[]
[]
[]
[]
[]
[]
[]
[]
[]
[]
[]
[]
[]
[]
[]
[]
[]
[]
[]
[]
[]
[]
[]
[]
[]
[]
[]
[]
[]
[]
[]
[]
[]
[]
[]
[]
[]
[]
[]
[]
[]
[]
[]
[]
[]
[]
[]
[]
[]
[]
[]
[]
[]
[]
[]
[]
[]
[]
[]
[]
[]
[]
[]
[]
[]
[]
[]
[]
[]
[]
[]
[]
[]
[]
[]
[]
[]
[]
[]
[]
[]
[]
[]
[]
[]
[]
[]
[]
[]
[]
[]
[]
[]
[]
[]
[]
[]
[]
[]
[]
[]
[]
[]
[]
[]
[]
[]
[]
[]
[]
[]
[]
[]
[]
[]
[]
[]
[]
[]
[]
[]
[]
[]
[]
[]
[]
[]
[]
[]
[]
[]
[]
[]
[]
[]
[]
[]
[]
[]
[]
[]
[]
[]
[]
[]
[]
[]
[]
[]
[]
[]
[]
[]
[]
[]
[]
[]
[]
[]
[]
[]
[]
[]
[]
[]
[]
[]
[]
[]
[]
[]
[]
[]
[]
[]
[]
[]
[]
[]
[]
[]
[]
[]
[]
[]
[]
[]
[]
[]
[]
[]
[]
[]
[]
[]
[]
[]
[]
[]
[]
[]
[]
[]
[]
[]
[]
[]
[]
[]
[]
[]
[]
[]
[]
[]
[]
[]
[]
[]
[]
[]
[]
[]
[]
[]
[]
[]
[]
[]
[]
[]
[]
[]
[]
[]
[]
[]
[]
[]
[]
[]
[]
[]
[]
[]
[]
[]
[]
[]
[]
[]
[]
[]
[]
[]
[]
[]
[]
[]
[]
[]
[]
[]
[]
[]
[]
[]
[]
[]
[]
[]
[]
[]
[]
[]
[]
[]
[]
[]
[]
[]
[]
[]
[]
[]
[]
[]
[]
[]
[]
[]
[]
[]
[]
[]
[]
[]
[]
[]
[]
[]
[]
[]
[]
[]
[]
[]
[]
[]
[]
[]
[]
[]
[]
[]
[]
[]
[]
[]
[]
[]
[]
[]
[]
[]
[]
[]
[]
[]
[]
[]
[]
[]
[]
[]
[]
[]
[]
[]
[]
[]
[]
[]
[]
[]
[]
[]
[]
[]
[]
[]
[]
[]
[]
[]
[]
[]
[]
[]
[]
[]
[]
[]
[]
[]
[]
[]
[]
[]
[]
[]
[]
[]
[]
[]
[]
[]
[]
[]
[]
[]
[]
[]
[]
[]
[]
[]
[]
[]
[]
[]
[]
[]
[]
[]
[]
[]
[]
[]
[]
[]
[]
[]
[]
[]
[]
[]
[]
[]
[]
[]
[]
[]
[]
[]
[]
[]
[]
[]
[]
[]
[]
[]
[]
[]
[]
[]
[]
[]
[]
[]
[]
[]
[]
[]
[]
[]
[]
[]
[]
[]
[]
[]
[]
[]
[]
[]
[]
[]
[]
[]
[]
[]
[]
[]
[]
[]
[]
[]
[]
[]
[]
[]
[]
[]
[]
[]
[]
[]
[]
[]
[]
[]
[]
[]
[]
[]
[]
[]
[]
[]
[]
[]
[]
[]
[]
[]
[]
[]
[]
[]
[]
[]
[]
[]
[]
[]
[]
[]
[]
[]
[]
[]
[]
[]
[]
[]
[]
[]
[]
[]
[]
[]
[]
[]
[]
[]
[]
[]
[]
[]
[]
[]
[]
[]
[]
[]
[]
[]
[]
[]
[]
[]
[]
[]
[]
[]
[]
[]
[]
[]
[]
[]
[]
[]
[]
[]
[]
[]
[]
[]
[]
[]
[]
[]
[]
[]
[]
[]
[]
[]
[]
[]
[]
[]
[]
[]
[]
[]
[]
[]
[]
[]
[]
[]
[]
[]
[]
[]
[]
[]
[]
[]
[]
[]
[]
[]
[]
[]
[]
[]
[]
[]
[]
[]
[]
[]
[]
[]
[]
[]
[]
[]
[]
[]
[]
[]
[]
[]
[]
[]
[]
[]
[]
[]
[]
[]
[]
[]
[]
[]
[]
[]
[]
[]
[]
[]
[]
[]
[]
[]
[]
[]
[]
[]
[]
[]
[]
[]
[]
[]
[]
[]
[]
[]
[]
[]
[]
[]
[]
[]
[]
[]
[]
[]
[]
[]
[]
[]
[]
[]
[]
[]
[]
[]
[]
[]
[]
[]
[]
[]
[]
[]
[]
[]
[]
[]
[]
[]
[]
[]
[]
[]
[]
[]
[]
[]
[]
[]
[]
[]
[]
[]
[]
[]
[]
[]
[]
[]
[]
[]
[]
[]
[]
[]
[]
[]
[]
[]
[]
[]
[]
[]
[]
[]
[]
[]
[]
[]
[]
[]
[]
[]
[]
[]
[]
[]
[]
[]
[]
[]
[]
[]
[]
[]
[]
[]
[]
[]
[]
[]
[]
[]
[]
[]
[]
[]
[]
[]
[]
[]
[]
[]
[]
[]
[]
[]
[]
[]
[]
[]
[]
[]
[]
[]
[]
[]
[]
[]
[]
[]
[]
[]
[]
[]
[]
[]
[]
[]
[]
[]
[]
[]
[]
[]
[]
[]
[]
[]
[]
[]
[]
[]
[]
[]
[]
[]
[]
[]
[]
[]
[]
[]
[]
[]
[]
[]
[]
[]
[]
[]
[]
[]
[]
[]
[]
[]
[]
[]
[]
[]
[]
[]
[]
[]
[]
[]
[]
[]
[]
[]
[]
[]
[]
[]
[]
[]
[]
[]
[]
[]
[]
[]
[]
[]
[]
[]
[]
[]
[]
[]
[]
[]
[]
[]
[]
[]
[]
[]
[]
[]
[]
[]
[]
[]
[]
[]
[]
[]
[]
[]
[]
[]
[]
[]
[]
[]
[]
[]
[]
[]
[]
[]
[]
[]
[]
[]
[]
[]
[]
[]
[]
[]
[]
[]
[]
[]
[]
[]
[]
[]
[]
[]
[]
[]
[]
[]
[]
[]
[]
[]
[]
[]
[]
[]
[]
[]
[]
[]
[]
[]
[]
[]
[]
[]
[]
[]
[]
[]
[]
[]
[]
[]
[]
[]
[]
[]
[]
[]
[]
[]
[]
[]
[]
[]
[]
[]
[]
[]
[]
[]
[]
[]
[]
[]
[]
[]
[]
[]
[]
[]
[]
[]
[]
[]
[]
[]
[]
[]
[]
[]
[]
[]
[]
[]
[]
[]
[]
[]
[]
[]
[]
[]
[]
[]
[]
[]
[]
[]
[]
[]
[]
[]
[]
[]
[]
[]
[]
[]
[]
[]
[]
[]
[]
[]
[]
[]
[]
[]
[]
[]
[]
[]
[]
[]
[]
[]
[]
[]
[]
[]
[]
[]
[]
[]
[]
[]
[]
[]
[]
[]
[]
[]
[]
[]
[]
[]
[]
[]
[]
[]
[]
[]
[]
[]
[]
[]
[]
[]
[]
[]
[]
[]
[]
[]
[]
[]
[]
[]
[]
[]
[]
[]
[]
[]
[]
[]
[]
[]
[]
[]
[]
[]
[]
[]
[]
[]
[]
[]
[]
[]
[]
[]
[]
[]
[]
[]
[]
[]
[]
[]
[]
[]
[]
[]
[]
[]
[]
[]
[]
[]
[]
[]
[]
[]
[]
[]
[]
[]
[]
[]
[]
[]
[]
[]
[]
[]
[]
[]
[]
[]
[]
[]
[]
[]
[]
[]
[]
[]
[]
[]
[]
[]
[]
[]
[]
[]
[]
[]
[]
[]
[]
[]
[]
[]
[]
[]
[]
[]
[]
[]
[]
[]
[]
[]
[]
[]
[]
[]
[]
[]
[]
[]
[]
[]
[]
[]
[]
[]
[]
[]
[]
[]
[]
[]
[]
[]
[]
[]
[]
[]
[]
[]
[]
[]
[]
[]
[]
[]
[]
[]
[]
[]
[]
[]
[]
[]
[]
[]
[]
[]
[]
[]
[]
[]
[]
[]
[]
[]
[]
[]
[]
[]
[]
[]
[]
[]
[]
[]
[]
[]
[]
[]
[]
[]
[]
[]
[]
[]
[]
[]
[]
[]
[]
[]
[]
[]
[]
[]
[]
[]
[]
[]
[]
[]
[]
[]
[]
[]
[]
[]
[]
[]
[]
[]
[]
[]
[]
[]
[]
[]
[]
[]
[]
[]
[]
[]
[]
[]
[]
[]
[]
[]
[]
[]
[]
[]
[]
[]
[]
[]
[]
[]
[]
[]
[]
[]
[]
[]
[]
[]
[]
[]
[]
[]
[]
[]
[]
[]
[]
[]
[]
[]
[]
[]
[]
[]
[]
[]
[]
[]
[]
[]
[]
[]
[]
[]
[]
[]
[]
[]
[]
[]
[]
[]
[]
[]
[]
[]
[]
[]
[]
[]
[]
[]
[]
[]
[]
[]
[]
[]
[]
[]
[]
[]
[]
[]
[]
[]
[]
[]
[]
[]
[]
[]
[]
[]
[]
[]
[]
[]
[]
[]
[]
[]
[]
[]
[]
[]
[]
[]
[]
[]
[]
[]
[]
[]
[]
[]
[]
[]
[]
[]
[]
[]
[]
[]
[]
[]
[]
[]
[]
[]
[]
[]
[]
[]
[]
[]
[]
[]
[]
[]
[]
[]
[]
[]
[]
[]
[]
[]
[]
[]
[]
[]
[]
[]
[]
[]
[]
[]
[]
[]
[]
[]
[]
[]
[]
[]
[]
[]
[]
[]
[]
[]
[]
[]
[]
[]
[]
[]
[]
[]
[]
[]
[]
[]
[]
[]
[]
[]
[]
[]
[]
[]
[]
[]
[]
[]
[]
[]
[]
[]
[]
[]
[]
[]
[]
[]
[]
[]
[]
[]
[]
[]
[]
[]
[]
[]
[]
[]
[]
[]
[]
[]
[]
[]
[]
[]
[]
[]
[]
[]
[]
[]
[]
[]
[]
[]
[]
[]
[]
[]
[]
[]
[]
[]
[]
[]
[]
[]
[]
[]
[]
[]
[]
[]
[]
[]
[]
[]
[]
[]
[]
[]
[]
[]
[]
[]
[]
[]
[]
[]
[]
[]
[]
[]
[]
[]
[]
[]
[]
[]
[]
[]
[]
[]
[]
[]
[]
[]
[]
[]
[]
[]
[]
[]
[]
[]
[]
[]
[]
[]
[]
[]
[]
[]
[]
[]
[]
[]
[]
[]
[]
[]
[]
[]
[]
[]
[]
[]
[]
[]
[]
[]
[]
[]
[]
[]
[]
[]
[]
[]
[]
[]
[]
[]
[]
[]
[]
[]
[]
[]
[]
[]
[]
[]
[]
[]
[]
[]
[]
[]
[]
[]
[]
[]
[]
[]
[]
[]
[]
[]
[]
[]
[]
[]
[]
[]
[]
[]
[]
[]
[]
[]
[]
[]
[]
[]
[]
[]
[]
[]
[]
[]
[]
[]
[]
[]
[]
[]
[]
[]
[]
[]
[]
[]
[]
[]
[]
[]
[]
[]
[]
[]
[]
[]
[]
[]
[]
[]
[]
[]
[]
[]
[]
[]
[]
[]
[]
[]
[]
[]
[]
[]
[]
[]
[]
[]
[]
[]
[]
[]
[]
[]
[]
[]
[]
[]
[]
[]
[]
[]
[]
[]
[]
[]
[]
[]
[]
[]
[]
[]
[]
[]
[]
[]
[]
[]
[]
[]
[]
[]
[]
[]
[]
[]
[]
[]
[]
[]
[]
[]
[]
[]
[]
[]
[]
[]
[]
[]
[]
[]
[]
[]
[]
[]
[]
[]
[]
[]
[]
[]
[]
[]
[]
[]
[]
[]
[]
[]
[]
[]
[]
[]
[]
[]
[]
[]
[]
[]
[]
[]
[]
[]
[]
[]
[]
[]
[]
[]
[]
[]
[]
[]
[]
[]
[]
[]
[]
[]
[]
[]
[]
[]
[]
[]
[]
[]
[]
[]
[]
[]
[]
[]
[]
[]
[]
[]
[]
[]
[]
[]
[]
[]
[]
[]
[]
[]
[]
[]
[]
[]
[]
[]
[]
[]
[]
[]
[]
[]
[]
[]
[]
[]
[]
[]
[]
[]
[]
[]
[]
[]
[]
[]
[]
[]
[]
[]
[]
[]
[]
[]
[]
[]
[]
[]
[]
[]
[]
[]
[]
[]
[]
[]
[]
[]
[]
[]
[]
[]
[]
[]
[]
[]
[]
[]
[]
[]
[]
[]
[]
[]
[]
[]
[]
[]
[]
[]
[]
[]
[]
[]
[]
[]
[]
[]
[]
[]
[]
[]
[]
[]
[]
[]
[]
[]
[]
[]
[]
[]
[]
[]
[]
[]
[]
[]
[]
[]
[]
[]
[]
[]
[]
[]
[]
[]
[]
[]
[]
[]
[]
[]
[]
[]
[]
[]
[]
[]
[]
[]
[]
[]
[]
[]
[]
[]
[]
[]
[]
[]
[]
[]
[]
[]
[]
[]
[]
[]
[]
[]
[]
[]
[]
[]
[]
[]
[]
[]
[]
[]
[]
[]
[]
[]
[]
[]
[]
[]
[]
[]
[]
[]
[]
[]
[]
[]
[]
[]
[]
[]
[]
[]
[]
[]
[]
[]
[]
[]
[]
[]
[]
[]
[]
[]
[]
[]
[]
[]
[]
[]
[]
[]
[]
[]
[]
[]
[]
[]
[]
[]
[]
[]
[]
[]
[]
[]
[]
[]
[]
[]
[]
[]
[]
[]
[]
[]
[]
[]
[]
[]
[]
[]
[]
[]
[]
[]
[]
[]
[]
[]
[]
[]
[]
[]
[]
[]
[]
[]
[]
[]
[]
[]
[]
[]
[]
[]
[]
[]
[]
[]
[]
[]
[]
[]
[]
[]
[]
[]
[]
[]
[]
[]
[]
[]
[]
[]
[]
[]
[]
[]
[]
[]
[]
[]
[]
[]
[]
[]
[]
[]
[]
[]
[]
[]
[]
[]
[]
[]
[]
[]
[]
[]
[]
[]
[]
[]
[]
[]
[]
[]
[]
[]
[]
[]
[]
[]
[]
[]
[]
[]
[]
[]
[]
[]
[]
[]
[]
[]
[]
[]
[]
[]
[]
[]
[]
[]
[]
[]
[]
[]
[]
[]
[]
[]
[]
[]
[]
[]
[]
[]
[]
[]
[]
[]
[]
[]
[]
[]
[]
[]
[]
[]
[]
[]
[]
[]
[]
[]
[]
[]
[]
[]
[]
[]
[]
[]
[]
[]
[]
[]
[]
[]
[]
[]
[]
[]
[]
[]
[]
[]
[]
[]
[]
[]
[]
[]
[]
[]
[]
[]
[]
[]
[]
[]
[]
[]
[]
[]
[]
[]
[]
[]
[]
[]
[]
[]
[]
[]
[]
[]
[]
[]
[]
[]
[]
[]
[]
[]
[]
[]
[]
[]
[]
[]
[]
[]
[]
[]
[]
[]
[]
[]
[]
[]
[]
[]
[]
[]
[]
[]
[]
[]
[]
[]
[]
[]
[]
[]
[]
[]
[]
[]
[]
[]
[]
[]
[]
[]
[]
[]
[]
[]
[]
[]
[]
[]
[]
[]
[]
[]
[]
[]
[]
[]
[]
[]
[]
[]
[]
[]
[]
[]
[]
[]
[]
[]
[]
[]
[]
[]
[]
[]
[]
[]
[]
[]
[]
[]
[]
[]
[]
[]
[]
[]
[]
[]
[]
[]
[]
[]
[]
[]
[]
[]
[]
[]
[]
[]
[]
[]
[]
[]
[]
[]
[]
[]
[]
[]
[]
[]
[]
[]
[]
[]
[]
[]
[]
[]
[]
[]
[]
[]
[]
[]
[]
[]
[]
[]
[]
[]
[]
[]
[]
[]
[]
[]
[]
[]
[]
[]
[]
[]
[]
[]
[]
[]
[]
[]
[]
[]
[]
[]
[]
[]
[]
[]
[]
[]
[]
[]
[]
[]
[]
[]
[]
[]
[]
[]
[]
[]
[]
[]
[]
[]
[]
[]
[]
[]
[]
[]
[]
[]
[]
[]
[]
[]
[]
[]
[]
[]
[]
[]
[]
[]
[]
[]
[]
[]
[]
[]
[]
[]
[]
[]
[]
[]
[]
[]
[]
[]
[]
[]
[]
[]
[]
[]
[]
[]
[]
[]
[]
[]
[]
[]
[]
[]
[]
[]
[]
[]
[]
[]
[]
[]
[]
[]
[]
[]
[]
[]
[]
[]
[]
[]
[]
[]
[]
[]
[]
[]
[]
[]
[]
[]
[]
[]
[]
[]
[]
[]
[]
[]
[]
[]
[]
[]
[]
[]
[]
[]
[]
[]
[]
[]
[]
[]
[]
[]
[]
[]
[]
[]
[]
[]
[]
[]
[]
[]
[]
[]
[]
[]
[]
[]
[]
[]
[]
[]
[]
[]
[]
[]
[]
[]
[]
[]
[]
[]
[]
[]
[]
[]
[]
[]
[]
[]
[]
[]
[]
[]
[]
[]
[]
[]
[]
[]
[]
[]
[]
[]
[]
[]
[]
[]
[]
[]
[]
[]
[]
[]
[]
[]
[]
[]
[]
[]
[]
[]
[]
[]
[]
[]
[]
[]
[]
[]
[]
[]
[]
[]
[]
[]
[]
[]
[]
[]
[]
[]
[]
[]
[]
[]
[]
[]
[]
[]
[]
[]
[]
[]
[]
[]
[]
[]
[]
[]
[]
[]
[]
[]
[]
[]
[]
[]
[]
[]
[]
[]
[]
[]
[]
[]
[]
[]
[]
[]
[]
[]
[]
[]
[]
[]
[]
[]
[]
[]
[]
[]
[]
[]
[]
[]
[]
[]
[]
[]
[]
[]
[]
[]
[]
[]
[]
[]
[]
[]
[]
[]
[]
[]
[]
[]
[]
[]
[]
[]
[]
[]
[]
[]
[]
[]
[]
[]
[]
[]
[]
[]
[]
[]
[]
[]
[]
[]
[]
[]
[]
[]
[]
[]
[]
[]
[]
[]
[]
[]
[]
[]
[]
[]
[]
[]
[]
[]
[]
[]
[]
[]
[]
[]
[]
[]
[]
[]
[]
[]
[]
[]
[]
[]
[]
[]
[]
[]
[]
[]
[]
[]
[]
[]
[]
[]
[]
[]
[]
[]
[]
[]
[]
[]
[]
[]
[]
[]
[]
[]
[]
[]
[]
[]
[]
[]
[]
[]
[]
[]
[]
[]
[]
[]
[]
[]
[]
[]
[]
[]
[]
[]
[]
[]
[]
[]
[]
[]
[]
[]
[]
[]
[]
[]
[]
[]
[]
[]
[]
[]
[]
[]
[]
[]
[]
[]
[]
[]
[]
[]
[]
[]
[]
[]
[]
[]
[]
[]
[]
[]
[]
[]
[]
[]
[]
[]
[]
[]
[]
[]
[]
[]
[]
[]
[]
[]
[]
[]
[]
[]
[]
[]
[]
[]
[]
[]
[]
[]
[]
[]
[]
[]
[]
[]
[]
[]
[]
[]
[]
[]
[]
[]
[]
[]
[]
[]
[]
[]
[]
[]
[]
[]
[]
[]
[]
[]
[]
[]
[]
[]
[]
[]
[]
[]
[]
[]
[]
[]
[]
[]
[]
[]
[]
[]
[]
[]
[]
[]
[]
[]
[]
[]
[]
[]
[]
[]
[]
[]
[]
[]
[]
[]
[]
[]
[]
[]
[]
[]
[]
[]
[]
[]
[]
[]
[]
[]
[]
[]
[]
[]
[]
[]
[]
[]
[]
[]
[]
[]
[]
[]
[]
[]
[]
[]
[]
[]
[]
[]
[]
[]
[]
[]
[]
[]
[]
[]
[]
[]
[]
[]
[]
[]
[]
[]
[]
[]
[]
[]
[]
[]
[]
[]
[]
[]
[]
[]
[]
[]
[]
[]
[]
[]
[]
[]
[]
[]
[]
[]
[]
[]
[]
[]
[]
[]
[]
[]
[]
[]
[]
[]
[]
[]
[]
[]
[]
[]
[]
[]
[]
[]
[]
[]
[]
[]
[]
[]
[]
[]
[]
[]
[]
[]
[]
[]
[]
[]
[]
[]
[]
[]
[]
[]
[]
[]
[]
[]
[]
[]
[]
[]
[]
[]
[]
[]
[]
[]
[]
[]
[]
[]
[]
[]
[]
[]
[]
[]
[]
[]
[]
[]
[]
[]
[]
[]
[]
[]
[]
[]
[]
[]
[]
[]
[]
[]
[]
[]
[]
[]
[]
[]
[]
[]
[]
[]
[]
[]
[]
[]
[]
[]
[]
[]
[]
[]
[]
[]
[]
[]
[]
[]
[]
[]
[]
[]
[]
[]
[]
[]
[]
[]
[]
[]
[]
[]
[]
[]
[]
[]
[]
[]
[]
[]
[]
[]
[]
[]
[]
[]
[]
[]
[]
[]
[]
[]
[]
[]
[]
[]
[]
[]
[]
[]
[]
[]
[]
[]
[]
[]
[]
[]
[]
[]
[]
[]
[]
[]
[]
[]
[]
[]
[]
[]
[]
[]
[]
[]
[]
[]
[]
[]
[]
[]
[]
[]
[]
[]
[]
[]
[]
[]
[]
[]
[]
[]
[]
[]
[]
[]
[]
[]
[]
[]
[]
[]
[]
[]
[]
[]
[]
[]
[]
[]
[]
[]
[]
[]
[]
[]
[]
[]
[]
[]
[]
[]
[]
[]
[]
[]
[]
[]
[]
[]
[]
[]
[]
[]
[]
[]
[]
[]
[]
[]
[]
[]
[]
[]
[]
[]
[]
[]
[]
[]
[]
[]
[]
[]
[]
[]
[]
[]
[]
[]
[]
[]
[]
[]
[]
[]
[]
[]
[]
[]
[]
[]
[]
[]
[]
[]
[]
[]
[]
[]
[]
[]
[]
[]
[]
[]
[]
[]
[]
[]
[]
[]
[]
[]
[]
[]
[]
[]
[]
[]
[]
[]
[]
[]
[]
[]
[]
[]
[]
[]
[]
[]
[]
[]
[]
[]
[]
[]
[]
[]
[]
[]
[]
[]
[]
[]
[]
[]
[]
[]
[]
[]
[]
[]
[]
[]
[]
[]
[]
[]
[]
[]
[]
[]
[]
[]
[]
[]
[]
[]
[]
[]
[]
[]
[]
[]
[]
[]
[]
[]
[]
[]
[]
[]
[]
[]
[]
[]
[]
[]
[]
[]
[]
[]
[]
[]
[]
[]
[]
[]
[]
[]
[]
[]
[]
[]
[]
[]
[]
[]
[]
[]
[]
[]
[]
[]
[]
[]
[]
[]
[]
[]
[]
[]
[]
[]
[]
[]
[]
[]
[]
[]
[]
[]
[]
[]
[]
[]
[]
[]
[]
[]
[]
[]
[]
[]
[]
[]
[]
[]
[]
[]
[]
[]
[]
[]
[]
[]
[]
[]
[]
[]
[]
[]
[]
[]
[]
[]
[]
[]
[]
[]
[]
[]
[]
[]
[]
[]
[]
[]
[]
[]
[]
[]
[]
[]
[]
[]
[]
[]
[]
[]
[]
[]
[]
[]
[]
[]
[]
[]
[]
[]
[]
[]
[]
[]
[]
[]
[]
[]
[]
[]
[]
[]
[]
[]
[]
[]
[]
[]
[]
[]
[]
[]
[]
[]
[]
[]
[]
[]
[]
[]
[]
[]
[]
[]
[]
[]
[]
[]
[]
[]
[]
[]
[]
[]
[]
[]
[]
[]
[]
[]
[]
[]
[]
[]
[]
[]
[]
[]
[]
[]
[]
[]
[]
[]
[]
[]
[]
[]
[]
[]
[]
[]
[]
[]
[]
[]
[]
[]
[]
[]
[]
[]
[]
[]
[]
[]
[]
[]
[]
[]
[]
[]
[]
[]
[]
[]
[]
[]
[]
[]
[]
[]
[]
[]
[]
[]
[]
[]
[]
[]
[]
[]
[]
[]
[]
[]
[]
[]
[]
[]
[]
[]
[]
[]
[]
[]
[]
[]
[]
[]
[]
[]
[]
[]
[]
[]
[]
[]
[]
[]
[]
[]
[]
[]
[]
[]
[]
[]
[]
[]
[]
[]
[]
[]
[]
[]
[]
[]
[]
[]
[]
[]
[]
[]
[]
[]
[]
[]
[]
[]
[]
[]
[]
[]
[]
[]
[]
[]
[]
[]
[]
[]
[]
[]
[]
[]
[]
[]
[]
[]
[]
[]
[]
[]
[]
[]
[]
[]
[]
[]
[]
[]
[]
[]
[]
[]
[]
[]
[]
[]
[]
[]
[]
[]
[]
[]
[]
[]
[]
[]
[]
[]
[]
[]
[]
[]
[]
[]
[]
[]
[]
[]
[]
[]
[]
[]
[]
[]
[]
[]
[]
[]
[]
[]
[]
[]
[]
[]
[]
[]
[]
[]
[]
[]
[]
[]
[]
[]
[]
[]
[]
[]
[]
[]
[]
[]
[]
[]
[]
[]
[]
[]
[]
[]
[]
[]
[]
[]
[]
[]
[]
[]
[]
[]
[]
[]
[]
[]
[]
[]
[]
[]
[]
[]
[]
[]
[]
[]
[]
[]
[]
[]
[]
[]
[]
[]
[]
[]
[]
[]
[]
[]
[]
[]
[]
[]
[]
[]
[]
[]
[]
[]
[]
[]
[]
[]
[]
[]
[]
[]
[]
[]
[]
[]
[]
[]
[]
[]
[]
[]
[]
[]
[]
[]
[]
[]
[]
[]
[]
[]
[]
[]
[]
[]
[]
[]
[]
[]
[]
[]
[]
[]
[]
[]
[]
[]
[]
[]
[]
[]
[]
[]
[]
[]
[]
[]
[]
[]
[]
[]
[]
[]
[]
[]
[]
[]
[]
[]
[]
[]
[]
[]
[]
[]
[]
[]
[]
[]
[]
[]
[]
[]
[]
[]
[]
[]
[]
[]
[]
[]
[]
[]
[]
[]
[]
[]
[]
[]
[]
[]
[]
[]
[]
[]
[]
[]
[]
[]
[]
[]
[]
[]
[]
[]
[]
[]
[]
[]
[]
[]
[]
[]
[]
[]
[]
[]
[]
[]
[]
[]
[]
[]
[]
[]
[]
[]
[]
[]
[]
[]
[]
[]
[]
[]
[]
[]
[]
[]
[]
[]
[]
[]
[]
[]
[]
[]
[]
[]
[]
[]
[]
[]
[]
[]
[]
[]
[]
[]
[]
[]
[]
[]
[]
[]
[]
[]
[]
[]
[]
[]
[]
[]
[]
[]
[]
[]
[]
[]
[]
[]
[]
[]
[]
[]
[]
[]
[]
[]
[]
[]
[]
[]
[]
[]
[]
[]
[]
[]
[]
[]
[]
[]
[]
[]
[]
[]
[]
[]
[]
[]
[]
[]
[]
[]
[]
[]
[]
[]
[]
[]
[]
[]
[]
[]
[]
[]
[]
[]
[]
[]
[]
[]
[]
[]
[]
[]
[]
[]
[]
[]
[]
[]
[]
[]
[]
[]
[]
[]
[]
[]
[]
[]
[]
[]
[]
[]
[]
[]
[]
[]
[]
[]
[]
[]
[]
[]
[]
[]
[]
[]
[]
[]
[]
[]
[]
[]
[]
[]
[]
[]
[]
[]
[]
[]
[]
[]
[]
[]
[]
[]
[]
[]
[]
[]
[]
[]
[]
[]
[]
[]
[]
[]
[]
[]
[]
[]
[]
[]
[]
[]
[]
[]
[]
[]
[]
[]
[]
[]
[]
[]
[]
[]
[]
[]
[]
[]
[]
[]
[]
[]
[]
[]
[]
[]
[]
[]
[]
[]
[]
[]
[]
[]
[]
[]
[]
[]
[]
[]
[]
[]
[]
[]
[]
[]
[]
[]
[]
[]
[]
[]
[]
[]
[]
[]
[]
[]
[]
[]
[]
[]
[]
[]
[]
[]
[]
[]
[]
[]
[]
[]
[]
[]
[]
[]
[]
[]
[]
[]
[]
[]
[]
[]
[]
[]
[]
[]
[]
[]
[]
[]
[]
[]
[]
[]
[]
[]
[]
[]
[]
[]
[]
[]
[]
[]
[]
[]
[]
[]
[]
[]
[]
[]
[]
[]
[]
[]
[]
[]
[]
[]
[]
[]
[]
[]
[]
[]
[]
[]
[]
[]
[]
[]
[]
[]
[]
[]
[]
[]
[]
[]
[]
[]
[]
[]
[]
[]
[]
[]
[]
[]
[]
[]
[]
[]
[]
[]
[]
[]
[]
[]
[]
[]
[]
[]
[]
[]
[]
[]
[]
[]
[]
[]
[]
[]
[]
[]
[]
[]
[]
[]
[]
[]
[]
[]
[]
[]
[]
[]
[]
[]
[]
[]
[]
[]
[]
[]
[]
[]
[]
[]
[]
[]
[]
[]
[]
[]
[]
[]
[]
[]
[]
[]
[]
[]
[]
[]
[]
[]
[]
[]
[]
[]
[]
[]
[]
[]
[]
[]
[]
[]
[]
[]
[]
[]
[]
[]
[]
[]
[]
[]
[]
[]
[]
[]
[]
[]
[]
[]
[]
[]
[]
[]
[]
[]
[]
[]
[]
[]
[]
[]
[]
[]
[]
[]
[]
[]
[]
[]
[]
[]
[]
[]
[]
[]
[]
[]
[]
[]
[]
[]
[]
[]
[]
[]
[]
[]
[]
[]
[]
[]
[]
[]
[]
[]
[]
[]
[]
[]
[]
[]
[]
[]
[]
[]
[]
[]
[]
[]
[]
[]
[]
[]
[]
[]
[]
[]
[]
[]
[]
[]
[]
[]
[]
[]
[]
[]
[]
[]
[]
[]
[]
[]
[]
[]
[]
[]
[]
[]
[]
[]
[]
[]
[]
[]
[]
[]
[]
[]
[]
[]
[]
[]
[]
[]
[]
[]
[]
[]
[]
[]
[]
[]
[]
[]
[]
[]
[]
[]
[]
[]
[]
[]
[]
[]
[]
[]
[]
[]
[]
[]
[]
[]
[]
[]
[]
[]
[]
[]
[]
[]
[]
[]
[]
[]
[]
[]
[]
[]
[]
[]
[]
[]
[]
[]
[]
[]
[]
[]
[]
[]
[]
[]
[]
[]
[]
[]
[]
[]
[]
[]
[]
[]
[]
[]
[]
[]
[]
[]
[]
[]
[]
[]
[]
[]
[]
[]
[]
[]
[]
[]
[]
[]
[]
[]
[]
[]
[]
[]
[]
[]
[]
[]
[]
[]
[]
[]
[]
[]
[]
[]
[]
[]
[]
[]
[]
[]
[]
[]
[]
[]
[]
[]
[]
[]
[]
[]
[]
[]
[]
[]
[]
[]
[]
[]
[]
[]
[]
[]
[]
[]
[]
[]
[]
[]
[]
[]
[]
[]
[]
[]
[]
[]
[]
[]
[]
[]
[]
[]
[]
[]
[]
[]
[]
[]
[]
[]
[]
[]
[]
[]
[]
[]
[]
[]
[]
[]
[]
[]
[]
[]
[]
[]
[]
[]
[]
[]
[]
[]
[]
[]
[]
[]
[]
[]
[]
[]
[]
[]
[]
[]
[]
[]
[]
[]
[]
[]
[]
[]
[]
[]
[]
[]
[]
[]
[]
[]
[]
[]
[]
[]
[]
[]
[]
[]
[]
[]
[]
[]
[]
[]
[]
[]
[]
[]
[]
[]
[]
[]
[]
[]
[]
[]
[]
[]
[]
[]
[]
[]
[]
[]
[]
[]
[]
[]
[]
[]
[]
[]
[]
[]
[]
[]
[]
[]
[]
[]
[]
[]
[]
[]
[]
[]
[]
[]
[]
[]
[]
[]
[]
[]
[]
[]
[]
[]
[]
[]
[]
[]
[]
[]
[]
[]
[]
[]
[]
[]
[]
[]
[]
[]
[]
[]
[]
[]
[]
[]
[]
[]
[]
[]
[]
[]
[]
[]
[]
[]
[]
[]
[]
[]
[]
[]
[]
[]
[]
[]
[]
[]
[]
[]
[]
[]
[]
[]
[]
[]
[]
[]
[]
[]
[]
[]
[]
[]
[]
[]
[]
[]
[]
[]
[]
[]
[]
[]
[]
[]
[]
[]
[]
[]
[]
[]
[]
[]
[]
[]
[]
[]
[]
[]
[]
[]
[]
[]
[]
[]
[]
[]
[]
[]
[]
[]
[]
[]
[]
[]
[]
[]
[]
[]
[]
[]
[]
[]
[]
[]
[]
[]
[]
[]
[]
[]
[]
[]
[]
[]
[]
[]
[]
[]
[]
[]
[]
[]
[]
[]
[]
[]
[]
[]
[]
[]
[]
[]
[]
[]
[]
[]
[]
[]
[]
[]
[]
[]
[]
[]
[]
[]
[]
[]
[]
[]
[]
[]
[]
[]
[]
[]
[]
[]
[]
[]
[]
[]
[]
[]
[]
[]
[]
[]
[]
[]
[]
[]
[]
[]
[]
[]
[]
[]
[]
[]
[]
[]
[]
[]
[]
[]
[]
[]
[]
[]
[]
[]
[]
[]
[]
[]
[]
[]
[]
[]
[]
[]
[]
[]
[]
[]
[]
[]
[]
[]
[]
[]
[]
[]
[]
[]
[]
[]
[]
[]
[]
[]
[]
[]
[]
[]
[]
[]
[]
[]
[]
[]
[]
[]
[]
[]
[]
[]
[]
[]
[]
[]
[]
[]
[]
[]
[]
[]
[]
[]
[]
[]
[]
[]
[]
[]
[]
[]
[]
[]
[]
[]
[]
[]
[]
[]
[]
[]
[]
[]
[]
[]
[]
[]
[]
[]
[]
[]
[]
[]
[]
[]
[]
[]
[]
[]
[]
[]
[]
[]
[]
[]
[]
[]
[]
[]
[]
[]
[]
[]
[]
[]
[]
[]
[]
[]
[]
[]
[]
[]
[]
[]
[]
[]
[]
[]
[]
[]
[]
[]
[]
[]
[]
[]
[]
[]
[]
[]
[]
[]
[]
[]
[]
[]
[]
[]
[]
[]
[]
[]
[]
[]
[]
[]
[]
[]
[]
[]
[]
[]
[]
[]
[]
[]
[]
[]
[]
[]
[]
[]
[]
[]
[]
[]
[]
[]
[]
[]
[]
[]
[]
[]
[]
[]
[]
[]
[]
[]
[]
[]
[]
[]
[]
[]
[]
[]
[]
[]
[]
[]
[]
[]
[]
[]
[]
[]
[]
[]
[]
[]
[]
[]
[]
[]
[]
[]
[]
[]
[]
[]
[]
[]
[]
[]
[]
[]
[]
[]
[]
[]
[]
[]
[]
[]
[]
[]
[]
[]
[]
[]
[]
[]
[]
[]
[]
[]
[]
[]
[]
[]
[]
[]
[]
[]
[]
[]
[]
[]
[]
[]
[]
[]
[]
[]
[]
[]
[]
[]
[]
[]
[]
[]
[]
[]
[]
[]
[]
[]
[]
[]
[]
[]
[]
[]
[]
[]
[]
[]
[]
[]
[]
[]
[]
[]
[]
[]
[]
[]
[]
[]
[]
[]
[]
[]
[]
[]
[]
[]
[]
[]
[]
[]
[]
[]
[]
[]
[]
[]
[]
[]
[]
[]
[]
[]
[]
[]
[]
[]
[]
[]
[]
[]
[]
[]
[]
[]
[]
[]
[]
[]
[]
[]
[]
[]
[]
[]
[]
[]
[]
[]
[]
[]
[]
[]
[]
[]
[]
[]
[]
[]
[]
[]
[]
[]
[]
[]
[]
[]
[]
[]
[]
[]
[]
[]
[]
[]
[]
[]
[]
[]
[]
[]
[]
[]
[]
[]
[]
[]
[]
[]
[]
[]
[]
[]
[]
[]
[]
[]
[]
[]
[]
[]
[]
[]
[]
[]
[]
[]
[]
[]
[]
[]
[]
[]
[]
[]
[]
[]
[]
[]
[]
[]
[]
[]
[]
[]
[]
[]
[]
[]
[]
[]
[]
[]
[]
[]
[]
[]
[]
[]
[]
[]
[]
[]
[]
[]
[]
[]
[]
[]
[]
[]
[]
[]
[]
[]
[]
[]
[]
[]
[]
[]
[]
[]
[]
[]
[]
[]
[]
[]
[]
[]
[]
[]
[]
[]
[]
[]
[]
[]
[]
[]
[]
[]
[]
[]
[]
[]
[]
[]
[]
[]
[]
[]
[]
[]
[]
[]
[]
[]
[]
[]
[]
[]
[]
[]
[]
[]
[]
[]
[]
[]
[]
[]
[]
[]
[]
[]
[]
[]
[]
[]
[]
[]
[]
[]
[]
[]
[]
[]
[]
[]
[]
[]
[]
[]
[]
[]
[]
[]
[]
[]
[]
[]
[]
[]
[]
[]
[]
[]
[]
[]
[]
[]
[]
[]
[]
[]
[]
[]
[]
[]
[]
[]
[]
[]
[]
[]
[]
[]
[]
[]
[]
[]
[]
[]
[]
[]
[]
[]
[]
[]
[]
[]
[]
[]
[]
[]
[]
[]
[]
[]
[]
[]
[]
[]
[]
[]
[]
[]
[]
[]
[]
[]
[]
[]
[]
[]
[]
[]
[]
[]
[]
[]
[]
[]
[]
[]
[]
[]
[]
[]
[]
[]
[]
[]
[]
[]
[]
[]
[]
[]
[]
[]
[]
[]
[]
[]
[]
[]
[]
[]
[]
[]
[]
[]
[]
[]
[]
[]
[]
[]
[]
[]
[]
[]
[]
[]
[]
[]
[]
[]
[]
[]
[]
[]
[]
[]
[]
[]
[]
[]
[]
[]
[]
[]
[]
[]
[]
[]
[]
[]
[]
[]
[]
[]
[]
[]
[]
[]
[]
[]
[]
[]
[]
[]
[]
[]
[]
[]
[]
[]
[]
[]
[]
[]
[]
[]
[]
[]
[]
[]
[]
[]
[]
[]
[]
[]
[]
[]
[]
[]
[]
[]
[]
[]
[]
[]
[]
[]
[]
[]
[]
[]
[]
[]
[]
[]
[]
[]
[]
[]
[]
[]
[]
[]
[]
[]
[]
[]
[]
[]
[]
[]
[]
[]
[]
[]
[]
[]
[]
[]
[]
[]
[]
[]
[]
[]
[]
[]
[]
[]
[]
[]
[]
[]
[]
[]
[]
[]
[]
[]
[]
[]
[]
[]
[]
[]
[]
[]
[]
[]
[]
[]
[]
[]
[]
[]
[]
[]
[]
[]
[]
[]
[]
[]
[]
[]
[]
[]
[]
[]
[]
[]
[]
[]
[]
[]
[]
[]
[]
[]
[]
[]
[]
[]
[]
[]
[]
[]
[]
[]
[]
[]
[]
[]
[]
[]
[]
[]
[]
[]
[]
[]
[]
[]
[]
[]
[]
[]
[]
[]
[]
[]
[]
[]
[]
[]
[]
[]
[]
[]
[]
[]
[]
[]
[]
[]
[]
[]
[]
[]
[]
[]
[]
[]
[]
[]
[]
[]
[]
[]
[]
[]
[]
[]
[]
[]
[]
[]
[]
[]
[]
[]
[]
[]
[]
[]
[]
[]
[]
[]
[]
[]
[]
[]
[]
[]
[]
[]
[]
[]
[]
[]
[]
[]
[]
[]
[]
[]
[]
[]
[]
[]
[]
[]
[]
[]
[]
[]
[]
[]
[]
[]
[]
[]
[]
[]
[]
[]
[]
[]
[]
[]
[]
[]
[]
[]
[]
[]
[]
[]
[]
[]
[]
[]
[]
[]
[]
[]
[]
[]
[]
[]
[]
[]
[]
[]
[]
[]
[]
[]
[]
[]
[]
[]
[]
[]
[]
[]
[]
[]
[]
[]
[]
[]
[]
[]
[]
[]
[]
[]
[]
[]
[]
[]
[]
[]
[]
[]
[]
[]
[]
[]
[]
[]
[]
[]
[]
[]
[]
[]
[]
[]
[]
[]
[]
[]
[]
[]
[]
[]
[]
[]
[]
[]
[]
[]
[]
[]
[]
[]
[]
[]
[]
[]
[]
[]
[]
[]
[]
[]
[]
[]
[]
[]
[]
[]
[]
[]
[]
[]
[]
[]
[]
[]
[]
[]
[]
[]
[]
[]
[]
[]
[]
[]
[]
[]
[]
[]
[]
[]
[]
[]
[]
[]
[]
[]
[]
[]
[]
[]
[]
[]
[]
[]
[]
[]
[]
[]
[]
[]
[]
[]
[]
[]
[]
[]
[]
[]
[]
[]
[]
[]
[]
[]
[]
[]
[]
[]
[]
[]
[]
[]
[]
[]
[]
[]
[]
[]
[]
[]
[]
[]
[]
[]
[]
[]
[]
[]
[]
[]
[]
[]
[]
[]
[]
[]
[]
[]
[]
[]
[]
[]
[]
[]
[]
[]
[]
[]
[]
[]
[]
[]
[]
[]
[]
[]
[]
[]
[]
[]
[]
[]
[]
[]
[]
[]
[]
[]
[]
[]
[]
[]
[]
[]
[]
[]
[]
[]
[]
[]
[]
[]
[]
[]
[]
[]
[]
[]
[]
[]
[]
[]
[]
[]
[]
[]
[]
[]
[]
[]
[]
[]
[]
[]
[]
[]
[]
[]
[]
[]
[]
[]
[]
[]
[]
[]
[]
[]
[]
[]
[]
[]
[]
[]
[]
[]
[]
[]
[]
[]
[]
[]
[]
[]
[]
[]
[]
[]
[]
[]
[]
[]
[]
[]
[]
[]
[]
[]
[]
[]
[]
[]
[]
[]
[]
[]
[]
[]
[]
[]
[]
[]
[]
[]
[]
[]
[]
[]
[]
[]
[]
[]
[]
[]
[]
[]
[]
[]
[]
[]
[]
[]
[]
[]
[]
[]
[]
[]
[]
[]
[]
[]
[]
[]
[]
[]
[]
[]
[]
[]
[]
[]
[]
[]
[]
[]
[]
[]
[]
[]
[]
[]
[]
[]
[]
[]
[]
[]
[]
[]
[]
[]
[]
[]
[]
[]
[]
[]
[]
[]
[]
[]
[]
[]
[]
[]
[]
[]
[]
[]
[]
[]
[]
[]
[]
[]
[]
[]
[]
[]
[]
[]
[]
[]
[]
[]
[]
[]
[]
[]
[]
[]
[]
[]
[]
[]
[]
[]
[]
[]
[]
[]
[]
[]
[]
[]
[]
[]
[]
[]
[]
[]
[]
[]
[]
[]
[]
[]
[]
[]
[]
[]
[]
[]
[]
[]
[]
[]
[]
[]
[]
[]
[]
[]
[]
[]
[]
[]
[]
[]
[]
[]
[]
[]
[]
[]
[]
[]
[]
[]
[]
[]
[]
[]
[]
[]
[]
[]
[]
[]
[]
[]
[]
[]
[]
[]
[]
[]
[]
[]
[]
[]
[]
[]
[]
[]
[]
[]
[]
[]
[]
[]
[]
[]
[]
[]
[]
[]
[]
[]
[]
[]
[]
[]
[]
[]
[]
[]
[]
[]
[]
[]
[]
[]
[]
[]
[]
[]
[]
[]
[]
[]
[]
[]
[]
[]
[]
[]
[]
[]
[]
[]
[]
[]
[]
[]
[]
[]
[]
[]
[]
[]
[]
[]
[]
[]
[]
[]
[]
[]
[]
[]
[]
[]
[]
[]
[]
[]
[]
[]
[]
[]
[]
[]
[]
[]
[]
[]
[]
[]
[]
[]
[]
[]
[]
[]
[]
[]
[]
[]
[]
[]
[]
[]
[]
[]
[]
[]
[]
[]
[]
[]
[]
[]
[]
[]
[]
[]
[]
[]
[]
[]
[]
[]
[]
[]
[]
[]
[]
[]
[]
[]
[]
[]
[]
[]
[]
[]
[]
[]
[]
[]
[]
[]
[]
[]
[]
[]
[]
[]
[]
[]
[]
[]
[]
[]
[]
[]
[]
[]
[]
[]
[]
[]
[]
[]
[]
[]
[]
[]
[]
[]
[]
[]
[]
[]
[]
[]
[]
[]
[]
[]
[]
[]
[]
[]
[]
[]
[]
[]
[]
[]
[]
[]
[]
[]
[]
[]
[]
[]
[]
[]
[]
[]
[]
[]
[]
[]
[]
[]
[]
[]
[]
[]
[]
[]
[]
[]
[]
[]
[]
[]
[]
[]
[]
[]
[]
[]
[]
[]
[]
[]
[]
[]
[]
[]
[]
[]
[]
[]
[]
[]
[]
[]
[]
[]
[]
[]
[]
[]
[]
[]
[]
[]
[]
[]
[]
[]
[]
[]
[]
[]
[]
[]
[]
[]
[]
[]
[]
[]
[]
[]
[]
[]
[]
[]
[]
[]
[]
[]
[]
[]
[]
[]
[]
[]
[]
[]
[]
[]
[]
[]
[]
[]
[]
[]
[]
[]
[]
[]
[]
[]
[]
[]
[]
[]
[]
[]
[]
[]
[]
[]
[]
[]
[]
[]
[]
[]
[]
[]
[]
[]
[]
[]
[]
[]
[]
[]
[]
[]
[]
[]
[]
[]
[]
[]
[]
[]
[]
[]
[]
[]
[]
[]
[]
[]
[]
[]
[]
[]
[]
[]
[]
[]
[]
[]
[]
[]
[]
[]
[]
[]
[]
[]
[]
[]
[]
[]
[]
[]
[]
[]
[]
[]
[]
[]
[]
[]
[]
[]
[]
[]
[]
[]
[]
[]
[]
[]
[]
[]
[]
[]
[]
[]
[]
[]
[]
[]
[]
[]
[]
[]
[]
[]
[]
[]
[]
[]
[]
[]
[]
[]
[]
[]
[]
[]
[]
[]
[]
[]
[]
[]
[]
[]
[]
[]
[]
[]
[]
[]
[]
[]
[]
[]
[]
[]
[]
[]
[]
[]
[]
[]
[]
[]
[]
[]
[]
[]
[]
[]
[]
[]
[]
[]
[]
[]
[]
[]
[]
[]
[]
[]
[]
[]
[]
[]
[]
[]
[]
[]
[]
[]
[]
[]
[]
[]
[]
[]
[]
[]
[]
[]
[]
[]
[]
[]
[]
[]
[]
[]
[]
[]
[]
[]
[]
[]
[]
[]
[]
[]
[]
[]
[]
[]
[]
[]
[]
[]
[]
[]
[]
[]
[]
[]
[]
[]
[]
[]
[]
[]
[]
[]
[]
[]
[]
[]
[]
[]
[]
[]
[]
[]
[]
[]
[]
[]
[]
[]
[]
[]
[]
[]
[]
[]
[]
[]
[]
[]
[]
[]
[]
[]
[]
[]
[]
[]
[]
[]
[]
[]
[]
[]
[]
[]
[]
[]
[]
[]
[]
[]
[]
[]
[]
[]
[]
[]
[]
[]
[]
[]
[]
[]
[]
[]
[]
[]
[]
[]
[]
[]
[]
[]
[]
[]
[]
[]
[]
[]
[]
[]
[]
[]
[]
[]
[]
[]
[]
[]
[]
[]
[]
[]
[]
[]
[]
[]
[]
[]
[]
[]
[]
[]
[]
[]
[]
[]
[]
[]
[]
[]
[]
[]
[]
[]
[]
[]
[]
[]
[]
[]
[]
[]
[]
[]
[]
[]
[]
[]
[]
[]
[]
[]
[]
[]
[]
[]
[]
[]
[]
[]
[]
[]
[]
[]
[]
[]
[]
[]
[]
[]
[]
[]
[]
[]
[]
[]
[]
[]
[]
[]
[]
[]
[]
[]
[]
[]
[]
[]
[]
[]
[]
[]
[]
[]
[]
[]
[]
[]
[]
[]
[]
[]
[]
[]
[]
[]
[]
[]
[]
[]
[]
[]
[]
[]
[]
[]
[]
[]
[]
[]
[]
[]
[]
[]
[]
[]
[]
[]
[]
[]
[]
[]
[]
[]
[]
[]
[]
[]
[]
[]
[]
[]
[]
[]
[]
[]
[]
[]
[]
[]
[]
[]
[]
[]
[]
[]
[]
[]
[]
[]
[]
[]
[]
[]
[]
[]
[]
[]
[]
[]
[]
[]
[]
[]
[]
[]
[]
[]
[]
[]
[]
[]
[]
[]
[]
[]
[]
[]
[]
[]
[]
[]
[]
[]
[]
[]
[]
[]
[]
[]
[]
[]
[]
[]
[]
[]
[]
[]
[]
[]
[]
[]
[]
[]
[]
[]
[]
[]
[]
[]
[]
[]
[]
[]
[]
[]
[]
[]
[]
[]
[]
[]
[]
[]
[]
[]
[]
[]
[]
[]
[]
[]
[]
[]
[]
[]
[]
[]
[]
[]
[]
[]
[]
[]
[]
[]
[]
[]
[]
[]
[]
[]
[]
[]
[]
[]
[]
[]
[]
[]
[]
[]
[]
[]
[]
[]
[]
[]
[]
[]
[]
[]
[]
[]
[]
[]
[]
[]
[]
[]
[]
[]
[]
[]
[]
[]
[]
[]
[]
[]
[]
[]
[]
[]
[]
[]
[]
[]
[]
[]
[]
[]
[]
[]
[]
[]
[]
[]
[]
[]
[]
[]
[]
[]
[]
[]
[]
[]
[]
[]
[]
[]
[]
[]
[]
[]
[]
[]
[]
[]
[]
[]
[]
[]
[]
[]
[]
[]
[]
[]
[]
[]
[]
[]
[]
[]
[]
[]
[]
[]
[]
[]
[]
[]
[]
[]
[]
[]
[]
[]
[]
[]
[]
[]
[]
[]
[]
[]
[]
[]
[]
[]
[]
[]
[]
[]
[]
[]
[]
[]
[]
[]
[]
[]
[]
[]
[]
[]
[]
[]
[]
[]
[]
[]
[]
[]
[]
[]
[]
[]
[]
[]
[]
[]
[]
[]
[]
[]
[]
[]
[]
[]
[]
[]
[]
[]
[]
[]
[]
[]
[]
[]
[]
[]
[]
[]
[]
[]
[]
[]
[]
[]
[]
[]
[]
[]
[]
[]
[]
[]
[]
[]
[]
[]
[]
[]
[]
[]
[]
[]
[]
[]
[]
[]
[]
[]
[]
[]
[]
[]
[]
[]
[]
[]
[]
[]
[]
[]
[]
[]
[]
[]
[]
[]
[]
[]
[]
[]
[]
[]
[]
[]
[]
[]
[]
[]
[]
[]
[]
[]
[]
[]
[]
[]
[]
[]
[]
[]
[]
[]
[]
[]
[]
[]
[]
[]
[]
[]
[]
[]
[]
[]
[]
[]
[]
[]
[]
[]
[]
[]
[]
[]
[]
[]
[]
[]
[]
[]
[]
[]
[]
[]
[]
[]
[]
[]
[]
[]
[]
[]
[]
[]
[]
[]
[]
[]
[]
[]
[]
[]
[]
[]
[]
[]
[]
[]
[]
[]
[]
[]
[]
[]
[]
[]
[]
[]
[]
[]
[]
[]
[]
[]
[]
[]
[]
[]
[]
[]
[]
[]
[]
[]
[]
[]
[]
[]
[]
[]
[]
[]
[]
[]
[]
[]
[]
[]
[]
[]
[]
[]
[]
[]
[]
[]
[]
[]
[]
[]
[]
[]
[]
[]
[]
[]
[]
[]
[]
[]
[]
[]
[]
[]
[]
[]
[]
[]
[]
[]
[]
[]
[]
[]
[]
[]
[]
[]
[]
[]
[]
[]
[]
[]
[]
[]
[]
[]
[]
[]
[]
[]
[]
[]
[]
[]
[]
[]
[]
[]
[]
[]
[]
[]
[]
[]
[]
[]
[]
[]
[]
[]
[]
[]
[]
[]
[]
[]
[]
[]
[]
[]
[]
[]
[]
[]
[]
[]
[]
[]
[]
[]
[]
[]
[]
[]
[]
[]
[]
[]
[]
[]
[]
[]
[]
[]
[]
[]
[]
[]
[]
[]
[]
[]
[]
[]
[]
[]
[]
[]
[]
[]
[]
[]
[]
[]
[]
[]
[]
[]
[]
[]
[]
[]
[]
[]
[]
[]
[]
[]
[]
[]
[]
[]
[]
[]
[]
[]
[]
[]
[]
[]
[]
[]
[]
[]
[]
[]
[]
[]
[]
[]
[]
[]
[]
[]
[]
[]
[]
[]
[]
[]
[]
[]
[]
[]
[]
[]
[]
[]
[]
[]
[]
[]
[]
[]
[]
[]
[]
[]
[]
[]
[]
[]
[]
[]
[]
[]
[]
[]
[]
[]
[]
[]
[]
[]
[]
[]
[]
[]
[]
[]
[]
[]
[]
[]
[]
[]
[]
[]
[]
[]
[]
[]
[]
[]
[]
[]
[]
[]
[]
[]
[]
[]
[]
[]
[]
[]
[]
[]
[]
[]
[]
[]
[]
[]
[]
[]
[]
[]
[]
[]
[]
[]
[]
[]
[]
[]
[]
[]
[]
[]
[]
[]
[]
[]
[]
[]
[]
[]
[]
[]
[]
[]
[]
[]
[]
[]
[]
[]
[]
[]
[]
[]
[]
[]
[]
[]
[]
[]
[]
[]
[]
[]
[]
[]
[]
[]
[]
[]
[]
[]
[]
[]
[]
[]
[]
[]
[]
[]
[]
[]
[]
[]
[]
[]
[]
[]
[]
[]
[]
[]
[]
[]
[]
[]
[]
[]
[]
[]
[]
[]
[]
[]
[]
[]
[]
[]
[]
[]
[]
[]
[]
[]
[]
[]
[]
[]
[]
[]
[]
[]
[]
[]
[]
[]
[]
[]
[]
[]
[]
[]
[]
[]
[]
[]
[]
[]
[]
[]
[]
[]
[]
[]
[]
[]
[]
[]
[]
[]
[]
[]
[]
[]
[]
[]
[]
[]
[]
[]
[]
[]
[]
[]
[]
[]
[]
[]
[]
[]
[]
[]
[]
[]
[]
[]
[]
[]
[]
[]
[]
[]
[]
[]
[]
[]
[]
[]
[]
[]
[]
[]
[]
[]
[]
[]
[]
[]
[]
[]
[]
[]
[]
[]
[]
[]
[]
[]
[]
[]
[]
[]
[]
[]
[]
[]
[]
[]
[]
[]
[]
[]
[]
[]
[]
[]
[]
[]
[]
[]
[]
[]
[]
[]
[]
[]
[]
[]
[]
[]
[]
[]
[]
[]
[]
[]
[]
[]
[]
[]
[]
[]
[]
[]
[]
[]
[]
[]
[]
[]
[]
[]
[]
[]
[]
[]
[]
[]
[]
[]
[]
[]
[]
[]
[]
[]
[]
[]
[]
[]
[]
[]
[]
[]
[]
[]
[]
[]
[]
[]
[]
[]
[]
[]
[]
[]
[]
[]
[]
[]
[]
[]
[]
[]
[]
[]
[]
[]
[]
[]
[]
[]
[]
[]
[]
[]
[]
[]
[]
[]
[]
[]
[]
[]
[]
[]
[]
[]
[]
[]
[]
[]
[]
[]
[]
[]
[]
[]
[]
[]
[]
[]
[]
[]
[]
[]
[]
[]
[]
[]
[]
[]
[]
[]
[]
[]
[]
[]
[]
[]
[]
[]
[]
[]
[]
[]
[]
[]
[]
[]
[]
[]
[]
[]
[]
[]
[]
[]
[]
[]
[]
[]
[]
[]
[]
[]
[]
[]
[]
[]
[]
[]
[]
[]
[]
[]
[]
[]
[]
[]
[]
[]
[]
[]
[]
[]
[]
[]
[]
[]
[]
[]
[]
[]
[]
[]
[]
[]
[]
[]
[]
[]
[]
[]
[]
[]
[]
[]
[]
[]
[]
[]
[]
[]
[]
[]
[]
[]
[]
[]
[]
[]
[]
[]
[]
[]
[]
[]
[]
[]
[]
[]
[]
[]
[]
[]
[]
[]
[]
[]
[]
[]
[]
[]
[]
[]
[]
[]
[]
[]
[]
[]
[]
[]
[]
[]
[]
[]
[]
[]
[]
[]
[]
[]
[]
[]
[]
[]
[]
[]
[]
[]
[]
[]
[]
[]
[]
[]
[]
[]
[]
[]
[]
[]
[]
[]
[]
[]
[]
[]
[]
[]
[]
[]
[]
[]
[]
[]
[]
[]
[]
[]
[]
[]
[]
[]
[]
[]
[]
[]
[]
[]
[]
[]
[]
[]
[]
[]
[]
[]
[]
[]
[]
[]
[]
[]
[]
[]
[]
[]
[]
[]
[]
[]
[]
[]
[]
[]
[]
[]
[]
[]
[]
[]
[]
[]
[]
[]
[]
[]
[]
[]
[]
[]
[]
[]
[]
[]
[]
[]
[]
[]
[]
[]
[]
[]
[]
[]
[]
[]
[]
[]
[]
[]
[]
[]
[]
[]
[]
[]
[]
[]
[]
[]
[]
[]
[]
[]
[]
[]
[]
[]
[]
[]
[]
[]
[]
[]
[]
[]
[]
[]
[]
[]
[]
[]
[]
[]
[]
[]
[]
[]
[]
[]
[]
[]
[]
[]
[]
[]
[]
[]
[]
[]
[]
[]
[]
[]
[]
[]
[]
[]
[]
[]
[]
[]
[]
[]
[]
[]
[]
[]
[]
[]
[]
[]
[]
[]
[]
[]
[]
[]
[]
[]
[]
[]
[]
[]
[]
[]
[]
[]
[]
[]
[]
[]
[]
[]
[]
[]
[]
[]
[]
[]
[]
[]
[]
[]
[]
[]
[]
[]
[]
[]
[]
[]
[]
[]
[]
[]
[]
[]
[]
[]
[]
[]
[]
[]
[]
[]
[]
[]
[]
[]
[]
[]
[]
[]
[]
[]
[]
[]
[]
[]
[]
[]
[]
[]
[]
[]
[]
[]
[]
[]
[]
[]
[]
[]
[]
[]
[]
[]
[]
[]
[]
[]
[]
[]
[]
[]
[]
[]
[]
[]
[]
[]
[]
[]
[]
[]
[]
[]
[]
[]
[]
[]
[]
[]
[]
[]
[]
[]
[]
[]
[]
[]
[]
[]
[]
[]
[]
[]
[]
[]
[]
[]
[]
[]
[]
[]
[]
[]
[]
[]
[]
[]
[]
[]
[]
[]
[]
[]
[]
[]
[]
[]
[]
[]
[]
[]
[]
[]
[]
[]
[]
[]
[]
[]
[]
[]
[]
[]
[]
[]
[]
[]
[]
[]
[]
[]
[]
[]
[]
[]
[]
[]
[]
[]
[]
[]
[]
[]
[]
[]
[]
[]
[]
[]
[]
[]
[]
[]
[]
[]
[]
[]
[]
[]
[]
[]
[]
[]
[]
[]
[]
[]
[]
[]
[]
[]
[]
[]
[]
[]
[]
[]
[]
[]
[]
[]
[]
[]
[]
[]
[]
[]
[]
[]
[]
[]
[]
[]
[]
[]
[]
[]
[]
[]
[]
[]
[]
[]
[]
[]
[]
[]
[]
[]
[]
[]
[]
[]
[]
[]
[]
[]
[]
[]
[]
[]
[]
[]
[]
[]
[]
[]
[]
[]
[]
[]
[]
[]
[]
[]
[]
[]
[]
[]
[]
[]
[]
[]
[]
[]
[]
[]
[]
[]
[]
[]
[]
[]
[]
[]
[]
[]
[]
[]
[]
[]
[]
[]
[]
[]
[]
[]
[]
[]
[]
[]
[]
[]
[]
[]
[]
[]
[]
[]
[]
[]
[]
[]
[]
[]
[]
[]
[]
[]
[]
[]
[]
[]
[]
[]
[]
[]
[]
[]
[]
[]
[]
[]
[]
[]
[]
[]
[]
[]
[]
[]
[]
[]
[]
[]
[]
[]
[]
[]
[]
[]
[]
[]
[]
[]
[]
[]
[]
[]
[]
[]
[]
[]
[]
[]
[]
[]
[]
[]
[]
[]
[]
[]
[]
[]
[]
[]
[]
[]
[]
[]
[]
[]
[]
[]
[]
[]
[]
[]
[]
[]
[]
[]
[]
[]
[]
[]
[]
[]
[]
[]
[]
[]
[]
[]
[]
[]
[]
[]
[]
[]
[]
[]
[]
[]
[]
[]
[]
[]
[]
[]
[]
[]
[]
[]
[]
[null,null,null,null,null,null,null,null,null,null,null,null,null,null,null,null,null,null,null,null,null,null,null,null,null,null,null,null,"2020-01-05"]

{"sheet":"Rundstahl","index":3,"n_rows":36,"n_cols":5,"rows_kept":36,"cut":false,"hidden":false,"merged":[[0,0,0,2]]}
["Gesamtmasse =",null,null,{"$f":"IF(Start!AB2=\"nein\",\"Demo ENDE\",SUM(E5:E36))","v":0}]
["Massetabelle Rundstahl (+): Durchmesser (d), Höhe (h) in mm eingeben!"]
["Heutiges Datum:",{"$f":"TODAY()","v":"2021-04-02"}]
["d","h","TF","Dichte","Rundst.(kg)"]
[0,0,1,{"$f":"Start!$C$3","v":0},{"$f":"((A5*A5*(PI()/4)*B5*D5)/1000000)/C5","v":0}]
[0,0,1,{"$f":"Start!$C$3","v":0},{"$f":"((A6*A6*(PI()/4)*B6*D6)/1000000)/C6","v":0}]
[0,0,1,{"$f":"Start!$C$3","v":0},{"$f":"((A7*A7*(PI()/4)*B7*D7)/1000000)/C7","v":0}]
[0,0,1,{"$f":"Start!$C$3","v":0},0]
[0,0,1,{"$f":"Start!$C$3","v":0},0]
[0,0,1,{"$f":"Start!$C$3","v":0},0]
[0,0,1,{"$f":"Start!$C$3","v":0},0]
[0,0,1,{"$f":"Start!$C$3","v":0},0]
[0,0,1,{"$f":"Start!$C$3","v":0},0]
[0,0,1,{"$f":"Start!$C$3","v":0},0]
[0,0,1,{"$f":"Start!$C$3","v":0},0]
[0,0,1,{"$f":"Start!$C$3","v":0},0]
[0,0,1,{"$f":"Start!$C$3","v":0},0]
[0,0,1,{"$f":"Start!$C$3","v":0},0]
[0,0,1,{"$f":"Start!$C$3","v":0},0]
[0,0,1,{"$f":"Start!$C$3","v":0},0]
[0,0,1,{"$f":"Start!$C$3","v":0},0]
[0,0,1,{"$f":"Start!$C$3","v":0},0]
[0,0,1,{"$f":"Start!$C$3","v":0},0]
[0,0,1,{"$f":"Start!$C$3","v":0},0]
[0,0,1,{"$f":"Start!$C$3","v":0},0]
[0,0,1,{"$f":"Start!$C$3","v":0},0]
[0,0,1,{"$f":"Start!$C$3","v":0},0]
[0,0,1,{"$f":"Start!$C$3","v":0},0]
[0,0,1,{"$f":"Start!$C$3","v":0},0]
[0,0,1,{"$f":"Start!$C$3","v":0},0]
[0,0,1,{"$f":"Start!$C$3","v":0},0]
[0,0,1,{"$f":"Start!$C$3","v":0},0]
[0,0,1,{"$f":"Start!$C$3","v":0},0]
[0,0,1,{"$f":"Start!$C$3","v":0},0]
[0,0,1,{"$f":"Start!$C$3","v":0},0]
[0,0,1,{"$f":"Start!$C$3","v":0},0]

{"sheet":"Rundstahl (-)","index":4,"n_rows":36,"n_cols":5,"rows_kept":36,"cut":false,"hidden":false,"merged":[[0,0,0,2]]}
["Gesamtmasse=",null,null,{"$f":"IF(Start!AB2=\"nein\",\"Demo ENDE\",SUM(E5:E36))","v":0}]
["Massetabelle Rundstahl (-): Durchmesser (d), Höhe (h) in mm eingeben!"]
["Heutiges Datum:",{"$f":"TODAY()","v":"2021-04-02"}]
["d","h","TF","Dichte","Rundst.(kg)"]
[0,0,1,{"$f":"Start!$C$3","v":0},{"$f":"(((A5*A5*(PI()/4)*B5*D5)/1000000)-(2*((A5*A5*(PI()/4)*B5*D5)/1000000)))/C5","v":0}]
[0,0,1,{"$f":"Start!$C$3","v":0},{"$f":"(((A6*A6*(PI()/4)*B6*D6)/1000000)-(2*((A6*A6*(PI()/4)*B6*D6)/1000000)))/C6","v":0}]
[0,0,1,{"$f":"Start!$C$3","v":0},0]
[0,0,1,{"$f":"Start!$C$3","v":0},0]
[0,0,1,{"$f":"Start!$C$3","v":0},0]
[0,0,1,{"$f":"Start!$C$3","v":0},0]
[0,0,1,{"$f":"Start!$C$3","v":0},0]
[0,0,1,{"$f":"Start!$C$3","v":0},0]
[0,0,1,{"$f":"Start!$C$3","v":0},0]
[0,0,1,{"$f":"Start!$C$3","v":0},0]
[0,0,1,{"$f":"Start!$C$3","v":0},0]
[0,0,1,{"$f":"Start!$C$3","v":0},0]
[0,0,1,{"$f":"Start!$C$3","v":0},0]
[0,0,1,{"$f":"Start!$C$3","v":0},0]
[0,0,1,{"$f":"Start!$C$3","v":0},0]
[0,0,1,{"$f":"Start!$C$3","v":0},0]
[0,0,1,{"$f":"Start!$C$3","v":0},0]
[0,0,1,{"$f":"Start!$C$3","v":0},0]
[0,0,1,{"$f":"Start!$C$3","v":0},0]
[0,0,1,{"$f":"Start!$C$3","v":0},0]
[0,0,1,{"$f":"Start!$C$3","v":0},0]
[0,0,1,{"$f":"Start!$C$3","v":0},0]
[0,0,1,{"$f":"Start!$C$3","v":0},0]
[0,0,1,{"$f":"Start!$C$3","v":0},0]
[0,0,1,{"$f":"Start!$C$3","v":0},0]
[0,0,1,{"$f":"Start!$C$3","v":0},0]
[0,0,1,{"$f":"Start!$C$3","v":0},0]
[0,0,1,{"$f":"Start!$C$3","v":0},0]
[0,0,1,{"$f":"Start!$C$3","v":0},0]
[0,0,1,{"$f":"Start!$C$3","v":0},0]
[0,0,1,{"$f":"Start!$C$3","v":0},0]
[0,0,1,{"$f":"Start!$C$3","v":0},0]

{"sheet":"Kegelstumpf","index":5,"n_rows":36,"n_cols":6,"rows_kept":36,"cut":false,"hidden":false,"merged":[[0,0,0,1]]}
["Gesamtmasse=",null,{"$f":"IF(Start!AB2=\"nein\",\"Demo ENDE\",SUM(F5:F36))","v":0}]
["Massetabelle Kegelstumpf (+) : Durchmesser (D), Höhe (h),"]
["kleiner Durchmesser bei Kegelstumpf (d) in mm eingeben!"]
["D","d","h","TF","Dichte","Masse in kg"]
[0,0,0,1,{"$f":"Start!$C$3","v":0},{"$f":"((1.047197551*C5*(((A5/2)*(A5/2))+((A5/2)*(B5/2))+((B5/2)*(B5/2)))*E5)/1000000)/D5","v":0}]
[0,0,0,1,{"$f":"Start!$C$3","v":0},{"$f":"((1.047197551*C6*(((A6/2)*(A6/2))+((A6/2)*(B6/2))+((B6/2)*(B6/2)))*E6)/1000000)/D6","v":0}]
[0,0,0,1,{"$f":"Start!$C$3","v":0},0]
[0,0,0,1,{"$f":"Start!$C$3","v":0},0]
[0,0,0,1,{"$f":"Start!$C$3","v":0},0]
[0,0,0,1,{"$f":"Start!$C$3","v":0},0]
[0,0,0,1,{"$f":"Start!$C$3","v":0},0]
[0,0,0,1,{"$f":"Start!$C$3","v":0},0]
[0,0,0,1,{"$f":"Start!$C$3","v":0},0]
[0,0,0,1,{"$f":"Start!$C$3","v":0},0]
[0,0,0,1,{"$f":"Start!$C$3","v":0},0]
[0,0,0,1,{"$f":"Start!$C$3","v":0},0]
[0,0,0,1,{"$f":"Start!$C$3","v":0},0]
[0,0,0,1,{"$f":"Start!$C$3","v":0},0]
[0,0,0,1,{"$f":"Start!$C$3","v":0},0]
[0,0,0,1,{"$f":"Start!$C$3","v":0},0]
[0,0,0,1,{"$f":"Start!$C$3","v":0},0]
[0,0,0,1,{"$f":"Start!$C$3","v":0},0]
[0,0,0,1,{"$f":"Start!$C$3","v":0},0]
[0,0,0,1,{"$f":"Start!$C$3","v":0},0]
[0,0,0,1,{"$f":"Start!$C$3","v":0},0]
[0,0,0,1,{"$f":"Start!$C$3","v":0},0]
[0,0,0,1,{"$f":"Start!$C$3","v":0},0]
[0,0,0,1,{"$f":"Start!$C$3","v":0},0]
[0,0,0,1,{"$f":"Start!$C$3","v":0},0]
[0,0,0,1,{"$f":"Start!$C$3","v":0},0]
[0,0,0,1,{"$f":"Start!$C$3","v":0},0]
[0,0,0,1,{"$f":"Start!$C$3","v":0},0]
[0,0,0,1,{"$f":"Start!$C$3","v":0},0]
[0,0,0,1,{"$f":"Start!$C$3","v":0},0]
[0,0,0,1,{"$f":"Start!$C$3","v":0},0]
[0,0,0,1,{"$f":"Start!$C$3","v":0},0]

{"sheet":"Kegelstumpf (-)","index":6,"n_rows":36,"n_cols":6,"rows_kept":36,"cut":false,"hidden":false,"merged":[[0,0,0,1]]}
["Gesamtmasse=",null,{"$f":"IF(Start!AB2=\"nein\",\"Demo ENDE\",SUM(F5:F36))","v":0}]
["Massetabelle Kegelstumpf (-) : Durchmesser (D), Höhe (h),"]
["kleiner Durchmesser bei Kegelstumpf (d) in mm eingeben!"]
["D","d","h","TF","Dichte","Kegelstumpf"]
[0,0,0,1,{"$f":"Start!$C$3","v":0},{"$f":"(((1.047197551*C5*(((A5/2)*(A5/2))+((A5/2)*(B5/2))+((B5/2)*(B5/2)))*E5)/1000000)-(2*(((1.047197551*C5*(((A5/2)*(A5/2))+((A5/2)*(B5/2))+((B5/2)*(B5/2)))*E5)/1000000))))/D5","v":0}]
[0,0,0,1,{"$f":"Start!$C$3","v":0},{"$f":"(((1.047197551*C6*(((A6/2)*(A6/2))+((A6/2)*(B6/2))+((B6/2)*(B6/2)))*E6)/1000000)-(2*(((1.047197551*C6*(((A6/2)*(A6/2))+((A6/2)*(B6/2))+((B6/2)*(B6/2)))*E6)/1000000))))/D6","v":0}]
[0,0,0,1,{"$f":"Start!$C$3","v":0},0]
[0,0,0,1,{"$f":"Start!$C$3","v":0},0]
[0,0,0,1,{"$f":"Start!$C$3","v":0},0]
[0,0,0,1,{"$f":"Start!$C$3","v":0},0]
[0,0,0,1,{"$f":"Start!$C$3","v":0},0]
[0,0,0,1,{"$f":"Start!$C$3","v":0},0]
[0,0,0,1,{"$f":"Start!$C$3","v":0},0]
[0,0,0,1,{"$f":"Start!$C$3","v":0},0]
[0,0,0,1,{"$f":"Start!$C$3","v":0},0]
[0,0,0,1,{"$f":"Start!$C$3","v":0},0]
[0,0,0,1,{"$f":"Start!$C$3","v":0},0]
[0,0,0,1,{"$f":"Start!$C$3","v":0},0]
[0,0,0,1,{"$f":"Start!$C$3","v":0},0]
[0,0,0,1,{"$f":"Start!$C$3","v":0},0]
[0,0,0,1,{"$f":"Start!$C$3","v":0},0]
[0,0,0,1,{"$f":"Start!$C$3","v":0},0]
[0,0,0,1,{"$f":"Start!$C$3","v":0},0]
[0,0,0,1,{"$f":"Start!$C$3","v":0},0]
[0,0,0,1,{"$f":"Start!$C$3","v":0},0]
[0,0,0,1,{"$f":"Start!$C$3","v":0},0]
[0,0,0,1,{"$f":"Start!$C$3","v":0},0]
[0,0,0,1,{"$f":"Start!$C$3","v":0},0]
[0,0,0,1,{"$f":"Start!$C$3","v":0},0]
[0,0,0,1,{"$f":"Start!$C$3","v":0},0]
[0,0,0,1,{"$f":"Start!$C$3","v":0},0]
[0,0,0,1,{"$f":"Start!$C$3","v":0},0]
[0,0,0,1,{"$f":"Start!$C$3","v":0},0]
[0,0,0,1,{"$f":"Start!$C$3","v":0},0]
[0,0,0,1,{"$f":"Start!$C$3","v":0},0]
[0,0,0,1,{"$f":"Start!$C$3","v":0},0]

{"sheet":"Vierkant","index":7,"n_rows":36,"n_cols":5,"rows_kept":36,"cut":false,"hidden":false,"merged":[[0,0,0,1]]}
["Gesamtmasse=",null,{"$f":"IF(Start!AB2=\"nein\",\"Demo ENDE\",SUM(E5:E36))","v":0}]
["Massetabelle Vierkant (+) : Länge (l), Breite (b), Höhe (h),  in mm eingeben!"]
["Heutiges Datum:",{"$f":"TODAY()","v":"2021-04-02"}]
["l","b","h","Dichte","Vierkant (kg)"]
[0,0,0,{"$f":"Start!$C$3","v":0},{"$f":"(A5*B5*C5*D5)/1000000","v":0}]
[0,0,0,{"$f":"Start!$C$3","v":0},0]
[0,0,0,{"$f":"Start!$C$3","v":0},0]
[0,0,0,{"$f":"Start!$C$3","v":0},0]
[0,0,0,{"$f":"Start!$C$3","v":0},0]
[0,0,0,{"$f":"Start!$C$3","v":0},0]
[0,0,0,{"$f":"Start!$C$3","v":0},0]
[0,0,0,{"$f":"Start!$C$3","v":0},0]
[0,0,0,{"$f":"Start!$C$3","v":0},0]
[0,0,0,{"$f":"Start!$C$3","v":0},0]
[0,0,0,{"$f":"Start!$C$3","v":0},0]
[0,0,0,{"$f":"Start!$C$3","v":0},0]
[0,0,0,{"$f":"Start!$C$3","v":0},0]
[0,0,0,{"$f":"Start!$C$3","v":0},0]
[0,0,0,{"$f":"Start!$C$3","v":0},0]
[0,0,0,{"$f":"Start!$C$3","v":0},0]
[0,0,0,{"$f":"Start!$C$3","v":0},0]
[0,0,0,{"$f":"Start!$C$3","v":0},0]
[0,0,0,{"$f":"Start!$C$3","v":0},0]
[0,0,0,{"$f":"Start!$C$3","v":0},0]
[0,0,0,{"$f":"Start!$C$3","v":0},0]
[0,0,0,{"$f":"Start!$C$3","v":0},0]
[0,0,0,{"$f":"Start!$C$3","v":0},0]
[0,0,0,{"$f":"Start!$C$3","v":0},0]
[0,0,0,{"$f":"Start!$C$3","v":0},0]
[0,0,0,{"$f":"Start!$C$3","v":0},0]
[0,0,0,{"$f":"Start!$C$3","v":0},0]
[0,0,0,{"$f":"Start!$C$3","v":0},0]
[0,0,0,{"$f":"Start!$C$3","v":0},0]
[0,0,0,{"$f":"Start!$C$3","v":0},0]
[0,0,0,{"$f":"Start!$C$3","v":0},0]
[0,0,0,{"$f":"Start!$C$3","v":0},0]

{"sheet":"Vierkant (-)","index":8,"n_rows":36,"n_cols":5,"rows_kept":36,"cut":false,"hidden":false,"merged":[[0,0,0,1]]}
["Gesamtmasse=",null,{"$f":"IF(Start!AB2=\"nein\",\"Demo ENDE\",SUM(E5:E36))","v":0}]
["Massetabelle Vierkant (-) : Länge (l), Breite (b), Höhe (h),  in mm eingeben!"]
["Heutiges Datum:",{"$f":"TODAY()","v":"2021-04-02"}]
["l","b","h","Dichte","Vierkant (kg)"]
[0,0,0,{"$f":"Start!$C$3","v":0},{"$f":"((A5*B5*C5*D5)/1000000)-(2*((A5*B5*C5*D5)/1000000))","v":0}]
[0,0,0,{"$f":"Start!$C$3","v":0},{"$f":"((A6*B6*C6*D6)/1000000)-(2*((A6*B6*C6*D6)/1000000))","v":0}]
[0,0,0,{"$f":"Start!$C$3","v":0},0]
[0,0,0,{"$f":"Start!$C$3","v":0},0]
[0,0,0,{"$f":"Start!$C$3","v":0},0]
[0,0,0,{"$f":"Start!$C$3","v":0},0]
[0,0,0,{"$f":"Start!$C$3","v":0},0]
[0,0,0,{"$f":"Start!$C$3","v":0},0]
[0,0,0,{"$f":"Start!$C$3","v":0},0]
[0,0,0,{"$f":"Start!$C$3","v":0},0]
[0,0,0,{"$f":"Start!$C$3","v":0},0]
[0,0,0,{"$f":"Start!$C$3","v":0},0]
[0,0,0,{"$f":"Start!$C$3","v":0},0]
[0,0,0,{"$f":"Start!$C$3","v":0},0]
[0,0,0,{"$f":"Start!$C$3","v":0},0]
[0,0,0,{"$f":"Start!$C$3","v":0},0]
[0,0,0,{"$f":"Start!$C$3","v":0},0]
[0,0,0,{"$f":"Start!$C$3","v":0},0]
[0,0,0,{"$f":"Start!$C$3","v":0},0]
[0,0,0,{"$f":"Start!$C$3","v":0},0]
[0,0,0,{"$f":"Start!$C$3","v":0},0]
[0,0,0,{"$f":"Start!$C$3","v":0},0]
[0,0,0,{"$f":"Start!$C$3","v":0},0]
[0,0,0,{"$f":"Start!$C$3","v":0},0]
[0,0,0,{"$f":"Start!$C$3","v":0},0]
[0,0,0,{"$f":"Start!$C$3","v":0},0]
[0,0,0,{"$f":"Start!$C$3","v":0},0]
[0,0,0,{"$f":"Start!$C$3","v":0},0]
[0,0,0,{"$f":"Start!$C$3","v":0},0]
[0,0,0,{"$f":"Start!$C$3","v":0},0]
[0,0,0,{"$f":"Start!$C$3","v":0},0]
[0,0,0,{"$f":"Start!$C$3","v":0},0]

{"sheet":"Sechskant","index":9,"n_rows":36,"n_cols":4,"rows_kept":36,"cut":false,"hidden":false,"merged":[[0,0,0,1]]}
["Gesamtmasse =",null,{"$f":"IF(Start!AB2=\"nein\",\"Demo ENDE\",SUM(D5:D36))","v":0}]
["Massetabelle Sechskant (+): Länge (L) und Schlüsselweite (SW) in mm eingeben!"]
["Heutiges Datum:",{"$f":"TODAY()","v":"2021-04-02"}]
["L","SW","Dichte","Sechskant(kg)"]
[0,0,{"$f":"Start!$C$3","v":0},{"$f":"2*(B5/2*B5/2)*1.732050808*A5*C5/1000000","v":0}]
[0,0,{"$f":"Start!$C$3","v":0},0]
[0,0,{"$f":"Start!$C$3","v":0},0]
[0,0,{"$f":"Start!$C$3","v":0},0]
[0,0,{"$f":"Start!$C$3","v":0},0]
[0,0,{"$f":"Start!$C$3","v":0},0]
[0,0,{"$f":"Start!$C$3","v":0},0]
[0,0,{"$f":"Start!$C$3","v":0},0]
[0,0,{"$f":"Start!$C$3","v":0},0]
[0,0,{"$f":"Start!$C$3","v":0},0]
[0,0,{"$f":"Start!$C$3","v":0},0]
[0,0,{"$f":"Start!$C$3","v":0},0]
[0,0,{"$f":"Start!$C$3","v":0},0]
[0,0,{"$f":"Start!$C$3","v":0},0]
[0,0,{"$f":"Start!$C$3","v":0},0]
[0,0,{"$f":"Start!$C$3","v":0},0]
[0,0,{"$f":"Start!$C$3","v":0},0]
[0,0,{"$f":"Start!$C$3","v":0},0]
[0,0,{"$f":"Start!$C$3","v":0},0]
[0,0,{"$f":"Start!$C$3","v":0},0]
[0,0,{"$f":"Start!$C$3","v":0},0]
[0,0,{"$f":"Start!$C$3","v":0},0]
[0,0,{"$f":"Start!$C$3","v":0},0]
[0,0,{"$f":"Start!$C$3","v":0},0]
[0,0,{"$f":"Start!$C$3","v":0},0]
[0,0,{"$f":"Start!$C$3","v":0},0]
[0,0,{"$f":"Start!$C$3","v":0},0]
[0,0,{"$f":"Start!$C$3","v":0},0]
[0,0,{"$f":"Start!$C$3","v":0},0]
[0,0,{"$f":"Start!$C$3","v":0},0]
[0,0,{"$f":"Start!$C$3","v":0},0]
[0,0,{"$f":"Start!$C$3","v":0},0]

{"sheet":"Sechskant (-)","index":10,"n_rows":36,"n_cols":4,"rows_kept":36,"cut":false,"hidden":false,"merged":[[0,0,0,1]]}
["Gesamtmasse =",null,{"$f":"IF(Start!AB2=\"nein\",\"Demo ENDE\",SUM(D5:D36))","v":0}]
["Massetabelle Sechskant (-): Länge (L) und Schlüsselweite (SW) in mm eingeben!"]
["Heutiges Datum:",{"$f":"TODAY()","v":"2021-04-02"}]
["L","SW","Dichte","Sechskant(kg)"]
[0,0,{"$f":"Start!$C$3","v":0},{"$f":"(2*(B5/2*B5/2)*1.732050808*A5*C5/1000000)-(2*(2*(B5/2*B5/2)*1.732050808*A5*C5/1000000))","v":0}]
[0,0,{"$f":"Start!$C$3","v":0},{"$f":"(2*(B6/2*B6/2)*1.732050808*A6*C6/1000000)-(2*(2*(B6/2*B6/2)*1.732050808*A6*C6/1000000))","v":0}]
[0,0,{"$f":"Start!$C$3","v":0},0]
[0,0,{"$f":"Start!$C$3","v":0},0]
[0,0,{"$f":"Start!$C$3","v":0},0]
[0,0,{"$f":"Start!$C$3","v":0},0]
[0,0,{"$f":"Start!$C$3","v":0},0]
[0,0,{"$f":"Start!$C$3","v":0},0]
[0,0,{"$f":"Start!$C$3","v":0},0]
[0,0,{"$f":"Start!$C$3","v":0},0]
[0,0,{"$f":"Start!$C$3","v":0},0]
[0,0,{"$f":"Start!$C$3","v":0},0]
[0,0,{"$f":"Start!$C$3","v":0},0]
[0,0,{"$f":"Start!$C$3","v":0},0]
[0,0,{"$f":"Start!$C$3","v":0},0]
[0,0,{"$f":"Start!$C$3","v":0},0]
[0,0,{"$f":"Start!$C$3","v":0},0]
[0,0,{"$f":"Start!$C$3","v":0},0]
[0,0,{"$f":"Start!$C$3","v":0},0]
[0,0,{"$f":"Start!$C$3","v":0},0]
[0,0,{"$f":"Start!$C$3","v":0},0]
[0,0,{"$f":"Start!$C$3","v":0},0]
[0,0,{"$f":"Start!$C$3","v":0},0]
[0,0,{"$f":"Start!$C$3","v":0},0]
[0,0,{"$f":"Start!$C$3","v":0},0]
[0,0,{"$f":"Start!$C$3","v":0},0]
[0,0,{"$f":"Start!$C$3","v":0},0]
[0,0,{"$f":"Start!$C$3","v":0},0]
[0,0,{"$f":"Start!$C$3","v":0},0]
[0,0,{"$f":"Start!$C$3","v":0},0]
[0,0,{"$f":"Start!$C$3","v":0},0]
[0,0,{"$f":"Start!$C$3","v":0},0]

{"sheet":"Vielkant","index":11,"n_rows":14,"n_cols":9,"rows_kept":14,"cut":false,"hidden":false,"merged":[[0,0,0,1]]}
["Gesamtmasse =",null,{"$f":"IF(Start!AB2=\"nein\",\"Demo ENDE\",SUM(I6:I37))","v":0}]
["Massetabelle Vielkant (+)",null,null,"EM= Eckenmaß in mm, nur gültig bei geraden Ecken"]
["SW=Schlüsselweite in mm",null,null,"Ez=Eckenanzahl",null,"L=Länge","S=Seitenfläche in mm"]
["A= Flächeninhalt in mm hoch 2",null,null,"V= Volumen in dm hoch 3",null,null,"m=Masse in kg"]
["SW","Ez","L","Dichte","EM","S","A","V","m in kg"]
[0,6,0,{"$f":"Start!$C$3","v":0},{"$f":"(SQRT(((0.5*A6)*(0.5*A6))+((0.5*F6)*(0.5*F6))))*2","v":0},{"$f":"TAN(((360/B6/2)*PI()/180))*A6","v":0},{"$f":"0.5*F6*0.5*A6*B6","v":0},{"$f":"(G6*C6)/1000000","v":0},{"$f":"H6*D6","v":0}]
[0,6,0,{"$f":"Start!$C$3","v":0},0,0,0,0,0]
[0,6,0,{"$f":"Start!$C$3","v":0},0,0,0,0,0]
[0,6,0,{"$f":"Start!$C$3","v":0},0,0,0,0,0]
[0,6,0,{"$f":"Start!$C$3","v":0},0,0,0,0,0]
[0,6,0,{"$f":"Start!$C$3","v":0},0,0,0,0,0]
[0,6,0,{"$f":"Start!$C$3","v":0},0,0,0,0,0]
[0,6,0,{"$f":"Start!$C$3","v":0},0,0,0,0,0]
[0,6,0,{"$f":"Start!$C$3","v":0},0,0,0,0,0]

{"sheet":"Vielkant (-)","index":12,"n_rows":14,"n_cols":9,"rows_kept":14,"cut":false,"hidden":false,"merged":[[0,0,0,1]]}
["Gesamtmasse =",null,{"$f":"IF(Start!AB2=\"nein\",\"Demo ENDE\",SUM(I6:I37))","v":0}]
["Massetabelle Vielkant (-)",null,null,"EM= Eckenmaß in mm, nur gültig bei geraden Ecken"]
["SW=Schlüsselweite in mm",null,null,"Ez=Eckenanzahl",null,"L=Länge","S=Seitenfläche in mm"]
["A= Flächeninhalt in mm hoch 2",null,null,"V= Volumen in dm hoch 3",null,null,"m=Masse in kg"]
["SW","Ez","L","Dichte","EM","S","A","V","m in kg"]
[0,6,0,{"$f":"Start!$C$3","v":0},{"$f":"(SQRT(((0.5*A6)*(0.5*A6))+((0.5*F6)*(0.5*F6))))*2","v":0},{"$f":"TAN(((360/B6/2)*PI()/180))*A6","v":0},{"$f":"0.5*F6*0.5*A6*B6","v":0},{"$f":"(G6*C6)/1000000","v":0},{"$f":"(H6*D6)-(2*(H6*D6))","v":0}]
[0,6,0,{"$f":"Start!$C$3","v":0},0,0,0,0,0]
[0,6,0,{"$f":"Start!$C$3","v":0},0,0,0,0,0]
[0,6,0,{"$f":"Start!$C$3","v":0},0,0,0,0,0]
[0,6,0,{"$f":"Start!$C$3","v":0},0,0,0,0,0]
[0,6,0,{"$f":"Start!$C$3","v":0},0,0,0,0,0]
[0,6,0,{"$f":"Start!$C$3","v":0},0,0,0,0,0]
[0,6,0,{"$f":"Start!$C$3","v":0},0,0,0,0,0]
[0,6,0,{"$f":"Start!$C$3","v":0},0,0,0,0,0]

{"sheet":"Kugel","index":13,"n_rows":36,"n_cols":4,"rows_kept":36,"cut":false,"hidden":false,"merged":[[0,0,0,1]]}
["Gesamtmasse =",null,{"$f":"IF(Start!AB2=\"nein\",\"Demo ENDE\",SUM(D5:D36))","v":0}]
["Massetabelle Kugel (+): Durchmesser (d) in mm +Teilungsfaktor (TF) eingeben!"]
["Heutiges Datum:",null,{"$f":"TODAY()","v":"2021-04-02"}]
["d","TF","Dichte","Kugel (kg)"]
[0,1,{"$f":"Start!$C$3","v":0},{"$f":"((A5*A5*A5*0.523598775*C5)/1000000)/B5","v":0}]
[0,1,{"$f":"Start!$C$3","v":0},{"$f":"((A6*A6*A6*0.523598775*C6)/1000000)/B6","v":0}]
[0,1,{"$f":"Start!$C$3","v":0},0]
[0,1,{"$f":"Start!$C$3","v":0},0]
[0,1,{"$f":"Start!$C$3","v":0},0]
[0,1,{"$f":"Start!$C$3","v":0},0]
[0,1,{"$f":"Start!$C$3","v":0},0]
[0,1,{"$f":"Start!$C$3","v":0},0]
[0,1,{"$f":"Start!$C$3","v":0},0]
[0,1,{"$f":"Start!$C$3","v":0},0]
[0,1,{"$f":"Start!$C$3","v":0},0]
[0,1,{"$f":"Start!$C$3","v":0},0]
[0,1,{"$f":"Start!$C$3","v":0},0]
[0,1,{"$f":"Start!$C$3","v":0},0]
[0,1,{"$f":"Start!$C$3","v":0},0]
[0,1,{"$f":"Start!$C$3","v":0},0]
[0,1,{"$f":"Start!$C$3","v":0},0]
[0,1,{"$f":"Start!$C$3","v":0},0]
[0,1,{"$f":"Start!$C$3","v":0},0]
[0,1,{"$f":"Start!$C$3","v":0},0]
[0,1,{"$f":"Start!$C$3","v":0},0]
[0,1,{"$f":"Start!$C$3","v":0},0]
[0,1,{"$f":"Start!$C$3","v":0},0]
[0,1,{"$f":"Start!$C$3","v":0},0]
[0,1,{"$f":"Start!$C$3","v":0},0]
[0,1,{"$f":"Start!$C$3","v":0},0]
[0,1,{"$f":"Start!$C$3","v":0},0]
[0,1,{"$f":"Start!$C$3","v":0},0]
[0,1,{"$f":"Start!$C$3","v":0},0]
[0,1,{"$f":"Start!$C$3","v":0},0]
[0,1,{"$f":"Start!$C$3","v":0},0]
[0,1,{"$f":"Start!$C$3","v":0},0]

{"sheet":"Kugel (-)","index":14,"n_rows":36,"n_cols":4,"rows_kept":36,"cut":false,"hidden":false,"merged":[[0,0,0,1]]}
["Gesamtmasse =",null,{"$f":"IF(Start!AB2=\"nein\",\"Demo ENDE\",SUM(D5:D36))","v":0}]
["Massetabelle Kugel (-): Durchmesser (d) in mm +Teilungsfaktor (TF) eingeben!"]
["Heutiges Datum:",null,{"$f":"TODAY()","v":"2021-04-02"},"Dm"]
["d","TF","Dichte","Kugel (kg)"]
[0,1,{"$f":"Start!$C$3","v":0},{"$f":"(((A5*A5*A5*0.523598775*C5)/1000000)-(2*((A5*A5*A5*0.523598775*C5)/1000000)))/B5","v":0}]
[0,1,{"$f":"Start!$C$3","v":0},{"$f":"(((A6*A6*A6*0.523598775*C6)/1000000)-(2*((A6*A6*A6*0.523598775*C6)/1000000)))/B6","v":0}]
[0,1,{"$f":"Start!$C$3","v":0},0]
[0,1,{"$f":"Start!$C$3","v":0},0]
[0,1,{"$f":"Start!$C$3","v":0},0]
[0,1,{"$f":"Start!$C$3","v":0},0]
[0,1,{"$f":"Start!$C$3","v":0},0]
[0,1,{"$f":"Start!$C$3","v":0},0]
[0,1,{"$f":"Start!$C$3","v":0},0]
[0,1,{"$f":"Start!$C$3","v":0},0]
[0,1,{"$f":"Start!$C$3","v":0},0]
[0,1,{"$f":"Start!$C$3","v":0},0]
[0,1,{"$f":"Start!$C$3","v":0},0]
[0,1,{"$f":"Start!$C$3","v":0},0]
[0,1,{"$f":"Start!$C$3","v":0},0]
[0,1,{"$f":"Start!$C$3","v":0},0]
[0,1,{"$f":"Start!$C$3","v":0},0]
[0,1,{"$f":"Start!$C$3","v":0},0]
[0,1,{"$f":"Start!$C$3","v":0},0]
[0,1,{"$f":"Start!$C$3","v":0},0]
[0,1,{"$f":"Start!$C$3","v":0},0]
[0,1,{"$f":"Start!$C$3","v":0},0]
[0,1,{"$f":"Start!$C$3","v":0},0]
[0,1,{"$f":"Start!$C$3","v":0},0]
[0,1,{"$f":"Start!$C$3","v":0},0]
[0,1,{"$f":"Start!$C$3","v":0},0]
[0,1,{"$f":"Start!$C$3","v":0},0]
[0,1,{"$f":"Start!$C$3","v":0},0]
[0,1,{"$f":"Start!$C$3","v":0},0]
[0,1,{"$f":"Start!$C$3","v":0},0]
[0,1,{"$f":"Start!$C$3","v":0},0]
[0,1,{"$f":"Start!$C$3","v":0},0]

{"sheet":"Rohr","index":15,"n_rows":36,"n_cols":5,"rows_kept":36,"cut":false,"hidden":false,"merged":[[0,0,0,1]]}
["Gesamtmasse =",null,{"$f":"IF(Start!AB2=\"nein\",\"Demo ENDE\",SUM(E5:E36))","v":0}]
["Massetabelle Rohr (+): Durchmesser (Dm), Länge (L), Rohrwandung (RW)"]
["Heutiges Datum:",{"$f":"TODAY()","v":"2021-04-02"}]
["Dm","L","RW","Dichte","Rohr (kg)"]
[90.8,null,9.8000000000000007,{"$f":"Start!$C$3","v":0},{"$f":"((A5*A5*0.7853898163*B5*D5)/1000000)-(((A5-C5-C5)*(A5-C5-C5)*0.7853898163*B5*D5)/1000000)","v":0}]
[104.8,null,14.3,{"$f":"Start!$C$3","v":0},0]
[120.3,null,22.7,{"$f":"Start!$C$3","v":0},0]
[133.1,null,19.3,{"$f":"Start!$C$3","v":0},0]
[142.69999999999999,null,76.5,{"$f":"Start!$C$3","v":0},0]
[163.63,null,36.57,{"$f":"Start!$C$3","v":0},0]
[0,null,0,{"$f":"Start!$C$3","v":0},0]
[0,null,0,{"$f":"Start!$C$3","v":0},0]
[0,null,0,{"$f":"Start!$C$3","v":0},0]
[0,null,0,{"$f":"Start!$C$3","v":0},0]
[0,null,0,{"$f":"Start!$C$3","v":0},0]
[0,null,0,{"$f":"Start!$C$3","v":0},0]
[0,null,0,{"$f":"Start!$C$3","v":0},0]
[0,null,0,{"$f":"Start!$C$3","v":0},0]
[0,null,0,{"$f":"Start!$C$3","v":0},0]
[0,null,0,{"$f":"Start!$C$3","v":0},0]
[0,null,0,{"$f":"Start!$C$3","v":0},0]
[0,null,0,{"$f":"Start!$C$3","v":0},0]
[0,null,0,{"$f":"Start!$C$3","v":0},0]
[0,null,0,{"$f":"Start!$C$3","v":0},0]
[0,null,0,{"$f":"Start!$C$3","v":0},0]
[0,null,0,{"$f":"Start!$C$3","v":0},0]
[0,null,0,{"$f":"Start!$C$3","v":0},0]
[0,null,0,{"$f":"Start!$C$3","v":0},0]
[0,null,0,{"$f":"Start!$C$3","v":0},0]
[0,null,0,{"$f":"Start!$C$3","v":0},0]
[0,null,0,{"$f":"Start!$C$3","v":0},0]
[0,null,0,{"$f":"Start!$C$3","v":0},0]
[0,null,0,{"$f":"Start!$C$3","v":0},0]
[0,null,0,{"$f":"Start!$C$3","v":0},0]
[0,null,0,{"$f":"Start!$C$3","v":0},0]
[0,null,0,{"$f":"Start!$C$3","v":0},0]

{"sheet":"Rohr (-)","index":16,"n_rows":36,"n_cols":5,"rows_kept":36,"cut":false,"hidden":false,"merged":[[0,0,0,1]]}
["Gesamtmasse =",null,{"$f":"IF(Start!AB2=\"nein\",\"Demo ENDE\",SUM(E5:E36))","v":0}]
["Massetabelle Rohr (-): Durchmesser (Dm), Länge (L), Rohrwandung (RW)"]
["Heutiges Datum:",{"$f":"TODAY()","v":"2021-04-02"}]
["Dm","L","RW","Dichte","Rohr (kg)"]
[90.8,null,9.8000000000000007,{"$f":"Start!$C$3","v":0},{"$f":"(((A5*A5*0.7853898163*B5*D5)/1000000)-(((A5-C5-C5)*(A5-C5-C5)*0.7853898163*B5*D5)/1000000))-(2*(((A5*A5*0.7853898163*B5*D5)/1000000)-(((A5-C5-C5)*(A5-C5-C5)*0.7853898163*B5*D5)/1000000)))","v":0}]
[104.8,null,14.3,{"$f":"Start!$C$3","v":0},{"$f":"(((A6*A6*0.7853898163*B6*D6)/1000000)-(((A6-C6-C6)*(A6-C6-C6)*0.7853898163*B6*D6)/1000000))-(2*(((A6*A6*0.7853898163*B6*D6)/1000000)-(((A6-C6-C6)*(A6-C6-C6)*0.7853898163*B6*D6)/1000000)))","v":0}]
[120.3,null,22.7,{"$f":"Start!$C$3","v":0},0]
[133.1,null,19.3,{"$f":"Start!$C$3","v":0},0]
[142.69999999999999,null,76.5,{"$f":"Start!$C$3","v":0},0]
[163.63,null,36.57,{"$f":"Start!$C$3","v":0},0]
[null,null,null,{"$f":"Start!$C$3","v":0},0]
[null,null,null,{"$f":"Start!$C$3","v":0},0]
[null,null,null,{"$f":"Start!$C$3","v":0},0]
[null,null,null,{"$f":"Start!$C$3","v":0},0]
[null,null,null,{"$f":"Start!$C$3","v":0},0]
[null,null,null,{"$f":"Start!$C$3","v":0},0]
[null,null,null,{"$f":"Start!$C$3","v":0},0]
[null,null,null,{"$f":"Start!$C$3","v":0},0]
[null,null,null,{"$f":"Start!$C$3","v":0},0]
[null,null,null,{"$f":"Start!$C$3","v":0},0]
[null,null,null,{"$f":"Start!$C$3","v":0},0]
[null,null,null,{"$f":"Start!$C$3","v":0},0]
[null,null,null,{"$f":"Start!$C$3","v":0},0]
[null,null,null,{"$f":"Start!$C$3","v":0},0]
[null,null,null,{"$f":"Start!$C$3","v":0},0]
[null,null,null,{"$f":"Start!$C$3","v":0},0]
[null,null,null,{"$f":"Start!$C$3","v":0},0]
[null,null,null,{"$f":"Start!$C$3","v":0},0]
[null,null,null,{"$f":"Start!$C$3","v":0},0]
[null,null,null,{"$f":"Start!$C$3","v":0},0]
[null,null,null,{"$f":"Start!$C$3","v":0},0]
[null,null,null,{"$f":"Start!$C$3","v":0},0]
[null,null,null,{"$f":"Start!$C$3","v":0},0]
[null,null,null,{"$f":"Start!$C$3","v":0},0]
[null,null,null,{"$f":"Start!$C$3","v":0},0]
[null,null,null,{"$f":"Start!$C$3","v":0},0]

{"sheet":"Kugelabschnitt +","index":17,"n_rows":36,"n_cols":17,"rows_kept":36,"cut":false,"hidden":false,"merged":[[0,0,0,1]]}
["Gesamtmasse=",null,{"$f":"IF(Start!AB2=\"nein\",\"Demo ENDE\",SUM(D5:D36))","v":0}]
["Massetabelle Kugelabschnitt (+): Durchmesser (d1), Höhe (h),  in mm eingeben!"]
["Heutiges Datum:",{"$f":"TODAY()","v":"2021-04-02"}]
["d1","h","Dichte","Masse in kg"]
[0,0,{"$f":"Start!$C$3","v":0},{"$f":"(((PI()*B5)/6)*(3*((A5/2)*(A5/2))+(B5*B5))*C5)/1000000","v":0}]
[0,0,{"$f":"Start!$C$3","v":0},{"$f":"(((PI()*B6)/6)*(3*((A6/2)*(A6/2))+(B6*B6))*C6)/1000000","v":0}]
[0,0,{"$f":"Start!$C$3","v":0},0,null,null,"Kreisabschnitt"]
[0,0,{"$f":"Start!$C$3","v":0},0,null,null,"Eingabe (r + Winkel)",null,null,"Eingabe (b+Winkel)",null,null,"Eingabe (h + s)",null,null,"Eingabe (r + b)"]
[0,0,{"$f":"Start!$C$3","v":0},0,null,null,"r","a",null,"b","a",null,"h","s  ",null,"r","b"]
[0,0,{"$f":"Start!$C$3","v":0},0,null,null,60,60,null,62.831850000000003,60,null,8.0384759999999993,60,null,60,62.831850000000003]
[0,0,{"$f":"Start!$C$3","v":0},0,null,null,"b =","s =",null,"h =","s =",null,"r =","b =",null,"h =","s ="]
[0,0,{"$f":"Start!$C$3","v":0},0,null,null,{"$f":"PI()*G10*H10/180","v":62.831853071795862},{"$f":"2*G10*SIN((H10*PI()/180)/2)","v":59.999999999999993},null,{"$f":"J14*(1-(COS((K10/2)*PI()/180)))","v":8.0384760799808603},{"$f":"2*J14*SIN((K10*PI()/180)/2)","v":60.000002291831372},null,{"$f":"(M10/2)+((N10*N10)/(8*M10))","v":59.999998532220296},{"$f":"PI()*M12*M14/180","v":62.831853229586571},null,{"$f":"P10*(1-(COS((P14/2)*PI()/180)))","v":8.0384750049847327},{"$f":"2*P10*SIN((P14*PI()/180)/2)","v":59.999997339746734}]
[0,0,{"$f":"Start!$C$3","v":0},0,null,null,"h =","F =",null,"r =","F =",null,"a=","F =",null,"a=","F ="]
[0,0,{"$f":"Start!$C$3","v":0},0,null,null,{"$f":"G10*(1-(COS((H10/2)*PI()/180)))","v":8.038475772933678},{"$f":"(G12*G10)/2","v":1884.9555921538758},null,{"$f":"J10/(0.017453291*K10)","v":60.000002291831379},{"$f":"(J10*J14)/2","v":1884.9555720000028},null,{"$f":"(ASIN(N10/(2*M12))*180/PI())*2","v":60.000001618458782},{"$f":"N12*M12/2","v":1884.9555507759376},null,{"$f":"(Q10*180)/(PI()*P10)","v":59.999997066651034},{"$f":"(Q10*P10)/2","v":1884.9555}]
[0,0,{"$f":"Start!$C$3","v":0},0,null,null,"Eingabe (r + s)",null,null,null,null,null,null,null,null,"Eingabe (Winkel+s)"]
[0,0,{"$f":"Start!$C$3","v":0},0,null,null,"r","s  ",null,null,null,null,null,null,null,"a","s  "]
[0,0,{"$f":"Start!$C$3","v":0},0,null,null,60,60,null,null,null,null,null,null,null,60,60]
[0,0,{"$f":"Start!$C$3","v":0},0,null,null,"b =","a=",null,null,null,null,null,null,null,"r =","b ="]
[0,0,{"$f":"Start!$C$3","v":0},0,null,null,{"$f":"PI()*G17*H19/180","v":62.831853071795862},{"$f":"(ASIN(H17/(2*G17))*180/PI())*2","v":60.000000000000007},null,null,null,null,null,null,null,{"$f":"Q17/(2*(SIN((P17/2)*PI()/180)))","v":60.000000000000007},{"$f":"PI()*P19*P17/180","v":62.831853071795869}]
[0,0,{"$f":"Start!$C$3","v":0},0,null,null,"h =","F =",null,null,null,null,null,null,null,"h =","F ="]
[0,0,{"$f":"Start!$C$3","v":0},0,null,null,{"$f":"G17*(1-(COS((H19/2)*PI()/180)))","v":8.0384757729336833},{"$f":"(G19*G17)/2","v":1884.9555921538758},null,null,null,null,null,null,null,{"$f":"P19*(1-(COS((P17/2)*PI()/180)))","v":8.038475772933678},{"$f":"Q19*P19/2","v":1884.9555921538763}]
[0,0,{"$f":"Start!$C$3","v":0},0,null,null,"Eingabe (r+h)"]
[0,0,{"$f":"Start!$C$3","v":0},0,null,null,"r","h"]
[0,0,{"$f":"Start!$C$3","v":0},0,null,null,50,10]
[0,0,{"$f":"Start!$C$3","v":0},0,null,null,"a=","s ="]
[0,0,{"$f":"Start!$C$3","v":0},0,null,null,{"$f":"(ASIN(H26/(2*G24))*180/PI())*2","v":73.73979529168804},{"$f":"SQRT((G24-(H24/2))*8*H24)","v":60}]
[0,0,{"$f":"Start!$C$3","v":0},0,null,null,"b =","F ="]
[0,0,{"$f":"Start!$C$3","v":0},0,null,null,{"$f":"PI()*G24*G26/180","v":64.35011087932844},{"$f":"(G24*G28)/2","v":1608.752771983211}]
[0,0,{"$f":"Start!$C$3","v":0},0,null,null,"F1 =","F2 ="]
[0,0,{"$f":"Start!$C$3","v":0},0,null,null,{"$f":"(G24-H24)*(H26/2)","v":1200},{"$f":"H28-G30","v":408.75277198321101}]
[0,0,{"$f":"Start!$C$3","v":0},0]
[0,0,{"$f":"Start!$C$3","v":0},0]
[0,0,{"$f":"Start!$C$3","v":0},0]
[0,0,{"$f":"Start!$C$3","v":0},0]
[0,0,{"$f":"Start!$C$3","v":0},0]
[0,0,{"$f":"Start!$C$3","v":0},0]

{"sheet":"Kugelabschnitt -","index":18,"n_rows":36,"n_cols":17,"rows_kept":36,"cut":false,"hidden":false,"merged":[[0,0,0,1]]}
["Gesamtmasse=",null,{"$f":"IF(Start!AB2=\"nein\",\"Demo ENDE\",SUM(D5:D36))","v":0}]
["Massetabelle Kugelabschnitt (-): Durchmesser (d1), Höhe (h),  in mm eingeben!"]
["Heutiges Datum:",{"$f":"TODAY()","v":"2021-04-02"}]
["d1","h","Dichte","Masse in kg"]
[0,0,{"$f":"Start!$C$3","v":0},{"$f":"((((PI()*B5)/6)*(3*((A5/2)*(A5/2))+(B5*B5))*C5)/1000000)-(2*((((PI()*B5)/6)*(3*((A5/2)*(A5/2))+(B5*B5))*C5)/1000000))","v":0}]
[0,0,{"$f":"Start!$C$3","v":0},{"$f":"((((PI()*B6)/6)*(3*((A6/2)*(A6/2))+(B6*B6))*C6)/1000000)-(2*((((PI()*B6)/6)*(3*((A6/2)*(A6/2))+(B6*B6))*C6)/1000000))","v":0}]
[0,0,{"$f":"Start!$C$3","v":0},0,null,null,"Kreisabschnitt"]
[0,0,{"$f":"Start!$C$3","v":0},0,null,null,"Eingabe (r + Winkel)",null,null,"Eingabe (b+Winkel)",null,null,"Eingabe (h + s)",null,null,"Eingabe (r + b)"]
[0,0,{"$f":"Start!$C$3","v":0},0,null,null,"r","a",null,"b","a",null,"h","s  ",null,"r","b"]
[0,0,{"$f":"Start!$C$3","v":0},0,null,null,60,60,null,62.831850000000003,60,null,8.0384759999999993,60,null,60,62.831850000000003]
[0,0,{"$f":"Start!$C$3","v":0},0,null,null,"b =","s =",null,"h =","s =",null,"r =","b =",null,"h =","s ="]
[0,0,{"$f":"Start!$C$3","v":0},0,null,null,{"$f":"PI()*G10*H10/180","v":62.831853071795862},{"$f":"2*G10*SIN((H10*PI()/180)/2)","v":59.999999999999993},null,{"$f":"J14*(1-(COS((K10/2)*PI()/180)))","v":8.0384760799808603},{"$f":"2*J14*SIN((K10*PI()/180)/2)","v":60.000002291831372},null,{"$f":"(M10/2)+((N10*N10)/(8*M10))","v":59.999998532220296},{"$f":"PI()*M12*M14/180","v":62.831853229586571},null,{"$f":"P10*(1-(COS((P14/2)*PI()/180)))","v":8.0384750049847327},{"$f":"2*P10*SIN((P14*PI()/180)/2)","v":59.999997339746734}]
[0,0,{"$f":"Start!$C$3","v":0},0,null,null,"h =","F =",null,"r =","F =",null,"a=","F =",null,"a=","F ="]
[0,0,{"$f":"Start!$C$3","v":0},0,null,null,{"$f":"G10*(1-(COS((H10/2)*PI()/180)))","v":8.038475772933678},{"$f":"(G12*G10)/2","v":1884.9555921538758},null,{"$f":"J10/(0.017453291*K10)","v":60.000002291831379},{"$f":"(J10*J14)/2","v":1884.9555720000028},null,{"$f":"(ASIN(N10/(2*M12))*180/PI())*2","v":60.000001618458782},{"$f":"N12*M12/2","v":1884.9555507759376},null,{"$f":"(Q10*180)/(PI()*P10)","v":59.999997066651034},{"$f":"(Q10*P10)/2","v":1884.9555}]
[0,0,{"$f":"Start!$C$3","v":0},0,null,null,"Eingabe (r + s)",null,null,null,null,null,null,null,null,"Eingabe (Winkel+s)"]
[0,0,{"$f":"Start!$C$3","v":0},0,null,null,"r","s  ",null,null,null,null,null,null,null,"a","s  "]
[0,0,{"$f":"Start!$C$3","v":0},0,null,null,60,60,null,null,null,null,null,null,null,60,60]
[0,0,{"$f":"Start!$C$3","v":0},0,null,null,"b =","a=",null,null,null,null,null,null,null,"r =","b ="]
[0,0,{"$f":"Start!$C$3","v":0},0,null,null,{"$f":"PI()*G17*H19/180","v":62.831853071795862},{"$f":"(ASIN(H17/(2*G17))*180/PI())*2","v":60.000000000000007},null,null,null,null,null,null,null,{"$f":"Q17/(2*(SIN((P17/2)*PI()/180)))","v":60.000000000000007},{"$f":"PI()*P19*P17/180","v":62.831853071795869}]
[0,0,{"$f":"Start!$C$3","v":0},0,null,null,"h =","F =",null,null,null,null,null,null,null,"h =","F ="]
[0,0,{"$f":"Start!$C$3","v":0},0,null,null,{"$f":"G17*(1-(COS((H19/2)*PI()/180)))","v":8.0384757729336833},{"$f":"(G19*G17)/2","v":1884.9555921538758},null,null,null,null,null,null,null,{"$f":"P19*(1-(COS((P17/2)*PI()/180)))","v":8.038475772933678},{"$f":"Q19*P19/2","v":1884.9555921538763}]
[0,0,{"$f":"Start!$C$3","v":0},0,null,null,"Eingabe (r+h)"]
[0,0,{"$f":"Start!$C$3","v":0},0,null,null,"r","h"]
[0,0,{"$f":"Start!$C$3","v":0},0,null,null,50,10]
[0,0,{"$f":"Start!$C$3","v":0},0,null,null,"a=","s ="]
[0,0,{"$f":"Start!$C$3","v":0},0,null,null,{"$f":"(ASIN(H26/(2*G24))*180/PI())*2","v":73.73979529168804},{"$f":"SQRT((G24-(H24/2))*8*H24)","v":60}]
[0,0,{"$f":"Start!$C$3","v":0},0,null,null,"b =","F ="]
[0,0,{"$f":"Start!$C$3","v":0},0,null,null,{"$f":"PI()*G24*G26/180","v":64.35011087932844},{"$f":"(G24*G28)/2","v":1608.752771983211}]
[0,0,{"$f":"Start!$C$3","v":0},0,null,null,"F1 =","F2 ="]
[0,0,{"$f":"Start!$C$3","v":0},0,null,null,{"$f":"(G24-H24)*(H26/2)","v":1200},{"$f":"H28-G30","v":408.75277198321101}]
[0,0,{"$f":"Start!$C$3","v":0},0]
[0,0,{"$f":"Start!$C$3","v":0},0]
[0,0,{"$f":"Start!$C$3","v":0},0]
[0,0,{"$f":"Start!$C$3","v":0},0]
[0,0,{"$f":"Start!$C$3","v":0},0]
[0,0,{"$f":"Start!$C$3","v":0},0]

{"sheet":"Pyramidenstumpf(+)","index":19,"n_rows":36,"n_cols":7,"rows_kept":36,"cut":false,"hidden":false,"merged":[[0,0,0,3]]}
["Gesamtmasse =",null,null,null,{"$f":"IF(Start!AB2=\"nein\",\"Demo ENDE\",SUM(G5:G36))","v":0}]
["Massetabelle Pyramiedenstumpf (+): große Quadratseitenlänge (l1), Höhe (h) und"]
["kleine Quadratseitenlänge bei Pyramidenstumpf (l2) in mm eingeben!"]
["l1(l)","b1(b)","l2","b2","h","Dichte","Masse in kg"]
[0,0,0,0,0,{"$f":"Start!$C$3","v":0},{"$f":"((((A5*B5)+(C5*D5)+SQRT((A5*B5)*(C5*D5)))*(E5/3))*F5/1000000)","v":0}]
[0,0,0,0,0,{"$f":"Start!$C$3","v":0},{"$f":"((((A6*B6)+(C6*D6)+SQRT((A6*B6)*(C6*D6)))*(E6/3))*F6/1000000)","v":0}]
[0,0,0,0,0,{"$f":"Start!$C$3","v":0},0]
[0,0,0,0,0,{"$f":"Start!$C$3","v":0},0]
[0,0,0,0,0,{"$f":"Start!$C$3","v":0},0]
[0,0,0,0,0,{"$f":"Start!$C$3","v":0},0]
[0,0,0,0,0,{"$f":"Start!$C$3","v":0},0]
[0,0,0,0,0,{"$f":"Start!$C$3","v":0},0]
[0,0,0,0,0,{"$f":"Start!$C$3","v":0},0]
[0,0,0,0,0,{"$f":"Start!$C$3","v":0},0]
[0,0,0,0,0,{"$f":"Start!$C$3","v":0},0]
[0,0,0,0,0,{"$f":"Start!$C$3","v":0},0]
[0,0,0,0,0,{"$f":"Start!$C$3","v":0},0]
[0,0,0,0,0,{"$f":"Start!$C$3","v":0},0]
[0,0,0,0,0,{"$f":"Start!$C$3","v":0},0]
[0,0,0,0,0,{"$f":"Start!$C$3","v":0},0]
[0,0,0,0,0,{"$f":"Start!$C$3","v":0},0]
[0,0,0,0,0,{"$f":"Start!$C$3","v":0},0]
[0,0,0,0,0,{"$f":"Start!$C$3","v":0},0]
[0,0,0,0,0,{"$f":"Start!$C$3","v":0},0]
[0,0,0,0,0,{"$f":"Start!$C$3","v":0},0]
[0,0,0,0,0,{"$f":"Start!$C$3","v":0},0]
[0,0,0,0,0,{"$f":"Start!$C$3","v":0},0]
[0,0,0,0,0,{"$f":"Start!$C$3","v":0},0]
[0,0,0,0,0,{"$f":"Start!$C$3","v":0},0]
[0,0,0,0,0,{"$f":"Start!$C$3","v":0},0]
[0,0,0,0,0,{"$f":"Start!$C$3","v":0},0]
[0,0,0,0,0,{"$f":"Start!$C$3","v":0},0]
[0,0,0,0,0,{"$f":"Start!$C$3","v":0},0]
[0,0,0,0,0,{"$f":"Start!$C$3","v":0},0]
[0,0,0,0,0,{"$f":"Start!$C$3","v":0},0]
[0,0,0,0,0,{"$f":"Start!$C$3","v":0},0]

{"sheet":"Pyramidenstumpf(-)","index":20,"n_rows":36,"n_cols":7,"rows_kept":36,"cut":false,"hidden":false,"merged":[[0,0,0,3]]}
["Gesamtmasse =",null,null,null,{"$f":"IF(Start!AB2=\"nein\",\"Demo ENDE\",SUM(G5:G36))","v":0}]
["Massetabelle Pyramiedenstumpf (-): große Quadratseitenlänge (l1), Höhe (h) und"]
["kleine Quadratseitenlänge bei Pyramidenstumpf (l2) in mm eingeben!"]
["l1(l)","b1(b)","l2","b2","h","Dichte","Masse in kg"]
[0,0,0,0,0,{"$f":"Start!$C$3","v":0},{"$f":"((((A5*B5)+(C5*D5)+SQRT((A5*B5)*(C5*D5)))*(E5/3))*F5/1000000)-(2*((((A5*B5)+(C5*D5)+SQRT((A5*B5)*(C5*D5)))*(E5/3))*F5/1000000))","v":0}]
[0,0,0,0,0,{"$f":"Start!$C$3","v":0},{"$f":"((((A6*B6)+(C6*D6)+SQRT((A6*B6)*(C6*D6)))*(E6/3))*F6/1000000)-(2*((((A6*B6)+(C6*D6)+SQRT((A6*B6)*(C6*D6)))*(E6/3))*F6/1000000))","v":0}]
[0,0,0,0,0,{"$f":"Start!$C$3","v":0},0]
[0,0,0,0,0,{"$f":"Start!$C$3","v":0},0]
[0,0,0,0,0,{"$f":"Start!$C$3","v":0},0]
[0,0,0,0,0,{"$f":"Start!$C$3","v":0},0]
[0,0,0,0,0,{"$f":"Start!$C$3","v":0},0]
[0,0,0,0,0,{"$f":"Start!$C$3","v":0},0]
[0,0,0,0,0,{"$f":"Start!$C$3","v":0},0]
[0,0,0,0,0,{"$f":"Start!$C$3","v":0},0]
[0,0,0,0,0,{"$f":"Start!$C$3","v":0},0]
[0,0,0,0,0,{"$f":"Start!$C$3","v":0},0]
[0,0,0,0,0,{"$f":"Start!$C$3","v":0},0]
[0,0,0,0,0,{"$f":"Start!$C$3","v":0},0]
[0,0,0,0,0,{"$f":"Start!$C$3","v":0},0]
[0,0,0,0,0,{"$f":"Start!$C$3","v":0},0]
[0,0,0,0,0,{"$f":"Start!$C$3","v":0},0]
[0,0,0,0,0,{"$f":"Start!$C$3","v":0},0]
[0,0,0,0,0,{"$f":"Start!$C$3","v":0},0]
[0,0,0,0,0,{"$f":"Start!$C$3","v":0},0]
[0,0,0,0,0,{"$f":"Start!$C$3","v":0},0]
[0,0,0,0,0,{"$f":"Start!$C$3","v":0},0]
[0,0,0,0,0,{"$f":"Start!$C$3","v":0},0]
[0,0,0,0,0,{"$f":"Start!$C$3","v":0},0]
[0,0,0,0,0,{"$f":"Start!$C$3","v":0},0]
[0,0,0,0,0,{"$f":"Start!$C$3","v":0},0]
[0,0,0,0,0,{"$f":"Start!$C$3","v":0},0]
[0,0,0,0,0,{"$f":"Start!$C$3","v":0},0]
[0,0,0,0,0,{"$f":"Start!$C$3","v":0},0]
[0,0,0,0,0,{"$f":"Start!$C$3","v":0},0]
[0,0,0,0,0,{"$f":"Start!$C$3","v":0},0]
[0,0,0,0,0,{"$f":"Start!$C$3","v":0},0]

{"sheet":"Kugelsektor(+) ","index":21,"n_rows":36,"n_cols":17,"rows_kept":36,"cut":false,"hidden":false,"merged":[]}
["Gesamtmasse=",{"$f":"IF(Start!AB2=\"nein\",\"Demo ENDE\",SUM(D5:D36))","v":0}]
["Massetabelle Kugelsektor (+): Durchmesser (d), Höhe (h),"]
["bei Kugelsektor  in mm eingeben!"]
["d","h","Dichte","Masse in kg"]
[0,0,{"$f":"Start!$C$3","v":0},{"$f":"(PI()/6)*(A5*A5)*B5*C5/1000000","v":0}]
[0,0,{"$f":"Start!$C$3","v":0},{"$f":"(PI()/6)*(A6*A6)*B6*C6/1000000","v":0}]
[0,0,{"$f":"Start!$C$3","v":0},0,null,null,"Kreisabschnitt"]
[0,0,{"$f":"Start!$C$3","v":0},0,null,null,"Eingabe (r + Winkel)",null,null,"Eingabe (b+Winkel)",null,null,"Eingabe (h + s)",null,null,"Eingabe (r + b)"]
[0,0,{"$f":"Start!$C$3","v":0},0,null,null,"r","a",null,"b","a",null,"h","s  ",null,"r","b"]
[0,0,{"$f":"Start!$C$3","v":0},0,null,null,60,60,null,62.831850000000003,60,null,8.0384759999999993,60,null,60,62.831850000000003]
[0,0,{"$f":"Start!$C$3","v":0},0,null,null,"b =","s =",null,"h =","s =",null,"r =","b =",null,"h =","s ="]
[0,0,{"$f":"Start!$C$3","v":0},0,null,null,{"$f":"PI()*G10*H10/180","v":62.831853071795862},{"$f":"2*G10*SIN((H10*PI()/180)/2)","v":59.999999999999993},null,{"$f":"J14*(1-(COS((K10/2)*PI()/180)))","v":8.0384760799808603},{"$f":"2*J14*SIN((K10*PI()/180)/2)","v":60.000002291831372},null,{"$f":"(M10/2)+((N10*N10)/(8*M10))","v":59.999998532220296},{"$f":"PI()*M12*M14/180","v":62.831853229586571},null,{"$f":"P10*(1-(COS((P14/2)*PI()/180)))","v":8.0384750049847327},{"$f":"2*P10*SIN((P14*PI()/180)/2)","v":59.999997339746734}]
[0,0,{"$f":"Start!$C$3","v":0},0,null,null,"h =","F =",null,"r =","F =",null,"a=","F =",null,"a=","F ="]
[0,0,{"$f":"Start!$C$3","v":0},0,null,null,{"$f":"G10*(1-(COS((H10/2)*PI()/180)))","v":8.038475772933678},{"$f":"(G12*G10)/2","v":1884.9555921538758},null,{"$f":"J10/(0.017453291*K10)","v":60.000002291831379},{"$f":"(J10*J14)/2","v":1884.9555720000028},null,{"$f":"(ASIN(N10/(2*M12))*180/PI())*2","v":60.000001618458782},{"$f":"N12*M12/2","v":1884.9555507759376},null,{"$f":"(Q10*180)/(PI()*P10)","v":59.999997066651034},{"$f":"(Q10*P10)/2","v":1884.9555}]
[0,0,{"$f":"Start!$C$3","v":0},0,null,null,"Eingabe (r + s)",null,null,null,null,null,null,null,null,"Eingabe (Winkel+s)"]
[0,0,{"$f":"Start!$C$3","v":0},0,null,null,"r","s  ",null,null,null,null,null,null,null,"a","s  "]
[0,0,{"$f":"Start!$C$3","v":0},0,null,null,60,60,null,null,null,null,null,null,null,60,60]
[0,0,{"$f":"Start!$C$3","v":0},0,null,null,"b =","a=",null,null,null,null,null,null,null,"r =","b ="]
[0,0,{"$f":"Start!$C$3","v":0},0,null,null,{"$f":"PI()*G17*H19/180","v":62.831853071795862},{"$f":"(ASIN(H17/(2*G17))*180/PI())*2","v":60.000000000000007},null,null,null,null,null,null,null,{"$f":"Q17/(2*(SIN((P17/2)*PI()/180)))","v":60.000000000000007},{"$f":"PI()*P19*P17/180","v":62.831853071795869}]
[0,0,{"$f":"Start!$C$3","v":0},0,null,null,"h =","F =",null,null,null,null,null,null,null,"h =","F ="]
[0,0,{"$f":"Start!$C$3","v":0},0,null,null,{"$f":"G17*(1-(COS((H19/2)*PI()/180)))","v":8.0384757729336833},{"$f":"(G19*G17)/2","v":1884.9555921538758},null,null,null,null,null,null,null,{"$f":"P19*(1-(COS((P17/2)*PI()/180)))","v":8.038475772933678},{"$f":"Q19*P19/2","v":1884.9555921538763}]
[0,0,{"$f":"Start!$C$3","v":0},0,null,null,"Eingabe (r+h)"]
[0,0,{"$f":"Start!$C$3","v":0},0,null,null,"r","h"]
[0,0,{"$f":"Start!$C$3","v":0},0,null,null,50,10]
[0,0,{"$f":"Start!$C$3","v":0},0,null,null,"a=","s ="]
[0,0,{"$f":"Start!$C$3","v":0},0,null,null,{"$f":"(ASIN(H26/(2*G24))*180/PI())*2","v":73.73979529168804},{"$f":"SQRT((G24-(H24/2))*8*H24)","v":60}]
[0,0,{"$f":"Start!$C$3","v":0},0,null,null,"b =","F ="]
[0,0,{"$f":"Start!$C$3","v":0},0,null,null,{"$f":"PI()*G24*G26/180","v":64.35011087932844},{"$f":"(G24*G28)/2","v":1608.752771983211}]
[0,0,{"$f":"Start!$C$3","v":0},0,null,null,"F1 =","F2 ="]
[0,0,{"$f":"Start!$C$3","v":0},0,null,null,{"$f":"(G24-H24)*(H26/2)","v":1200},{"$f":"H28-G30","v":408.75277198321101}]
[0,0,{"$f":"Start!$C$3","v":0},0]
[0,0,{"$f":"Start!$C$3","v":0},0]
[0,0,{"$f":"Start!$C$3","v":0},0]
[0,0,{"$f":"Start!$C$3","v":0},0]
[0,0,{"$f":"Start!$C$3","v":0},0]
[0,0,{"$f":"Start!$C$3","v":0},0]

{"sheet":"Kugelsektor(-)","index":22,"n_rows":36,"n_cols":17,"rows_kept":36,"cut":false,"hidden":false,"merged":[]}
["Gesamtmasse=",{"$f":"IF(Start!AB2=\"nein\",\"Demo ENDE\",SUM(D5:D36))","v":0}]
["Massetabelle Kugelsektor (-): Durchmesser (d), Höhe (h),"]
["bei Kugelsektor  in mm eingeben!"]
["d","h","Dichte","Masse in kg"]
[0,0,{"$f":"Start!$C$3","v":0},{"$f":"((PI()/6)*(A5*A5)*B5*C5/1000000)-(2*((PI()/6)*(A5*A5)*B5*C5/1000000))","v":0}]
[0,0,{"$f":"Start!$C$3","v":0},{"$f":"((PI()/6)*(A6*A6)*B6*C6/1000000)-(2*((PI()/6)*(A6*A6)*B6*C6/1000000))","v":0}]
[0,0,{"$f":"Start!$C$3","v":0},0,null,null,"Kreisabschnitt"]
[0,0,{"$f":"Start!$C$3","v":0},0,null,null,"Eingabe (r + Winkel)",null,null,"Eingabe (b+Winkel)",null,null,"Eingabe (h + s)",null,null,"Eingabe (r + b)"]
[0,0,{"$f":"Start!$C$3","v":0},0,null,null,"r","a",null,"b","a",null,"h","s  ",null,"r","b"]
[0,0,{"$f":"Start!$C$3","v":0},0,null,null,60,60,null,62.831850000000003,60,null,8.0384759999999993,60,null,60,62.831850000000003]
[0,0,{"$f":"Start!$C$3","v":0},0,null,null,"b =","s =",null,"h =","s =",null,"r =","b =",null,"h =","s ="]
[0,0,{"$f":"Start!$C$3","v":0},0,null,null,{"$f":"PI()*G10*H10/180","v":62.831853071795862},{"$f":"2*G10*SIN((H10*PI()/180)/2)","v":59.999999999999993},null,{"$f":"J14*(1-(COS((K10/2)*PI()/180)))","v":8.0384760799808603},{"$f":"2*J14*SIN((K10*PI()/180)/2)","v":60.000002291831372},null,{"$f":"(M10/2)+((N10*N10)/(8*M10))","v":59.999998532220296},{"$f":"PI()*M12*M14/180","v":62.831853229586571},null,{"$f":"P10*(1-(COS((P14/2)*PI()/180)))","v":8.0384750049847327},{"$f":"2*P10*SIN((P14*PI()/180)/2)","v":59.999997339746734}]
[0,0,{"$f":"Start!$C$3","v":0},0,null,null,"h =","F =",null,"r =","F =",null,"a=","F =",null,"a=","F ="]
[0,0,{"$f":"Start!$C$3","v":0},0,null,null,{"$f":"G10*(1-(COS((H10/2)*PI()/180)))","v":8.038475772933678},{"$f":"(G12*G10)/2","v":1884.9555921538758},null,{"$f":"J10/(0.017453291*K10)","v":60.000002291831379},{"$f":"(J10*J14)/2","v":1884.9555720000028},null,{"$f":"(ASIN(N10/(2*M12))*180/PI())*2","v":60.000001618458782},{"$f":"N12*M12/2","v":1884.9555507759376},null,{"$f":"(Q10*180)/(PI()*P10)","v":59.999997066651034},{"$f":"(Q10*P10)/2","v":1884.9555}]
[0,0,{"$f":"Start!$C$3","v":0},0,null,null,"Eingabe (r + s)",null,null,null,null,null,null,null,null,"Eingabe (Winkel+s)"]
[0,0,{"$f":"Start!$C$3","v":0},0,null,null,"r","s  ",null,null,null,null,null,null,null,"a","s  "]
[0,0,{"$f":"Start!$C$3","v":0},0,null,null,60,60,null,null,null,null,null,null,null,60,60]
[0,0,{"$f":"Start!$C$3","v":0},0,null,null,"b =","a=",null,null,null,null,null,null,null,"r =","b ="]
[0,0,{"$f":"Start!$C$3","v":0},0,null,null,{"$f":"PI()*G17*H19/180","v":62.831853071795862},{"$f":"(ASIN(H17/(2*G17))*180/PI())*2","v":60.000000000000007},null,null,null,null,null,null,null,{"$f":"Q17/(2*(SIN((P17/2)*PI()/180)))","v":60.000000000000007},{"$f":"PI()*P19*P17/180","v":62.831853071795869}]
[0,0,{"$f":"Start!$C$3","v":0},0,null,null,"h =","F =",null,null,null,null,null,null,null,"h =","F ="]
[0,0,{"$f":"Start!$C$3","v":0},0,null,null,{"$f":"G17*(1-(COS((H19/2)*PI()/180)))","v":8.0384757729336833},{"$f":"(G19*G17)/2","v":1884.9555921538758},null,null,null,null,null,null,null,{"$f":"P19*(1-(COS((P17/2)*PI()/180)))","v":8.038475772933678},{"$f":"Q19*P19/2","v":1884.9555921538763}]
[0,0,{"$f":"Start!$C$3","v":0},0,null,null,"Eingabe (r+h)"]
[0,0,{"$f":"Start!$C$3","v":0},0,null,null,"r","h"]
[0,0,{"$f":"Start!$C$3","v":0},0,null,null,50,10]
[0,0,{"$f":"Start!$C$3","v":0},0,null,null,"a=","s ="]
[0,0,{"$f":"Start!$C$3","v":0},0,null,null,{"$f":"(ASIN(H26/(2*G24))*180/PI())*2","v":73.73979529168804},{"$f":"SQRT((G24-(H24/2))*8*H24)","v":60}]
[0,0,{"$f":"Start!$C$3","v":0},0,null,null,"b =","F ="]
[0,0,{"$f":"Start!$C$3","v":0},0,null,null,{"$f":"PI()*G24*G26/180","v":64.35011087932844},{"$f":"(G24*G28)/2","v":1608.752771983211}]
[0,0,{"$f":"Start!$C$3","v":0},0,null,null,"F1 =","F2 ="]
[0,0,{"$f":"Start!$C$3","v":0},0,null,null,{"$f":"(G24-H24)*(H26/2)","v":1200},{"$f":"H28-G30","v":408.75277198321101}]
[0,0,{"$f":"Start!$C$3","v":0},0]
[0,0,{"$f":"Start!$C$3","v":0},0]
[0,0,{"$f":"Start!$C$3","v":0},0]
[0,0,{"$f":"Start!$C$3","v":0},0]
[0,0,{"$f":"Start!$C$3","v":0},0]
[0,0,{"$f":"Start!$C$3","v":0},0]

{"sheet":"Zylinderabschnitt(+)","index":23,"n_rows":29,"n_cols":25,"rows_kept":29,"cut":false,"hidden":false,"merged":[[0,2,0,4]]}
[null,"Gesamtmasse =",{"$f":"IF(Start!AB2=\"nein\",\"Demo ENDE\",SUM(L6:L15))","v":0},null,null,null,null,null,"Massetabelle Zylinderabschnitt (+)"]
["r = Radius",null,"a = Winkel",null,"F = Flächeninhalt gesamt",null,null,null,"V = Volumen Zylinderabschnitt in dm³"]
["h = Abschnitthöhe",null,"s = Seitenfläche",null,"F1 = Flächeninhalt Dreieck",null,null,null,"m = Masse in kg"]
["L= Abschnittlänge",null,"b = Bogenmaß",null,"F2 = Flächeninhalt Zylinderabschnitt (für Gewichtberechnung)"]
["r","h","L","Dichte","a","s","b","F","F1","F2","V","m in kg"]
[1,0,0,{"$f":"Start!$C$3","v":0},{"$f":"(ASIN(F6/(2*A6))*180/PI())*2","v":0},{"$f":"SQRT((A6-(B6/2))*8*B6)","v":0},{"$f":"PI()*A6*E6/180","v":0},{"$f":"(A6*G6)/2","v":0},{"$f":"(A6-B6)*(F6/2)","v":0},{"$f":"H6-I6","v":0},{"$f":"J6*C6/1000000","v":0},{"$f":"K6*D6","v":0},null,null,"Kreisabschnitt"]
[1,0,0,{"$f":"Start!$C$3","v":0},{"$f":"(ASIN(F7/(2*A7))*180/PI())*2","v":0},{"$f":"SQRT((A7-(B7/2))*8*B7)","v":0},{"$f":"PI()*A7*E7/180","v":0},{"$f":"(A7*G7)/2","v":0},{"$f":"(A7-B7)*(F7/2)","v":0},{"$f":"H7-I7","v":0},{"$f":"J7*C7/1000000","v":0},{"$f":"K7*D7","v":0},null,null,"Eingabe (r + Winkel)",null,null,"Eingabe (b+Winkel)",null,null,"Eingabe (h + s)",null,null,"Eingabe (r + b)"]
[1,0,0,{"$f":"Start!$C$3","v":0},0,0,0,0,0,0,0,0,null,null,"r","a",null,"b","a",null,"h","s  ",null,"r","b"]
[1,0,0,{"$f":"Start!$C$3","v":0},0,0,0,0,0,0,0,0,null,null,60,60,null,62.831850000000003,60,null,8.0384759999999993,60,null,60,62.831850000000003]
[1,0,0,{"$f":"Start!$C$3","v":0},0,0,0,0,0,0,0,0,null,null,"b =","s =",null,"h =","s =",null,"r =","b =",null,"h =","s ="]
[1,0,0,{"$f":"Start!$C$3","v":0},0,0,0,0,0,0,0,0,null,null,{"$f":"PI()*O9*P9/180","v":62.831853071795862},{"$f":"2*O9*SIN((P9*PI()/180)/2)","v":59.999999999999993},null,{"$f":"R13*(1-(COS((S9/2)*PI()/180)))","v":8.0384760799808603},{"$f":"2*R13*SIN((S9*PI()/180)/2)","v":60.000002291831372},null,{"$f":"(U9/2)+((V9*V9)/(8*U9))","v":59.999998532220296},{"$f":"PI()*U11*U13/180","v":62.831853229586571},null,{"$f":"X9*(1-(COS((X13/2)*PI()/180)))","v":8.0384750049847327},{"$f":"2*X9*SIN((X13*PI()/180)/2)","v":59.999997339746734}]
[1,0,0,{"$f":"Start!$C$3","v":0},0,0,0,0,0,0,0,0,null,null,"h =","F =",null,"r =","F =",null,"a=","F =",null,"a=","F ="]
[1,0,0,{"$f":"Start!$C$3","v":0},0,0,0,0,0,0,0,0,null,null,{"$f":"O9*(1-(COS((P9/2)*PI()/180)))","v":8.038475772933678},{"$f":"(O11*O9)/2","v":1884.9555921538758},null,{"$f":"R9/(0.017453291*S9)","v":60.000002291831379},{"$f":"(R9*R13)/2","v":1884.9555720000028},null,{"$f":"(ASIN(V9/(2*U11))*180/PI())*2","v":60.000001618458782},{"$f":"V11*U11/2","v":1884.9555507759376},null,{"$f":"(Y9*180)/(PI()*X9)","v":59.999997066651034},{"$f":"(Y9*X9)/2","v":1884.9555}]
[1,0,0,{"$f":"Start!$C$3","v":0},0,0,0,0,0,0,0,0,null,null,"Eingabe (r + s)",null,null,null,null,null,null,null,null,"Eingabe (Winkel+s)"]
[1,0,0,{"$f":"Start!$C$3","v":0},0,0,0,0,0,0,0,0,null,null,"r","s  ",null,null,null,null,null,null,null,"a","s  "]
[null,null,null,null,null,null,null,null,null,null,null,null,null,null,60,60,null,null,null,null,null,null,null,60,60]
[null,null,null,null,null,null,null,null,null,null,null,null,null,null,"b =","a=",null,null,null,null,null,null,null,"r =","b ="]
[null,null,null,null,null,null,null,null,null,null,null,null,null,null,{"$f":"PI()*O16*P18/180","v":62.831853071795862},{"$f":"(ASIN(P16/(2*O16))*180/PI())*2","v":60.000000000000007},null,null,null,null,null,null,null,{"$f":"Y16/(2*(SIN((X16/2)*PI()/180)))","v":60.000000000000007},{"$f":"PI()*X18*X16/180","v":62.831853071795869}]
[null,null,null,null,null,null,null,null,null,null,null,null,null,null,"h =","F =",null,null,null,null,null,null,null,"h =","F ="]
[null,null,null,null,null,null,null,null,null,null,null,null,null,null,{"$f":"O16*(1-(COS((P18/2)*PI()/180)))","v":8.0384757729336833},{"$f":"(O18*O16)/2","v":1884.9555921538758},null,null,null,null,null,null,null,{"$f":"X18*(1-(COS((X16/2)*PI()/180)))","v":8.038475772933678},{"$f":"Y18*X18/2","v":1884.9555921538763}]
[null,null,null,null,null,null,null,null,null,null,null,null,null,null,"Eingabe (r+h)"]
[null,null,null,null,null,null,null,null,null,null,null,null,null,null,"r","h"]
[null,null,null,null,null,null,null,null,null,null,null,null,null,null,50,10]
[null,null,null,null,null,null,null,null,null,null,null,null,null,null,"a=","s ="]
[null,null,null,null,null,null,null,null,null,null,null,null,null,null,{"$f":"(ASIN(P25/(2*O23))*180/PI())*2","v":73.73979529168804},{"$f":"SQRT((O23-(P23/2))*8*P23)","v":60}]
[null,null,null,null,null,null,null,null,null,null,null,null,null,null,"b =","F ="]
[null,null,null,null,null,null,null,null,null,null,null,null,null,null,{"$f":"PI()*O23*O25/180","v":64.35011087932844},{"$f":"(O23*O27)/2","v":1608.752771983211}]
[null,null,null,null,null,null,null,null,null,null,null,null,null,null,"F1 =","F2 ="]
[null,null,null,null,null,null,null,null,null,null,null,null,null,null,{"$f":"(O23-P23)*(P25/2)","v":1200},{"$f":"P27-O29","v":408.75277198321101}]

{"sheet":"Zylinderabschnitt(-)","index":24,"n_rows":29,"n_cols":25,"rows_kept":29,"cut":false,"hidden":false,"merged":[[0,2,0,4]]}
[null,"Gesamtmasse =",{"$f":"IF(Start!AB2=\"nein\",\"Demo ENDE\",SUM(L6:L15))","v":0},null,null,null,null,null,"Gewichttabelle Zylinderabschnitt (-)"]
["r = Radius",null,"a = Winkel",null,"F = Flächeninhalt gesamt",null,null,null,"V = Volumen Zylinderabschnitt in dm³"]
["h = Abschnitthöhe",null,"s = Seitenfläche",null,"F1 = Flächeninhalt Dreieck",null,null,null,"m = Masse in kg"]
["L= Abschnittlänge",null,"b = Bogenmaß",null,"F2 = Flächeninhalt Zylinderabschnitt (für Gewichtberechnung)"]
["r","h","L","Dichte","a","s","b","F","F1","F2","V","m in kg"]
[1,0,0,{"$f":"Start!$C$3","v":0},{"$f":"(ASIN(F6/(2*A6))*180/PI())*2","v":0},{"$f":"SQRT((A6-(B6/2))*8*B6)","v":0},{"$f":"PI()*A6*E6/180","v":0},{"$f":"(A6*G6)/2","v":0},{"$f":"(A6-B6)*(F6/2)","v":0},{"$f":"H6-I6","v":0},{"$f":"J6*C6/1000000","v":0},{"$f":"(K6*D6)-(2*(K6*D6))","v":0},null,null,"Kreisabschnitt"]
[1,0,0,{"$f":"Start!$C$3","v":0},{"$f":"(ASIN(F7/(2*A7))*180/PI())*2","v":0},{"$f":"SQRT((A7-(B7/2))*8*B7)","v":0},{"$f":"PI()*A7*E7/180","v":0},{"$f":"(A7*G7)/2","v":0},{"$f":"(A7-B7)*(F7/2)","v":0},{"$f":"H7-I7","v":0},{"$f":"J7*C7/1000000","v":0},{"$f":"(K7*D7)-(2*(K7*D7))","v":0},null,null,"Eingabe (r + Winkel)",null,null,"Eingabe (b+Winkel)",null,null,"Eingabe (h + s)",null,null,"Eingabe (r + b)"]
[1,0,0,{"$f":"Start!$C$3","v":0},0,0,0,0,0,0,0,0,null,null,"r","a",null,"b","a",null,"h","s  ",null,"r","b"]
[1,0,0,{"$f":"Start!$C$3","v":0},0,0,0,0,0,0,0,0,null,null,60,60,null,62.831850000000003,60,null,8.0384759999999993,60,null,60,62.831850000000003]
[1,0,0,{"$f":"Start!$C$3","v":0},0,0,0,0,0,0,0,0,null,null,"b =","s =",null,"h =","s =",null,"r =","b =",null,"h =","s ="]
[1,0,0,{"$f":"Start!$C$3","v":0},0,0,0,0,0,0,0,0,null,null,{"$f":"PI()*O9*P9/180","v":62.831853071795862},{"$f":"2*O9*SIN((P9*PI()/180)/2)","v":59.999999999999993},null,{"$f":"R13*(1-(COS((S9/2)*PI()/180)))","v":8.0384760799808603},{"$f":"2*R13*SIN((S9*PI()/180)/2)","v":60.000002291831372},null,{"$f":"(U9/2)+((V9*V9)/(8*U9))","v":59.999998532220296},{"$f":"PI()*U11*U13/180","v":62.831853229586571},null,{"$f":"X9*(1-(COS((X13/2)*PI()/180)))","v":8.0384750049847327},{"$f":"2*X9*SIN((X13*PI()/180)/2)","v":59.999997339746734}]
[1,0,0,{"$f":"Start!$C$3","v":0},0,0,0,0,0,0,0,0,null,null,"h =","F =",null,"r =","F =",null,"a=","F =",null,"a=","F ="]
[1,0,0,{"$f":"Start!$C$3","v":0},0,0,0,0,0,0,0,0,null,null,{"$f":"O9*(1-(COS((P9/2)*PI()/180)))","v":8.038475772933678},{"$f":"(O11*O9)/2","v":1884.9555921538758},null,{"$f":"R9/(0.017453291*S9)","v":60.000002291831379},{"$f":"(R9*R13)/2","v":1884.9555720000028},null,{"$f":"(ASIN(V9/(2*U11))*180/PI())*2","v":60.000001618458782},{"$f":"V11*U11/2","v":1884.9555507759376},null,{"$f":"(Y9*180)/(PI()*X9)","v":59.999997066651034},{"$f":"(Y9*X9)/2","v":1884.9555}]
[1,0,0,{"$f":"Start!$C$3","v":0},0,0,0,0,0,0,0,0,null,null,"Eingabe (r + s)",null,null,null,null,null,null,null,null,"Eingabe (Winkel+s)"]
[1,0,0,{"$f":"Start!$C$3","v":0},0,0,0,0,0,0,0,0,null,null,"r","s  ",null,null,null,null,null,null,null,"a","s  "]
[null,null,null,null,null,null,null,null,null,null,null,null,null,null,60,60,null,null,null,null,null,null,null,60,60]
[null,null,null,null,null,null,null,null,null,null,null,null,null,null,"b =","a=",null,null,null,null,null,null,null,"r =","b ="]
[null,null,null,null,null,null,null,null,null,null,null,null,null,null,{"$f":"PI()*O16*P18/180","v":62.831853071795862},{"$f":"(ASIN(P16/(2*O16))*180/PI())*2","v":60.000000000000007},null,null,null,null,null,null,null,{"$f":"Y16/(2*(SIN((X16/2)*PI()/180)))","v":60.000000000000007},{"$f":"PI()*X18*X16/180","v":62.831853071795869}]
[null,null,null,null,null,null,null,null,null,null,null,null,null,null,"h =","F =",null,null,null,null,null,null,null,"h =","F ="]
[null,null,null,null,null,null,null,null,null,null,null,null,null,null,{"$f":"O16*(1-(COS((P18/2)*PI()/180)))","v":8.0384757729336833},{"$f":"(O18*O16)/2","v":1884.9555921538758},null,null,null,null,null,null,null,{"$f":"X18*(1-(COS((X16/2)*PI()/180)))","v":8.038475772933678},{"$f":"Y18*X18/2","v":1884.9555921538763}]
[null,null,null,null,null,null,null,null,null,null,null,null,null,null,"Eingabe (r+h)"]
[null,null,null,null,null,null,null,null,null,null,null,null,null,null,"r","h"]
[null,null,null,null,null,null,null,null,null,null,null,null,null,null,50,10]
[null,null,null,null,null,null,null,null,null,null,null,null,null,null,"a=","s ="]
[null,null,null,null,null,null,null,null,null,null,null,null,null,null,{"$f":"(ASIN(P25/(2*O23))*180/PI())*2","v":73.73979529168804},{"$f":"SQRT((O23-(P23/2))*8*P23)","v":60}]
[null,null,null,null,null,null,null,null,null,null,null,null,null,null,"b =","F ="]
[null,null,null,null,null,null,null,null,null,null,null,null,null,null,{"$f":"PI()*O23*O25/180","v":64.35011087932844},{"$f":"(O23*O27)/2","v":1608.752771983211}]
[null,null,null,null,null,null,null,null,null,null,null,null,null,null,"F1 =","F2 ="]
[null,null,null,null,null,null,null,null,null,null,null,null,null,null,{"$f":"(O23-P23)*(P25/2)","v":1200},{"$f":"P27-O29","v":408.75277198321101}]

{"sheet":"Prisma(+)","index":25,"n_rows":36,"n_cols":6,"rows_kept":36,"cut":false,"hidden":false,"merged":[[0,0,0,2]]}
["Gesamtmasse:",null,null,{"$f":"IF(Start!AB2=\"nein\",\"Demo ENDE\",SUM(F5:F36))","v":0}]
["Massetabelle Prisma (+):"]
["Seitenlängen (L1), (L2), (L3) und Höhe (h) in mm eingeben!"]
["L1","L2","L3","h","Dichte","Masse in kg"]
[0,0,0,0,{"$f":"Start!$C$3","v":0},{"$f":"(0.25*(SQRT(((A5+B5+C5)*((A5+B5+C5)-2*A5)*((A5+B5+C5)-2*B5)*((A5+B5+C5)-2*C5))))*D5*E5)/1000000","v":0}]
[0,0,0,0,{"$f":"Start!$C$3","v":0},{"$f":"(0.25*(SQRT(((A6+B6+C6)*((A6+B6+C6)-2*A6)*((A6+B6+C6)-2*B6)*((A6+B6+C6)-2*C6))))*D6*E6)/1000000","v":0}]
[0,0,0,0,{"$f":"Start!$C$3","v":0},0]
[0,0,0,0,{"$f":"Start!$C$3","v":0},0]
[0,0,0,0,{"$f":"Start!$C$3","v":0},0]
[0,0,0,0,{"$f":"Start!$C$3","v":0},0]
[0,0,0,0,{"$f":"Start!$C$3","v":0},0]
[0,0,0,0,{"$f":"Start!$C$3","v":0},0]
[0,0,0,0,{"$f":"Start!$C$3","v":0},0]
[0,0,0,0,{"$f":"Start!$C$3","v":0},0]
[0,0,0,0,{"$f":"Start!$C$3","v":0},0]
[0,0,0,0,{"$f":"Start!$C$3","v":0},0]
[0,0,0,0,{"$f":"Start!$C$3","v":0},0]
[0,0,0,0,{"$f":"Start!$C$3","v":0},0]
[0,0,0,0,{"$f":"Start!$C$3","v":0},0]
[0,0,0,0,{"$f":"Start!$C$3","v":0},0]
[0,0,0,0,{"$f":"Start!$C$3","v":0},0]
[0,0,0,0,{"$f":"Start!$C$3","v":0},0]
[0,0,0,0,{"$f":"Start!$C$3","v":0},0]
[0,0,0,0,{"$f":"Start!$C$3","v":0},0]
[0,0,0,0,{"$f":"Start!$C$3","v":0},0]
[0,0,0,0,{"$f":"Start!$C$3","v":0},0]
[0,0,0,0,{"$f":"Start!$C$3","v":0},0]
[0,0,0,0,{"$f":"Start!$C$3","v":0},0]
[0,0,0,0,{"$f":"Start!$C$3","v":0},0]
[0,0,0,0,{"$f":"Start!$C$3","v":0},0]
[0,0,0,0,{"$f":"Start!$C$3","v":0},0]
[0,0,0,0,{"$f":"Start!$C$3","v":0},0]
[0,0,0,0,{"$f":"Start!$C$3","v":0},0]
[0,0,0,0,{"$f":"Start!$C$3","v":0},0]
[0,0,0,0,{"$f":"Start!$C$3","v":0},0]
[0,0,0,0,{"$f":"Start!$C$3","v":0},0]

{"sheet":"Prisma(-)","index":26,"n_rows":36,"n_cols":6,"rows_kept":36,"cut":false,"hidden":false,"merged":[[0,0,0,2]]}
["Gesamtmasse:",null,null,{"$f":"IF(Start!AB2=\"nein\",\"Demo ENDE\",SUM(F5:F36))","v":0}]
["Massetabelle Prisma (-):"]
["Seitenlängen (L1), (L2), (L3) und Höhe (h) in mm eingeben!"]
["L1","L2","L3","h","Dichte","Masse in kg"]
[0,0,0,0,{"$f":"Start!$C$3","v":0},{"$f":"((0.25*(SQRT(((A5+B5+C5)*((A5+B5+C5)-2*A5)*((A5+B5+C5)-2*B5)*((A5+B5+C5)-2*C5))))*D5*E5)/1000000)-(2*((0.25*(SQRT(((A5+B5+C5)*((A5+B5+C5)-2*A5)*((A5+B5+C5)-2*B5)*((A5+B5+C5)-2*C5))))*D5*E5)/1000000))","v":0}]
[0,0,0,0,{"$f":"Start!$C$3","v":0},{"$f":"((0.25*(SQRT(((A6+B6+C6)*((A6+B6+C6)-2*A6)*((A6+B6+C6)-2*B6)*((A6+B6+C6)-2*C6))))*D6*E6)/1000000)-(2*((0.25*(SQRT(((A6+B6+C6)*((A6+B6+C6)-2*A6)*((A6+B6+C6)-2*B6)*((A6+B6+C6)-2*C6))))*D6*E6)/1000000))","v":0}]
[0,0,0,0,{"$f":"Start!$C$3","v":0},0]
[0,0,0,0,{"$f":"Start!$C$3","v":0},0]
[0,0,0,0,{"$f":"Start!$C$3","v":0},0]
[0,0,0,0,{"$f":"Start!$C$3","v":0},0]
[0,0,0,0,{"$f":"Start!$C$3","v":0},0]
[0,0,0,0,{"$f":"Start!$C$3","v":0},0]
[0,0,0,0,{"$f":"Start!$C$3","v":0},0]
[0,0,0,0,{"$f":"Start!$C$3","v":0},0]
[0,0,0,0,{"$f":"Start!$C$3","v":0},0]
[0,0,0,0,{"$f":"Start!$C$3","v":0},0]
[0,0,0,0,{"$f":"Start!$C$3","v":0},0]
[0,0,0,0,{"$f":"Start!$C$3","v":0},0]
[0,0,0,0,{"$f":"Start!$C$3","v":0},0]
[0,0,0,0,{"$f":"Start!$C$3","v":0},0]
[0,0,0,0,{"$f":"Start!$C$3","v":0},0]
[0,0,0,0,{"$f":"Start!$C$3","v":0},0]
[0,0,0,0,{"$f":"Start!$C$3","v":0},0]
[0,0,0,0,{"$f":"Start!$C$3","v":0},0]
[0,0,0,0,{"$f":"Start!$C$3","v":0},0]
[0,0,0,0,{"$f":"Start!$C$3","v":0},0]
[0,0,0,0,{"$f":"Start!$C$3","v":0},0]
[0,0,0,0,{"$f":"Start!$C$3","v":0},0]
[0,0,0,0,{"$f":"Start!$C$3","v":0},0]
[0,0,0,0,{"$f":"Start!$C$3","v":0},0]
[0,0,0,0,{"$f":"Start!$C$3","v":0},0]
[0,0,0,0,{"$f":"Start!$C$3","v":0},0]
[0,0,0,0,{"$f":"Start!$C$3","v":0},0]
[0,0,0,0,{"$f":"Start!$C$3","v":0},0]
[0,0,0,0,{"$f":"Start!$C$3","v":0},0]
[0,0,0,0,{"$f":"Start!$C$3","v":0},0]

{"sheet":"Dichten","index":27,"n_rows":112,"n_cols":4,"rows_kept":112,"cut":false,"hidden":false,"merged":[[1,1,1,3]]}
[]
[null,"weitere Dichten"]
[null,"Material","Dichte in Gramm/cm³ (Maximalwerte)","Stoffart"]
[null,"Alkohol (Äthanol) bei 18°C",0.79100000000000004,"Flüssigkeit"]
[null,"Aluminium, gegossen",2.56,"Metall"]
[null,"Aluminium, gehämmert",2.75,"Metall"]
[null,"Aluminium, rein",2.72,"Metall"]
[null,"Aluminiumbronze  (7,7-8,4)",8.4,"Metall"]
[null,"Asbest   (2,1-2,8)",2.8,"Feststoff"]
[null,"Asbestpappe",1.2,"Feststoff"]
[null,"Asphalt   (1,1-1,5)",1.5,"Feststoff"]
[null,"Äther bei 18°C",0.71699999999999997,"Flüssigkeit"]
[null,"Azeton",0.8,"Flüssigkeit"]
[null,"Benzin, leicht, bei 15°C  (0,68-0,74)",0.74,"Flüssigkeit"]
[null,"Benzol bei 18°C",0.88100000000000001,"Flüssigkeit"]
[null,"Beton     (1,8-2,4)",2.4,"Metall"]
[null,"Blei",11.34,"Metall"]
[null,"Bleibronze   (8,85-9,1)",9.1,"Metall"]
[null,"Braunkohle  (1,2-1,5)",1.5,"Feststoff"]
[null,"Bronze (Sn-)",8.6,"Metall"]
[null,"Chrom",7.1,"Metall"]
[null,"Chromnickel",7.9,"Metall"]
[null,"Chromstahl",7.7,"Metall"]
[null,"Deltametall",8.6,"Metall"]
[null,"Dieselkraftstoff   (1,0-1,08)",1.08,"Flüssigkeit"]
[null,"Eis von 0°   (0,88-0,92)",0.92,"Feststoff"]
[null,"Eisen rein",7.86,"Metall"]
[null,"Eisenoxid",5.24,"Feststoff"]
[null,"Elektron",1.8,"Feststoff"]
[null,"Fette   (0,92-0,96)",0.96,"Feststoff"]
[null,"Filz   (0,38-0,42)",0.42,"Feststoff"]
[null,"Flussstahl",7.86,"Metall"]
[null,"Glas, Fenster  (2,4-2,67)",2.67,"Feststoff"]
[null,"Graphit   (1,9-2,3)",2.2999999999999998,"Feststoff"]
[null,"Grauguss",7.2,"Metall"]
[null,"Gussstahl",7.85,"Metall"]
[null,"Hartgummi   (1,2-1,8)",1.8,"Feststoff"]
[null,"Harz",1.07,"Feststoff"]
[null,"Heizöl aus Erdöl (0,89-0,98)",0.98,"Flüssigkeit"]
[null,"Heizöl aus Steinkohle (1,02-1,08)",1.08,"Flüssigkeit"]
[null,"Holz Birke, lufttrocken  (0,52-0,77)",0.77,"Feststoff"]
[null,"Holz Eiche, lufttrocken    (0,69-1,03)",1.03,"Feststoff"]
[null,"Holz Esche, lufttrocken  0,57-0,94)",0.94,"Feststoff"]
[null,"Holz Fichte, lufttrocken  (0,33-0,75)",0.75,"Feststoff"]
[null,"Holz Pockholz, lufttrocken  (1,0-1,4)",1.4,"Feststoff"]
[null,"Holz Teakholz, lufttrocken",0.9,"Feststoff"]
[null,"Holzhohle   (0,3-0,5)",0.5,"Feststoff"]
[null,"Invarstahl",8.6999999999999993,"Metall"]
[null,"Iridium",22.4,"Metall"]
[null,"Jenaer Glas",2.6,"Feststoff"]
[null,"Kesselstein",2.5,"Feststoff"]
[null,"Kobaltstahl 15%",7.8,"Metall"]
[null,"Kobaltstahl 35%",8,"Metall"]
[null,"Koks, luftfrei   (1,6-1,9)",1.9,"Feststoff"]
[null,"Kork   (0,2-0,35)",0.35,"Feststoff"]
[null,"Kupfer, gegossen  (8,63-8,8)",8.8000000000000007,"Metall"]
[null,"Kupfer, gewalzt   (8,82-8,95)",8.9499999999999993,"Metall"]
[null,"Leder   (0,86-1,01)",1.02,"Feststoff"]
[null,"Leuchtpetroleum   (0,76-0,86)",0.86,"Flüssigkeit"]
[null,"Lötzinn   (7,4-10,8)",10.8,"Metall"]
[null,"Luft, flüssig",0.86,"Flüssigkeit"]
[null,"Maschinenöl",0.9,"Flüssigkeit"]
[null,"Messing   (8,5-8,8)",8.8000000000000007,"Metall"]
[null,"Mineralöle bei 15°C  (0,8-1,1)",1.1000000000000001,"Flüssigkeit"]
[null,"Molybdänstahl",8.1,"Metall"]
[null,"Motorenbenzin  (0,75-0,78)",0.78,"Flüssigkeit"]
[null,"Neusilber  (8,4-8,7)",8.6999999999999993,"Metall"]
[null,"Nickel, gegossen",8.3000000000000007,"Metall"]
[null,"Nickel, gehämmert  (8,35-8,65)",8.65,"Metall"]
[null,"Nickel, gezogen   (8,35-8,9)",8.9,"Metall"]
[null,"Novotext",1.33,"Feststoff"]
[null,"Papier  (0,7-1,15)",1.1499999999999999,"Feststoff"]
[null,"Paraffin",0.91,"Feststoff"]
[null,"Pertinax",1.3,"Feststoff"]
[null,"Phosphor, metallisch",2.36,"Metall"]
[null,"Phosphorbronze  (8,8-8,86)",8.86,"Metall"]
[null,"Platin",21.5,"Metall"]
[null,"Plexiglas   (1,18-1,2)",1.2,"Feststoff"]
[null,"Porzellan   (2,3-2,5)",2.5,"Feststoff"]
[null,"Quecksilber bei 20°C",13.545999999999999,"Metall"]
[null,"Rotguss  (8,56-8,9)",8.9,"Metall"]
[null,"Rüböl, raffiniert",0.91,"Flüssigkeit"]
[null,"Ruß",1.52,"Feststoff"]
[null,"Salpetersäure, 100%, bei 18°C",1.5609999999999999,"Flüssigkeit"]
[null,"Salzsäure, 10%, bei 18°C",1.048,"Flüssigkeit"]
[null,"Salzsäure, 40%, bei 18°C",1.1990000000000001,"Flüssigkeit"]
[null,"Sand, feucht",2,"Feststoff"]
[null,"Sand, trocken",1.6,"Feststoff"]
[null,"Sandstein",2.5,"Feststoff"]
[null,"Schamottestein",2.7,"Feststoff"]
[null,"Schwefelsäure 100% bei 18°C",1.833,"Flüssigkeit"]
[null,"Schweres Wasser",1.1100000000000001,"Flüssigkeit"]
[null,"Steinkohle  (1,2-1,5)",1.5,"Feststoff"]
[null,"Temperguss",7.6,"Metall"]
[null,"Terpentinöl bei 18°",0.87,"Flüssigkeit"]
[null,"Tiegelstahl",7.85,"Metall"]
[null,"Titan",4.5,"Metall"]
[null,"Tombak",8.65,"Feststoff"]
[null,"Transformatorenöl",0.87,"Flüssigkeit"]
[null,"Wachs",0.98,"Feststoff"]
[null,"Wasser, destiliert, bei 15°C",0.99912999999999996,"Flüssigkeit"]
[null,"Wasser, destiliert, bei 20°C",0.99822999999999995,"Flüssigkeit"]
[null,"Wasser, destiliert, bei 4°C",1,"Flüssigkeit"]
[null,"Weichlot",9.1999999999999993,"Feststoff"]
[null,"Zement, Portlant, frisch",3.2,"Feststoff"]
[null,"Ziegelstein",2,"Feststoff"]
[null,"Zink gegossen",6.86,"Metall"]
[null,"Zink gehämmert",7.2,"Metall"]
[null,"Zinkdruckguss",6.8,"Metall"]
[null,"Zinn, gegossen",7.28,"Metall"]
[null,"Zinz gewalzt",7.15,"Metall"]
[null,"Zylinderöle bei 20°C  (0,92-0,94))",0.94,"Flüssigkeit"]

{"sheet":"Rechner","index":28,"n_rows":8,"n_cols":5,"rows_kept":8,"cut":false,"hidden":false,"merged":[]}
[null,null,null,{"$f":"NOW()","v":"2021-04-02T12:55:34.350"}]
[null,null,null,0]
[]
[]
[]
[null,null,null,0]
[null,null,null,0]
[null,null,null,0,0]